{"text_format":"1","workbook":"xlsx","n_sheets":16,"sheets":["EW TABLE","PROJECT TOTALS","MAINLINE","MAINLINE SHEET TOTALS","Bethel Church Rd","Wren Rd","Ex US 60 CulDeSac","Rice Spring Rd","Frontage Rd#1","Frontage Rd#2","Roberts Rd CulDeSac","Linda Mel","Frontage Rd#3","Frontage Rd#4","Kingsway Dr","Queensway Dr"],"not_rendered":{"charts":0,"images":0,"macros":1,"external_links":0,"defined_names":1,"comments":0,"pivot_tables":0},"unopened":[],"bounds":{"document_bytes":16777216,"sheet_cells":100000,"rows_first":2000,"rows_last":500,"rows_between":2000,"halvings":0,"cell_chars":16384,"cell_head_chars":4096},"cells_cut":0,"cells_raw":0,"read":"whole","date_system":"1900"}

{"sheet":"EW TABLE","index":0,"n_rows":79,"n_cols":22,"rows_kept":79,"cut":false,"hidden":true,"merged":[[0,1,0,9],[0,12,0,20]]}
["EW TABLE","AREAS",null,null,null,null,null,null,null,null,null,null,"VOLUMES"]
["STATION","ROCK ROADBED","REFILL","EMB. BENCH","GRAN. EMB.","COM","EM","ROCK EXC.","DT LT","DT RT","LEVEL-WEDGE",null,"ROCK ROADBED","REFILL","EMB. BENCH","GRAN. EMB.","COM","EM","ROCK EXC.","DT LT","DT RT","LEVEL-WEDGE"]
["TOTALS",null,null,null,null,null,null,null,null,null,null,null,{"$f":"SUM(M6:M2002)","v":0},{"$f":"SUM(N6:N2002)","v":0},0,0,0,0,0,0,0,0]
[]
[]
[null,null,null,null,null,null,null,null,null,null,null,null,{"$f":"IF((B5+B6)>0,MAX(1,ROUNDUP(($A6-$A5)*((B5+B6)/2)/27,0)),ROUNDUP(($A6-$A5)*((B5+B6)/2)/27,0))","v":0},{"$f":"IF((C5+C6)>0,MAX(1,ROUNDUP(($A6-$A5)*((C5+C6)/2)/27,0)),ROUNDUP(($A6-$A5)*((C5+C6)/2)/27,0))","v":0},0,0,0,0,0,0,0,{"$f":"IF((K5+K6)>0,MAX(1,ROUNDUP(($A6-$A5)*((K5+K6)/2)/27,0)),ROUNDUP(($A6-$A5)*((K5+K6)/2)/27,0))","v":0}]
[null,null,null,null,null,null,null,null,null,null,null,null,{"$f":"IF((B6+B7)>0,MAX(1,ROUNDUP(($A7-$A6)*((B6+B7)/2)/27,0)),ROUNDUP(($A7-$A6)*((B6+B7)/2)/27,0))","v":0},0,0,0,0,0,0,0,0,0]
[null,null,null,null,null,null,null,null,null,null,null,null,0,0,0,0,0,0,0,0,0,0]
[null,null,null,null,null,null,null,null,null,null,null,null,0,0,0,0,0,0,0,0,0,0]
[null,null,null,null,null,null,null,null,null,null,null,null,0,0,0,0,0,0,0,0,0,0]
[null,null,null,null,null,null,null,null,null,null,null,null,0,0,0,0,0,0,0,0,0,0]
[null,null,null,null,null,null,null,null,null,null,null,null,0,0,0,0,0,0,0,0,0,0]
[null,null,null,null,null,null,null,null,null,null,null,null,0,0,0,0,0,0,0,0,0,0]
[null,null,null,null,null,null,null,null,null,null,null,null,0,0,0,0,0,0,0,0,0,0]
[null,null,null,null,null,null,null,null,null,null,null,null,0,0,0,0,0,0,0,0,0,0]
[null,null,null,null,null,null,null,null,null,null,null,null,0,0,0,0,0,0,0,0,0,0]
[null,null,null,null,null,null,null,null,null,null,null,null,0,0,0,0,0,0,0,0,0,0]
[null,null,null,null,null,null,null,null,null,null,null,null,0,0,0,0,0,0,0,0,0,0]
[null,null,null,null,null,null,null,null,null,null,null,null,0,0,0,0,0,0,0,0,0,0]
[null,null,null,null,null,null,null,null,null,null,null,null,0,0,0,0,0,0,0,0,0,0]
[null,null,null,null,null,null,null,null,null,null,null,null,0,0,0,0,0,0,0,0,0,0]
[null,null,null,null,null,null,null,null,null,null,null,null,0,0,0,0,0,0,0,0,0,0]
[null,null,null,null,null,null,null,null,null,null,null,null,{"$f":"IF((B22+B23)>0,MAX(1,ROUNDUP(($A23-$A22)*((B22+B23)/2)/27,0)),ROUNDUP(($A23-$A22)*((B22+B23)/2)/27,0))","v":0},0,0,0,0,0,0,0,0,0]
[null,null,null,null,null,null,null,null,null,null,null,null,0,0,0,0,0,0,0,0,0,0]
[null,null,null,null,null,null,null,null,null,null,null,null,0,0,0,0,0,0,0,0,0,0]
[null,null,null,null,null,null,null,null,null,null,null,null,0,0,0,0,0,0,0,0,0,0]
[null,null,null,null,null,null,null,null,null,null,null,null,0,0,0,0,0,0,0,0,0,0]
[null,null,null,null,null,null,null,null,null,null,null,null,0,0,0,0,0,0,0,0,0,0]
[null,null,null,null,null,null,null,null,null,null,null,null,0,0,0,0,0,0,0,0,0,0]
[null,null,null,null,null,null,null,null,null,null,null,null,0,0,0,0,0,0,0,0,0,0]
[null,null,null,null,null,null,null,null,null,null,null,null,0,0,0,0,0,0,0,0,0,0]
[null,null,null,null,null,null,null,null,null,null,null,null,0,0,0,0,0,0,0,0,0,0]
[null,null,null,null,null,null,null,null,null,null,null,null,0,0,0,0,0,0,0,0,0,0]
[null,null,null,null,null,null,null,null,null,null,null,null,0,0,0,0,0,0,0,0,0,0]
[null,null,null,null,null,null,null,null,null,null,null,null,0,0,0,0,0,0,0,0,0,0]
[null,null,null,null,null,null,null,null,null,null,null,null,0,0,0,0,0,0,0,0,0,0]
[null,null,null,null,null,null,null,null,null,null,null,null,0,0,0,0,0,0,0,0,0,0]
[null,null,null,null,null,null,null,null,null,null,null,null,0,0,0,0,0,0,0,0,0,0]
[null,null,null,null,null,null,null,null,null,null,null,null,{"$f":"IF((B38+B39)>0,MAX(1,ROUNDUP(($A39-$A38)*((B38+B39)/2)/27,0)),ROUNDUP(($A39-$A38)*((B38+B39)/2)/27,0))","v":0},0,0,0,0,0,0,0,0,0]
[null,null,null,null,null,null,null,null,null,null,null,null,0,0,0,0,0,0,0,0,0,0]
[null,null,null,null,null,null,null,null,null,null,null,null,0,0,0,0,0,0,0,0,0,0]
[null,null,null,null,null,null,null,null,null,null,null,null,0,0,0,0,0,0,0,0,0,0]
[null,null,null,null,null,null,null,null,null,null,null,null,0,0,0,0,0,0,0,0,0,0]
[null,null,null,null,null,null,null,null,null,null,null,null,0,0,0,0,0,0,0,0,0,0]
[null,null,null,null,null,null,null,null,null,null,null,null,0,0,0,0,0,0,0,0,0,0]
[null,null,null,null,null,null,null,null,null,null,null,null,0,0,0,0,0,0,0,0,0,0]
[null,null,null,null,null,null,null,null,null,null,null,null,0,0,0,0,0,0,0,0,0,0]
[null,null,null,null,null,null,null,null,null,null,null,null,0,0,0,0,0,0,0,0,0,0]
[null,null,null,null,null,null,null,null,null,null,null,null,0,0,0,0,0,0,0,0,0,0]
[null,null,null,null,null,null,null,null,null,null,null,null,0,0,0,0,0,0,0,0,0,0]
[null,null,null,null,null,null,null,null,null,null,null,null,0,0,0,0,0,0,0,0,0,0]
[null,null,null,null,null,null,null,null,null,null,null,null,0,0,0,0,0,0,0,0,0,0]
[null,null,null,null,null,null,null,null,null,null,null,null,0,0,0,0,0,0,0,0,0,0]
[null,null,null,null,null,null,null,null,null,null,null,null,0,0,0,0,0,0,0,0,0,0]
[null,null,null,null,null,null,null,null,null,null,null,null,{"$f":"IF((B54+B55)>0,MAX(1,ROUNDUP(($A55-$A54)*((B54+B55)/2)/27,0)),ROUNDUP(($A55-$A54)*((B54+B55)/2)/27,0))","v":0},{"$f":"IF((C54+C55)>0,MAX(1,ROUNDUP(($A55-$A54)*((C54+C55)/2)/27,0)),ROUNDUP(($A55-$A54)*((C54+C55)/2)/27,0))","v":0},{"$f":"IF((D54+D55)>0,MAX(1,ROUNDUP(($A55-$A54)*((D54+D55)/2)/27,0)),ROUNDUP(($A55-$A54)*((D54+D55)/2)/27,0))","v":0},{"$f":"IF((E54+E55)>0,MAX(1,ROUNDUP(($A55-$A54)*((E54+E55)/2)/27,0)),ROUNDUP(($A55-$A54)*((E54+E55)/2)/27,0))","v":0},{"$f":"IF((F54+F55)>0,MAX(1,ROUNDUP(($A55-$A54)*((F54+F55)/2)/27,0)),ROUNDUP(($A55-$A54)*((F54+F55)/2)/27,0))","v":0},{"$f":"IF((G54+G55)>0,MAX(1,ROUNDUP(($A55-$A54)*((G54+G55)/2)/27,0)),ROUNDUP(($A55-$A54)*((G54+G55)/2)/27,0))","v":0},{"$f":"IF((H54+H55)>0,MAX(1,ROUNDUP(($A55-$A54)*((H54+H55)/2)/27,0)),ROUNDUP(($A55-$A54)*((H54+H55)/2)/27,0))","v":0},{"$f":"IF((I54+I55)>0,MAX(1,ROUNDUP(($A55-$A54)*((I54+I55)/2)/27,0)),ROUNDUP(($A55-$A54)*((I54+I55)/2)/27,0))","v":0},{"$f":"IF((J54+J55)>0,MAX(1,ROUNDUP(($A55-$A54)*((J54+J55)/2)/27,0)),ROUNDUP(($A55-$A54)*((J54+J55)/2)/27,0))","v":0},{"$f":"IF((K54+K55)>0,MAX(1,ROUNDUP(($A55-$A54)*((K54+K55)/2)/27,0)),ROUNDUP(($A55-$A54)*((K54+K55)/2)/27,0))","v":0}]
[null,null,null,null,null,null,null,null,null,null,null,null,0,0,0,0,0,0,0,0,0,0]
[null,null,null,null,null,null,null,null,null,null,null,null,0,0,0,0,0,0,0,0,0,0]
[null,null,null,null,null,null,null,null,null,null,null,null,0,0,0,0,0,0,0,0,0,0]
[null,null,null,null,null,null,null,null,null,null,null,null,0,0,0,0,0,0,0,0,0,0]
[null,null,null,null,null,null,null,null,null,null,null,null,0,0,0,0,0,0,0,0,0,0]
[null,null,null,null,null,null,null,null,null,null,null,null,0,0,0,0,0,0,0,0,0,0]
[null,null,null,null,null,null,null,null,null,null,null,null,0,0,0,0,0,0,0,0,0,0]
[null,null,null,null,null,null,null,null,null,null,null,null,0,0,0,0,0,0,0,0,0,0]
[null,null,null,null,null,null,null,null,null,null,null,null,0,0,0,0,0,0,0,0,0,0]
[null,null,null,null,null,null,null,null,null,null,null,null,0,0,0,0,0,0,0,0,0,0]
[null,null,null,null,null,null,null,null,null,null,null,null,0,0,0,0,0,0,0,0,0,0]
[null,null,null,null,null,null,null,null,null,null,null,null,0,0,0,0,0,0,0,0,0,0]
[null,null,null,null,null,null,null,null,null,null,null,null,0,0,0,0,0,0,0,0,0,0]
[null,null,null,null,null,null,null,null,null,null,null,null,0,0,0,0,0,0,0,0,0,0]
[null,null,null,null,null,null,null,null,null,null,null,null,0,0,0,0,0,0,0,0,0,0]
[null,null,null,null,null,null,null,null,null,null,null,null,0,0,0,0,0,0,0,0,0,0]
[null,null,null,null,null,null,null,null,null,null,null,null,0,0,0,0,0,0,0,0,0,0]
[null,null,null,null,null,null,null,null,null,null,null,null,0,0,0,0,0,0,0,0,0,0]
[null,null,null,null,null,null,null,null,null,null,null,null,0,0,0,0,0,0,0,0,0,0]
[null,null,null,null,null,null,null,null,null,null,null,null,0,0,0,0,0,0,0,0,0,0]
[null,null,null,null,null,null,null,null,null,null,null,null,{"$f":"IF((B75+B76)>0,MAX(1,ROUNDUP(($A76-$A75)*((B75+B76)/2)/27,0)),ROUNDUP(($A76-$A75)*((B75+B76)/2)/27,0))","v":0},0,0,0,0,0,0,0,0,0]
[null,null,null,null,null,null,null,null,null,null,null,null,0,0,0,0,0,0,0,0,0,0]
[null,null,null,null,null,null,null,null,null,null,null,null,0,0,0,0,0,0,0,0,0,0]
[null,null,null,null,null,null,null,null,null,null,null,null,0,0,0,0,0,0,0,0,0,0]

{"sheet":"PROJECT TOTALS","index":1,"n_rows":28,"n_cols":18,"rows_kept":28,"cut":false,"hidden":false,"merged":[[0,12,0,18]]}
["Last Revised:\nJuly 31, 2019","ROCK ROADBED","REFILL","EMB. BENCH","MILLING","COM","EM","ROCK EXC.","DT LT","DT RT","LEVEL-WEDGE",null,"PROJECT EARTHWORK TOTALS"]
["TOTALS",{"$f":"SUM(B4:B240)","v":0},{"$f":"SUM(C4:C240)","v":0},0,0,82831,45539,0,0,0,0,null,{"$f":"'PROJECT TOTALS'!F2","v":82831},"C.Y. COM."]
[null,null,null,null,null,null,null,null,null,null,null,null,{"$f":"'PROJECT TOTALS'!H2","v":0},"C.Y. ROCK EXC."]
[{"$f":"MAINLINE!A1","v":"MAINLINE"},{"$f":"MAINLINE!M$3","v":0},{"$f":"MAINLINE!N$3","v":0},{"$f":"MAINLINE!O$3","v":0},{"$f":"MAINLINE!P$3","v":0},{"$f":"MAINLINE!Q$3","v":77155},{"$f":"MAINLINE!R$3","v":41546},{"$f":"MAINLINE!S$3","v":0},{"$f":"MAINLINE!T$3","v":0},{"$f":"MAINLINE!U$3","v":0},{"$f":"MAINLINE!V$3","v":0},null,{"$f":"'PROJECT TOTALS'!I2","v":0},"C.Y. DT. LT."]
[null,null,null,null,null,null,null,null,null,null,null,null,{"$f":"'PROJECT TOTALS'!J2","v":0},"C.Y. DT. RT."]
[{"$f":"'Bethel Church Rd'!$A$1","v":"Bethel Church Rd"},{"$f":"'Bethel Church Rd'!M$3","v":0},{"$f":"'Bethel Church Rd'!N$3","v":0},{"$f":"'Bethel Church Rd'!O$3","v":0},{"$f":"'Bethel Church Rd'!P$3","v":0},{"$f":"'Bethel Church Rd'!Q$3","v":429},{"$f":"'Bethel Church Rd'!R$3","v":390},{"$f":"'Bethel Church Rd'!S$3","v":0},{"$f":"'Bethel Church Rd'!T$3","v":0},{"$f":"'Bethel Church Rd'!U$3","v":0},{"$f":"'Bethel Church Rd'!V$3","v":0},null,{"$f":"'PROJECT TOTALS'!D2","v":0},"C.Y. EMB. BENCH",null,null,{"$f":"'PROJECT TOTALS'!G2","v":45539},"C.Y. EMB."]
[null,null,null,null,null,null,null,null,null,null,null,null,{"$f":"'PROJECT TOTALS'!C2","v":0},"C.Y. REFILL",null,null,{"$f":"'PROJECT TOTALS'!D2","v":0},"C.Y. EMB. BENCH"]
[{"$f":"'Wren Rd'!$A$1","v":"Wren Rd"},{"$f":"'Wren Rd'!M$3","v":0},{"$f":"'Wren Rd'!N$3","v":0},{"$f":"'Wren Rd'!O$3","v":0},{"$f":"'Wren Rd'!P$3","v":0},{"$f":"'Wren Rd'!Q$3","v":825},{"$f":"'Wren Rd'!R$3","v":113},{"$f":"'Wren Rd'!S$3","v":0},{"$f":"'Wren Rd'!T$3","v":0},{"$f":"'Wren Rd'!U$3","v":0},{"$f":"'Wren Rd'!V$3","v":0},null,null,"C.Y. TRANS. BENCH",null,null,{"$f":"'PROJECT TOTALS'!C2","v":0},"C.Y. REFILL"]
[null,null,null,null,null,null,null,null,null,null,null,null,null,"C.Y. INLET/OUTLET DITCHES",null,null,null,"C.Y. TRANS. BENCH"]
[{"$f":"'Ex US 60 CulDeSac'!$A$1","v":"Ex US 60 CulDeSac"},{"$f":"'Ex US 60 CulDeSac'!M$3","v":0},{"$f":"'Ex US 60 CulDeSac'!N$3","v":0},{"$f":"'Ex US 60 CulDeSac'!O$3","v":0},{"$f":"'Ex US 60 CulDeSac'!P$3","v":0},{"$f":"'Ex US 60 CulDeSac'!Q$3","v":234},{"$f":"'Ex US 60 CulDeSac'!R$3","v":10},{"$f":"'Ex US 60 CulDeSac'!S$3","v":0},{"$f":"'Ex US 60 CulDeSac'!T$3","v":0},{"$f":"'Ex US 60 CulDeSac'!U$3","v":0},{"$f":"'Ex US 60 CulDeSac'!V$3","v":0},null,{"$f":"SUM(M2:M9)","v":82831},"C.Y. TOTAL RDWY. EXC.",null,null,{"$f":"SUM(Q6:Q9)","v":45539},"TOTAL EMB."]
[]
[{"$f":"'Rice Spring Rd'!$A$1","v":"Rice Spring Rd"},{"$f":"'Rice Spring Rd'!M$3","v":0},{"$f":"'Rice Spring Rd'!N$3","v":0},{"$f":"'Rice Spring Rd'!O$3","v":0},{"$f":"'Rice Spring Rd'!P$3","v":0},{"$f":"'Rice Spring Rd'!Q$3","v":298},{"$f":"'Rice Spring Rd'!R$3","v":513},{"$f":"'Rice Spring Rd'!S$3","v":0},{"$f":"'Rice Spring Rd'!T$3","v":0},{"$f":"'Rice Spring Rd'!U$3","v":0},{"$f":"'Rice Spring Rd'!V$3","v":0}]
[]
[{"$f":"'Frontage Rd#1'!$A$1","v":"Frontage Rd#1"},{"$f":"'Frontage Rd#1'!M$3","v":0},{"$f":"'Frontage Rd#1'!N$3","v":0},{"$f":"'Frontage Rd#1'!O$3","v":0},{"$f":"'Frontage Rd#1'!P$3","v":0},{"$f":"'Frontage Rd#1'!Q$3","v":200},{"$f":"'Frontage Rd#1'!R$3","v":460},{"$f":"'Frontage Rd#1'!S$3","v":0},{"$f":"'Frontage Rd#1'!T$3","v":0},{"$f":"'Frontage Rd#1'!U$3","v":0},{"$f":"'Frontage Rd#1'!V$3","v":0}]
[]
[{"$f":"'Frontage Rd#2'!$A$1","v":"Frontage Rd#2"},{"$f":"'Frontage Rd#2'!M$3","v":0},{"$f":"'Frontage Rd#2'!N$3","v":0},{"$f":"'Frontage Rd#2'!O$3","v":0},{"$f":"'Frontage Rd#2'!P$3","v":0},{"$f":"'Frontage Rd#2'!Q$3","v":392},{"$f":"'Frontage Rd#2'!R$3","v":403},{"$f":"'Frontage Rd#2'!S$3","v":0},{"$f":"'Frontage Rd#2'!T$3","v":0},{"$f":"'Frontage Rd#2'!U$3","v":0},{"$f":"'Frontage Rd#2'!V$3","v":0}]
[]
[{"$f":"'Roberts Rd CulDeSac'!$A$1","v":"Roberts Rd CulDeSac"},{"$f":"'Roberts Rd CulDeSac'!M$3","v":0},{"$f":"'Roberts Rd CulDeSac'!N$3","v":0},{"$f":"'Roberts Rd CulDeSac'!O$3","v":0},{"$f":"'Roberts Rd CulDeSac'!P$3","v":0},{"$f":"'Roberts Rd CulDeSac'!Q$3","v":206},{"$f":"'Roberts Rd CulDeSac'!R$3","v":153},{"$f":"'Roberts Rd CulDeSac'!S$3","v":0},{"$f":"'Roberts Rd CulDeSac'!T$3","v":0},{"$f":"'Roberts Rd CulDeSac'!U$3","v":0},{"$f":"'Roberts Rd CulDeSac'!V$3","v":0}]
[]
[{"$f":"'Linda Mel'!$A$1","v":"Linda Mel"},{"$f":"'Linda Mel'!M$3","v":0},{"$f":"'Linda Mel'!N$3","v":0},{"$f":"'Linda Mel'!O$3","v":0},{"$f":"'Linda Mel'!P$3","v":0},{"$f":"'Linda Mel'!Q$3","v":20},{"$f":"'Linda Mel'!R$3","v":39},{"$f":"'Linda Mel'!S$3","v":0},{"$f":"'Linda Mel'!T$3","v":0},{"$f":"'Linda Mel'!U$3","v":0},{"$f":"'Linda Mel'!V$3","v":0}]
[]
[{"$f":"'Frontage Rd#3'!$A$1","v":"Frontage Rd#3"},{"$f":"'Frontage Rd#3'!M$3","v":0},{"$f":"'Frontage Rd#3'!N$3","v":0},{"$f":"'Frontage Rd#3'!O$3","v":0},{"$f":"'Frontage Rd#3'!P$3","v":0},{"$f":"'Frontage Rd#3'!Q$3","v":216},{"$f":"'Frontage Rd#3'!R$3","v":0},{"$f":"'Frontage Rd#3'!S$3","v":0},{"$f":"'Frontage Rd#3'!T$3","v":0},{"$f":"'Frontage Rd#3'!U$3","v":0},{"$f":"'Frontage Rd#3'!V$3","v":0}]
[]
[{"$f":"'Frontage Rd#4'!$A$1","v":"Frontage Rd#4"},{"$f":"'Frontage Rd#4'!M$3","v":0},{"$f":"'Frontage Rd#4'!N$3","v":0},{"$f":"'Frontage Rd#4'!O$3","v":0},{"$f":"'Frontage Rd#4'!P$3","v":0},{"$f":"'Frontage Rd#4'!Q$3","v":659},{"$f":"'Frontage Rd#4'!R$3","v":1896},{"$f":"'Frontage Rd#4'!S$3","v":0},{"$f":"'Frontage Rd#4'!T$3","v":0},{"$f":"'Frontage Rd#4'!U$3","v":0},{"$f":"'Frontage Rd#4'!V$3","v":0}]
[]
[{"$f":"'Kingsway Dr'!$A$1","v":"Kingsway Dr"},{"$f":"'Kingsway Dr'!M$3","v":0},{"$f":"'Kingsway Dr'!N$3","v":0},{"$f":"'Kingsway Dr'!O$3","v":0},{"$f":"'Kingsway Dr'!P$3","v":0},{"$f":"'Kingsway Dr'!Q$3","v":1845},{"$f":"'Kingsway Dr'!R$3","v":16},{"$f":"'Kingsway Dr'!S$3","v":0},{"$f":"'Kingsway Dr'!T$3","v":0},{"$f":"'Kingsway Dr'!U$3","v":0},{"$f":"'Kingsway Dr'!V$3","v":0}]
[]
[{"$f":"'Queensway Dr'!$A$1","v":"Queensway Dr"},{"$f":"'Queensway Dr'!M$3","v":0},{"$f":"'Queensway Dr'!N$3","v":0},{"$f":"'Queensway Dr'!O$3","v":0},{"$f":"'Queensway Dr'!P$3","v":0},{"$f":"'Queensway Dr'!Q$3","v":352},{"$f":"'Queensway Dr'!R$3","v":0},{"$f":"'Queensway Dr'!S$3","v":0},{"$f":"'Queensway Dr'!T$3","v":0},{"$f":"'Queensway Dr'!U$3","v":0},{"$f":"'Queensway Dr'!V$3","v":0}]

{"sheet":"MAINLINE","index":2,"n_rows":586,"n_cols":22,"rows_kept":586,"cut":false,"hidden":false,"merged":[[0,1,0,9],[0,12,0,20]]}
[{"$f":"MID(CELL(\"filename\",$A$2),FIND(\"]\",CELL(\"filename\",$A$2))+1,256)","v":"MAINLINE"},"AREAS",null,null,null,null,null,null,null,null,null,null,"VOLUMES"]
["STATION","ROCK ROADBED","REFILL","EMB. BENCH","GRAN. EMB.","COM","EM","ROCK EXC.","DT LT","DT RT","LEVEL-WEDGE",null,"ROCK ROADBED","REFILL","EMB. BENCH","GRAN. EMB.","COM","EM","ROCK EXC.","DT LT","DT RT","LEVEL-WEDGE"]
["TOTALS",null,null,null,null,null,null,null,null,null,null,null,{"$f":"SUM(M6:M2000)","v":0},0,0,0,77155,41546,0,0,0,0]
[]
[43521.22,null,null,null,null,602,0]
[43550,null,null,null,null,686,0,null,null,null,null,null,{"$f":"IF((B5+B6)>0,MAX(1,ROUNDUP(($A6-$A5)*((B5+B6)/2)/27,0)),ROUNDUP(($A6-$A5)*((B5+B6)/2)/27,0))","v":0},{"$f":"IF((C5+C6)>0,MAX(1,ROUNDUP(($A6-$A5)*((C5+C6)/2)/27,0)),ROUNDUP(($A6-$A5)*((C5+C6)/2)/27,0))","v":0},0,0,687,0,0,0,0,0]
[43600,null,null,null,null,519,0,null,null,null,null,null,{"$f":"IF((B6+B7)>0,MAX(1,ROUNDUP(($A7-$A6)*((B6+B7)/2)/27,0)),ROUNDUP(($A7-$A6)*((B6+B7)/2)/27,0))","v":0},{"$f":"IF((C6+C7)>0,MAX(1,ROUNDUP(($A7-$A6)*((C6+C7)/2)/27,0)),ROUNDUP(($A7-$A6)*((C6+C7)/2)/27,0))","v":0},{"$f":"IF((D6+D7)>0,MAX(1,ROUNDUP(($A7-$A6)*((D6+D7)/2)/27,0)),ROUNDUP(($A7-$A6)*((D6+D7)/2)/27,0))","v":0},{"$f":"IF((E6+E7)>0,MAX(1,ROUNDUP(($A7-$A6)*((E6+E7)/2)/27,0)),ROUNDUP(($A7-$A6)*((E6+E7)/2)/27,0))","v":0},{"$f":"IF((F6+F7)>0,MAX(1,ROUNDUP(($A7-$A6)*((F6+F7)/2)/27,0)),ROUNDUP(($A7-$A6)*((F6+F7)/2)/27,0))","v":1116},{"$f":"IF((G6+G7)>0,MAX(1,ROUNDUP(($A7-$A6)*((G6+G7)/2)/27,0)),ROUNDUP(($A7-$A6)*((G6+G7)/2)/27,0))","v":0},{"$f":"IF((H6+H7)>0,MAX(1,ROUNDUP(($A7-$A6)*((H6+H7)/2)/27,0)),ROUNDUP(($A7-$A6)*((H6+H7)/2)/27,0))","v":0},{"$f":"IF((I6+I7)>0,MAX(1,ROUNDUP(($A7-$A6)*((I6+I7)/2)/27,0)),ROUNDUP(($A7-$A6)*((I6+I7)/2)/27,0))","v":0},{"$f":"IF((J6+J7)>0,MAX(1,ROUNDUP(($A7-$A6)*((J6+J7)/2)/27,0)),ROUNDUP(($A7-$A6)*((J6+J7)/2)/27,0))","v":0},0]
[43650,null,null,null,null,417,0,null,null,null,null,null,0,0,0,0,867,0,0,0,0,0]
[43700,null,null,null,null,323,0,null,null,null,null,null,0,0,0,0,686,0,0,0,0,0]
[43750,null,null,null,null,207,4,null,null,null,null,null,0,0,0,0,491,4,0,0,0,0]
[43800,null,null,null,null,89,22,null,null,null,null,null,0,0,0,0,275,25,0,0,0,0]
[43850,null,null,null,null,50,86,null,null,null,null,null,0,0,0,0,129,100,0,0,0,0]
[43900,null,null,null,null,83,46,null,null,null,null,null,0,0,0,0,124,123,0,0,0,0]
[43950,null,null,null,null,58,40,null,null,null,null,null,0,0,0,0,131,80,0,0,0,0]
[44000,null,null,null,null,33,90,null,null,null,null,null,0,0,0,0,85,121,0,0,0,0]
[44050,null,null,null,null,81,132,null,null,null,null,null,0,0,0,0,106,206,0,0,0,0]
[44100,null,null,null,null,68,146,null,null,null,null,null,0,0,0,0,138,258,0,0,0,0]
[44150,null,null,null,null,94,140,null,null,null,null,null,0,0,0,0,150,265,0,0,0,0]
[44200,null,null,null,null,100,127,null,null,null,null,null,0,0,0,0,180,248,0,0,0,0]
[44250,null,null,null,null,329,9,null,null,null,null,null,0,0,0,0,398,126,0,0,0,0]
[44300,null,null,null,null,559,0,null,null,null,null,null,0,0,0,0,823,9,0,0,0,0]
[44350,null,null,null,null,352,0,null,null,null,null,null,0,0,0,0,844,0,0,0,0,0]
[44400,null,null,null,null,163,91,null,null,null,null,null,0,0,0,0,477,85,0,0,0,0]
[44450,null,null,null,null,62,290,null,null,null,null,null,0,0,0,0,209,353,0,0,0,0]
[44500,null,null,null,null,41,398,null,null,null,null,null,0,0,0,0,96,638,0,0,0,0]
[44550,null,null,null,null,21,471,null,null,null,null,null,0,0,0,0,58,805,0,0,0,0]
[44600,null,null,null,null,35,470,null,null,null,null,null,0,0,0,0,52,872,0,0,0,0]
[44650,null,null,null,null,57,444,null,null,null,null,null,0,0,0,0,86,847,0,0,0,0]
[44700,null,null,null,null,62,399,null,null,null,null,null,0,0,0,0,111,781,0,0,0,0]
[44750,null,null,null,null,76,304,null,null,null,null,null,0,0,0,0,128,651,0,0,0,0]
[44800,null,null,null,null,94,247,null,null,null,null,null,0,0,0,0,158,511,0,0,0,0]
[44850,null,null,null,null,102,159,null,null,null,null,null,0,0,0,0,182,376,0,0,0,0]
[44900,null,null,null,null,108,80,null,null,null,null,null,0,0,0,0,195,222,0,0,0,0]
[44950,null,null,null,null,115,33,null,null,null,null,null,0,0,0,0,207,105,0,0,0,0]
[45000,null,null,null,null,192,9,null,null,null,null,null,0,0,0,0,285,39,0,0,0,0]
[45050,null,null,null,null,278,0,null,null,null,null,null,0,0,0,0,436,9,0,0,0,0]
[45100,null,null,null,null,316,0,null,null,null,null,null,0,0,0,0,550,0,0,0,0,0]
[45150,null,null,null,null,249,0,null,null,null,null,null,0,0,0,0,524,0,0,0,0,0]
[45200,null,null,null,null,312,0,null,null,null,null,null,0,0,0,0,520,0,0,0,0,0]
[45250,null,null,null,null,404,0,null,null,null,null,null,0,0,0,0,663,0,0,0,0,0]
[45300,null,null,null,null,410,0,null,null,null,null,null,0,0,0,0,754,0,0,0,0,0]
[45350,null,null,null,null,458,0,null,null,null,null,null,0,0,0,0,804,0,0,0,0,0]
[45400,null,null,null,null,530,0,null,null,null,null,null,0,0,0,0,915,0,0,0,0,0]
[45450,null,null,null,null,558,0,null,null,null,null,null,0,0,0,0,1008,0,0,0,0,0]
[45500,null,null,null,null,556,0,null,null,null,null,null,0,0,0,0,1032,0,0,0,0,0]
[45550,null,null,null,null,577,0,null,null,null,null,null,0,0,0,0,1050,0,0,0,0,0]
[45600,null,null,null,null,610,0,null,null,null,null,null,0,0,0,0,1100,0,0,0,0,0]
[45650,null,null,null,null,607,0,null,null,null,null,null,0,0,0,0,1127,0,0,0,0,0]
[45700,null,null,null,null,587,0,null,null,null,null,null,0,0,0,0,1106,0,0,0,0,0]
[45750,null,null,null,null,590,0,null,null,null,null,null,0,0,0,0,1090,0,0,0,0,0]
[45800,null,null,null,null,600,0,null,null,null,null,null,0,0,0,0,1102,0,0,0,0,0]
[45850,null,null,null,null,595,0,null,null,null,null,null,0,0,0,0,1107,0,0,0,0,0]
[45900,null,null,null,null,622,0,null,null,null,null,null,0,0,0,0,1127,0,0,0,0,0]
[45950,null,null,null,null,649,0,null,null,null,null,null,0,0,0,0,1177,0,0,0,0,0]
[46000,null,null,null,null,713,0,null,null,null,null,null,0,0,0,0,1262,0,0,0,0,0]
[46050,null,null,null,null,762,0,null,null,null,null,null,0,0,0,0,1366,0,0,0,0,0]
[46100,null,null,null,null,812,0,null,null,null,null,null,0,0,0,0,1458,0,0,0,0,0]
[46150,null,null,null,null,834,0,null,null,null,null,null,0,0,0,0,1525,0,0,0,0,0]
[46200,null,null,null,null,799,0,null,null,null,null,null,0,0,0,0,1513,0,0,0,0,0]
[46250,null,null,null,null,697,0,null,null,null,null,null,0,0,0,0,1386,0,0,0,0,0]
[46300,null,null,null,null,616,0,null,null,null,null,null,0,0,0,0,1216,0,0,0,0,0]
[46350,null,null,null,null,499,0,null,null,null,null,null,0,0,0,0,1033,0,0,0,0,0]
[46400,null,null,null,null,442,0,null,null,null,null,null,0,0,0,0,872,0,0,0,0,0]
[46450,null,null,null,null,379,0,null,null,null,null,null,0,0,0,0,761,0,0,0,0,0]
[46500,null,null,null,null,347,0,null,null,null,null,null,0,0,0,0,673,0,0,0,0,0]
[46550,null,null,null,null,292,0,null,null,null,null,null,0,0,0,0,592,0,0,0,0,0]
[46600,null,null,null,null,142,1,null,null,null,null,null,0,0,0,0,402,1,0,0,0,0]
[46650,null,null,null,null,51,82,null,null,null,null,null,0,0,0,0,179,77,0,0,0,0]
[46700,null,null,null,null,98,147,null,null,null,null,null,0,0,0,0,138,213,0,0,0,0]
[46750,null,null,null,null,7,250,null,null,null,null,null,0,0,0,0,98,368,0,0,0,0]
[46800,null,null,null,null,115,306,null,null,null,null,null,{"$f":"IF((B70+B71)>0,MAX(1,ROUNDUP(($A71-$A70)*((B70+B71)/2)/27,0)),ROUNDUP(($A71-$A70)*((B70+B71)/2)/27,0))","v":0},{"$f":"IF((C70+C71)>0,MAX(1,ROUNDUP(($A71-$A70)*((C70+C71)/2)/27,0)),ROUNDUP(($A71-$A70)*((C70+C71)/2)/27,0))","v":0},{"$f":"IF((D70+D71)>0,MAX(1,ROUNDUP(($A71-$A70)*((D70+D71)/2)/27,0)),ROUNDUP(($A71-$A70)*((D70+D71)/2)/27,0))","v":0},{"$f":"IF((E70+E71)>0,MAX(1,ROUNDUP(($A71-$A70)*((E70+E71)/2)/27,0)),ROUNDUP(($A71-$A70)*((E70+E71)/2)/27,0))","v":0},{"$f":"IF((F70+F71)>0,MAX(1,ROUNDUP(($A71-$A70)*((F70+F71)/2)/27,0)),ROUNDUP(($A71-$A70)*((F70+F71)/2)/27,0))","v":113},{"$f":"IF((G70+G71)>0,MAX(1,ROUNDUP(($A71-$A70)*((G70+G71)/2)/27,0)),ROUNDUP(($A71-$A70)*((G70+G71)/2)/27,0))","v":515},{"$f":"IF((H70+H71)>0,MAX(1,ROUNDUP(($A71-$A70)*((H70+H71)/2)/27,0)),ROUNDUP(($A71-$A70)*((H70+H71)/2)/27,0))","v":0},{"$f":"IF((I70+I71)>0,MAX(1,ROUNDUP(($A71-$A70)*((I70+I71)/2)/27,0)),ROUNDUP(($A71-$A70)*((I70+I71)/2)/27,0))","v":0},{"$f":"IF((J70+J71)>0,MAX(1,ROUNDUP(($A71-$A70)*((J70+J71)/2)/27,0)),ROUNDUP(($A71-$A70)*((J70+J71)/2)/27,0))","v":0},0]
[46850,null,null,null,null,118,381,null,null,null,null,null,0,0,0,0,216,637,0,0,0,0]
[46900,null,null,null,null,93,534,null,null,null,null,null,0,0,0,0,196,848,0,0,0,0]
[46950,null,null,null,null,88,725,null,null,null,null,null,0,0,0,0,168,1166,0,0,0,0]
[47000,null,null,null,null,61,965,null,null,null,null,null,0,0,0,0,138,1565,0,0,0,0]
[47050,null,null,null,null,54,1047,null,null,null,null,null,0,0,0,0,107,{"$f":"IF((G75+G76)>0,MAX(1,ROUNDUP(($A76-$A75)*((G75+G76)/2)/27,0)),ROUNDUP(($A76-$A75)*((G75+G76)/2)/27,0))","v":1863},0,0,0,0]
[47100,null,null,null,null,46,1061,null,null,null,null,null,0,0,0,0,93,1952,0,0,0,0]
[47150,null,null,null,null,77,958,null,null,null,null,null,0,0,0,0,114,1870,0,0,0,0]
[47200,null,null,null,null,80,896,null,null,null,null,null,0,0,0,0,146,1717,0,0,0,0]
[47250,null,null,null,null,91,895,null,null,null,null,null,0,0,0,0,159,1659,0,0,0,0]
[47300,null,null,null,null,75,889,null,null,null,null,null,0,0,0,0,154,1652,0,0,0,0]
[47350,null,null,null,null,80,886,null,null,null,null,null,0,0,0,0,144,1644,0,0,0,0]
[47400,null,null,null,null,54,872,null,null,null,null,null,0,0,0,0,125,1628,0,0,0,0]
[47450,null,null,null,null,55,940,null,null,null,null,null,0,0,0,0,101,1678,0,0,0,0]
[47500,null,null,null,null,49,745,null,null,null,null,null,0,0,0,0,97,1561,0,0,0,0]
[47550,null,null,null,null,75,635,null,null,null,null,null,0,0,0,0,115,1278,0,0,0,0]
[47600,null,null,null,null,28,522,null,null,null,null,null,0,0,0,0,96,1072,0,0,0,0]
[47650,null,null,null,null,32,348,null,null,null,null,null,0,0,0,0,56,806,0,0,0,0]
[47700,null,null,null,null,35,221,null,null,null,null,null,0,0,0,0,63,527,0,0,0,0]
[47750,null,null,null,null,99,180,null,null,null,null,null,0,0,0,0,125,372,0,0,0,0]
[47800,null,null,null,null,56,156,null,null,null,null,null,0,0,0,0,144,312,0,0,0,0]
[47850,null,null,null,null,65,153,null,null,null,null,null,0,0,0,0,113,287,0,0,0,0]
[47900,null,null,null,null,16,261,null,null,null,null,null,0,0,0,0,75,384,0,0,0,0]
[47950,null,null,null,null,30,258,null,null,null,null,null,0,0,0,0,43,481,0,0,0,0]
[48000,null,null,null,null,59,213,null,null,null,null,null,0,0,0,0,83,437,0,0,0,0]
[48050,null,null,null,null,46,146,null,null,null,null,null,0,0,0,0,98,333,0,0,0,0]
[48100,null,null,null,null,114,83,null,null,null,null,null,0,0,0,0,149,213,0,0,0,0]
[48150,null,null,null,null,286,56,null,null,null,null,null,0,0,0,0,371,129,0,0,0,0]
[48200,null,null,null,null,578,5,null,null,null,null,null,0,0,0,0,800,57,0,0,0,0]
[48250,null,null,null,null,1058,0,null,null,null,null,null,0,0,0,0,1515,5,0,0,0,0]
[48300,null,null,null,null,1392,0,null,null,null,null,null,0,0,0,0,2269,0,0,0,0,0]
[48350,null,null,null,null,1645,0,null,null,null,null,null,0,0,0,0,2813,0,0,0,0,0]
[48400,null,null,null,null,1996,0,null,null,null,null,null,0,0,0,0,3372,0,0,0,0,0]
[48450,null,null,null,null,1826,0,null,null,null,null,null,0,0,0,0,3539,0,0,0,0,0]
[48500,null,null,null,null,1483,0,null,null,null,null,null,0,0,0,0,3064,0,0,0,0,0]
[48550,null,null,null,null,1311,0,null,null,null,null,null,0,0,0,0,2588,0,0,0,0,0]
[48600,null,null,null,null,988,0,null,null,null,null,null,0,0,0,0,2129,0,0,0,0,0]
[48650,null,null,null,null,447,0,null,null,null,null,null,0,0,0,0,1329,0,0,0,0,0]
[48700,null,null,null,null,214,23,null,null,null,null,null,0,0,0,0,613,22,0,0,0,0]
[48750,null,null,null,null,101,143,null,null,null,null,null,0,0,0,0,292,154,0,0,0,0]
[48800,null,null,null,null,73,269,null,null,null,null,null,0,0,0,0,162,382,0,0,0,0]
[48850,null,null,null,null,60,340,null,null,null,null,null,0,0,0,0,124,564,0,0,0,0]
[48900,null,null,null,null,55,334,null,null,null,null,null,0,0,0,0,107,625,0,0,0,0]
[48950,null,null,null,null,16,396,null,null,null,null,null,0,0,0,0,66,676,0,0,0,0]
[49000,null,null,null,null,54,321,null,null,null,null,null,0,0,0,0,65,664,0,0,0,0]
[49050,null,null,null,null,57,179,null,null,null,null,null,0,0,0,0,103,463,0,0,0,0]
[49100,null,null,null,null,41,101,null,null,null,null,null,0,0,0,0,91,260,0,0,0,0]
[49150,null,null,null,null,169,34,null,null,null,null,null,0,0,0,0,195,125,0,0,0,0]
[49200,null,null,null,null,280,5,null,null,null,null,null,0,0,0,0,416,37,0,0,0,0]
[49250,null,null,null,null,326,2,null,null,null,null,null,0,0,0,0,562,7,0,0,0,0]
[49300,null,null,null,null,385,0,null,null,null,null,null,0,0,0,0,659,2,0,0,0,0]
[49350,null,null,null,null,411,0,null,null,null,null,null,0,0,0,0,738,0,0,0,0,0]
[49400,null,null,null,null,386,0,null,null,null,null,null,0,0,0,0,738,0,0,0,0,0]
[49450,null,null,null,null,255,0,null,null,null,null,null,0,0,0,0,594,0,0,0,0,0]
[49500,null,null,null,null,430,0,null,null,null,null,null,0,0,0,0,635,0,0,0,0,0]
[49550,null,null,null,null,267,17,null,null,null,null,null,0,0,0,0,646,16,0,0,0,0]
[49600,null,null,null,null,280,43,null,null,null,null,null,0,0,0,0,507,56,0,0,0,0]
[49650,null,null,null,null,203,15,null,null,null,null,null,0,0,0,0,448,54,0,0,0,0]
[49700,null,null,null,null,166,1,null,null,null,null,null,0,0,0,0,342,15,0,0,0,0]
[49750,null,null,null,null,110,35,null,null,null,null,null,0,0,0,0,256,34,0,0,0,0]
[49800,null,null,null,null,114,20,null,null,null,null,null,0,0,0,0,208,51,0,0,0,0]
[49850,null,null,null,null,110,78,null,null,null,null,null,0,0,0,0,208,91,0,0,0,0]
[49900,null,null,null,null,126,9,null,null,null,null,null,0,0,0,0,219,81,0,0,0,0]
[null,null,null,null,null,null,null,null,null,null,null,null,0,0,0,0,1,1,0,0,0,0]
[null,null,null,null,null,null,null,null,null,null,null,null,{"$f":"IF((B134+B135)>0,MAX(1,ROUNDUP(($A135-$A134)*((B134+B135)/2)/27,0)),ROUNDUP(($A135-$A134)*((B134+B135)/2)/27,0))","v":0},{"$f":"IF((C134+C135)>0,MAX(1,ROUNDUP(($A135-$A134)*((C134+C135)/2)/27,0)),ROUNDUP(($A135-$A134)*((C134+C135)/2)/27,0))","v":0},{"$f":"IF((D134+D135)>0,MAX(1,ROUNDUP(($A135-$A134)*((D134+D135)/2)/27,0)),ROUNDUP(($A135-$A134)*((D134+D135)/2)/27,0))","v":0},{"$f":"IF((E134+E135)>0,MAX(1,ROUNDUP(($A135-$A134)*((E134+E135)/2)/27,0)),ROUNDUP(($A135-$A134)*((E134+E135)/2)/27,0))","v":0},{"$f":"IF((F134+F135)>0,MAX(1,ROUNDUP(($A135-$A134)*((F134+F135)/2)/27,0)),ROUNDUP(($A135-$A134)*((F134+F135)/2)/27,0))","v":0},{"$f":"IF((G134+G135)>0,MAX(1,ROUNDUP(($A135-$A134)*((G134+G135)/2)/27,0)),ROUNDUP(($A135-$A134)*((G134+G135)/2)/27,0))","v":0},{"$f":"IF((H134+H135)>0,MAX(1,ROUNDUP(($A135-$A134)*((H134+H135)/2)/27,0)),ROUNDUP(($A135-$A134)*((H134+H135)/2)/27,0))","v":0},{"$f":"IF((I134+I135)>0,MAX(1,ROUNDUP(($A135-$A134)*((I134+I135)/2)/27,0)),ROUNDUP(($A135-$A134)*((I134+I135)/2)/27,0))","v":0},{"$f":"IF((J134+J135)>0,MAX(1,ROUNDUP(($A135-$A134)*((J134+J135)/2)/27,0)),ROUNDUP(($A135-$A134)*((J134+J135)/2)/27,0))","v":0},0]
[null,null,null,null,null,null,null,null,null,null,null,null,0,0,0,0,0,0,0,0,0,0]
[null,null,null,null,null,null,null,null,null,null,null,null,0,0,0,0,0,0,0,0,0,0]
[null,null,null,null,null,null,null,null,null,null,null,null,0,0,0,0,0,0,0,0,0,0]
[null,null,null,null,null,null,null,null,null,null,null,null,0,0,0,0,0,0,0,0,0,0]
[null,null,null,null,null,null,null,null,null,null,null,null,0,0,0,0,0,0,0,0,0,0]
[null,null,null,null,null,null,null,null,null,null,null,null,0,0,0,0,0,0,0,0,0,0]
[null,null,null,null,null,null,null,null,null,null,null,null,0,0,0,0,0,0,0,0,0,0]
[null,null,null,null,null,null,null,null,null,null,null,null,0,0,0,0,0,0,0,0,0,0]
[null,null,null,null,null,null,null,null,null,null,null,null,0,0,0,0,0,0,0,0,0,0]
[null,null,null,null,null,null,null,null,null,null,null,null,0,0,0,0,0,0,0,0,0,0]
[null,null,null,null,null,null,null,null,null,null,null,null,0,0,0,0,0,0,0,0,0,0]
[null,null,null,null,null,null,null,null,null,null,null,null,0,0,0,0,0,0,0,0,0,0]
[null,null,null,null,null,null,null,null,null,null,null,null,0,0,0,0,0,0,0,0,0,0]
[null,null,null,null,null,null,null,null,null,null,null,null,0,0,0,0,0,0,0,0,0,0]
[null,null,null,null,null,null,null,null,null,null,null,null,0,0,0,0,0,0,0,0,0,0]
[null,null,null,null,null,null,null,null,null,null,null,null,0,0,0,0,0,0,0,0,0,0]
[null,null,null,null,null,null,null,null,null,null,null,null,0,0,0,0,0,0,0,0,0,0]
[null,null,null,null,null,null,null,null,null,null,null,null,0,0,0,0,0,0,0,0,0,0]
[null,null,null,null,null,null,null,null,null,null,null,null,0,0,0,0,0,0,0,0,0,0]
[null,null,null,null,null,null,null,null,null,null,null,null,0,0,0,0,0,0,0,0,0,0]
[null,null,null,null,null,null,null,null,null,null,null,null,0,0,0,0,0,0,0,0,0,0]
[null,null,null,null,null,null,null,null,null,null,null,null,0,0,0,0,0,0,0,0,0,0]
[null,null,null,null,null,null,null,null,null,null,null,null,0,0,0,0,0,0,0,0,0,0]
[null,null,null,null,null,null,null,null,null,null,null,null,0,0,0,0,0,0,0,0,0,0]
[null,null,null,null,null,null,null,null,null,null,null,null,0,0,0,0,0,0,0,0,0,0]
[null,null,null,null,null,null,null,null,null,null,null,null,0,0,0,0,0,0,0,0,0,0]
[null,null,null,null,null,null,null,null,null,null,null,null,0,0,0,0,0,0,0,0,0,0]
[null,null,null,null,null,null,null,null,null,null,null,null,0,0,0,0,0,0,0,0,0,0]
[null,null,null,null,null,null,null,null,null,null,null,null,0,0,0,0,0,0,0,0,0,0]
[null,null,null,null,null,null,null,null,null,null,null,null,0,0,0,0,0,0,0,0,0,0]
[null,null,null,null,null,null,null,null,null,null,null,null,0,0,0,0,0,0,0,0,0,0]
[null,null,null,null,null,null,null,null,null,null,null,null,0,0,0,0,0,0,0,0,0,0]
[null,null,null,null,null,null,null,null,null,null,null,null,0,0,0,0,0,0,0,0,0,0]
[null,null,null,null,null,null,null,null,null,null,null,null,0,0,0,0,0,0,0,0,0,0]
[null,null,null,null,null,null,null,null,null,null,null,null,0,0,0,0,0,0,0,0,0,0]
[null,null,null,null,null,null,null,null,null,null,null,null,0,0,0,0,0,0,0,0,0,0]
[null,null,null,null,null,null,null,null,null,null,null,null,0,0,0,0,0,0,0,0,0,0]
[null,null,null,null,null,null,null,null,null,null,null,null,0,0,0,0,0,0,0,0,0,0]
[null,null,null,null,null,null,null,null,null,null,null,null,0,0,0,0,0,0,0,0,0,0]
[null,null,null,null,null,null,null,null,null,null,null,null,0,0,0,0,0,0,0,0,0,0]
[null,null,null,null,null,null,null,null,null,null,null,null,0,0,0,0,0,0,0,0,0,0]
[null,null,null,null,null,null,null,null,null,null,null,null,0,0,0,0,0,0,0,0,0,0]
[null,null,null,null,null,null,null,null,null,null,null,null,0,0,0,0,0,0,0,0,0,0]
[null,null,null,null,null,null,null,null,null,null,null,null,0,0,0,0,0,0,0,0,0,0]
[null,null,null,null,null,null,null,null,null,null,null,null,0,0,0,0,0,0,0,0,0,0]
[null,null,null,null,null,null,null,null,null,null,null,null,0,0,0,0,0,0,0,0,0,0]
[null,null,null,null,null,null,null,null,null,null,null,null,0,0,0,0,0,0,0,0,0,0]
[null,null,null,null,null,null,null,null,null,null,null,null,0,0,0,0,0,0,0,0,0,0]
[null,null,null,null,null,null,null,null,null,null,null,null,0,0,0,0,0,0,0,0,0,0]
[null,null,null,null,null,null,null,null,null,null,null,null,0,0,0,0,0,0,0,0,0,0]
[null,null,null,null,null,null,null,null,null,null,null,null,0,0,0,0,0,0,0,0,0,0]
[null,null,null,null,null,null,null,null,null,null,null,null,0,0,0,0,0,0,0,0,0,0]
[null,null,null,null,null,null,null,null,null,null,null,null,0,0,0,0,0,0,0,0,0,0]
[null,null,null,null,null,null,null,null,null,null,null,null,0,0,0,0,0,0,0,0,0,0]
[null,null,null,null,null,null,null,null,null,null,null,null,0,0,0,0,0,0,0,0,0,0]
[null,null,null,null,null,null,null,null,null,null,null,null,0,0,0,0,0,0,0,0,0,0]
[null,null,null,null,null,null,null,null,null,null,null,null,0,0,0,0,0,0,0,0,0,0]
[null,null,null,null,null,null,null,null,null,null,null,null,0,0,0,0,0,0,0,0,0,0]
[null,null,null,null,null,null,null,null,null,null,null,null,0,0,0,0,0,0,0,0,0,0]
[null,null,null,null,null,null,null,null,null,null,null,null,0,0,0,0,0,0,0,0,0,0]
[null,null,null,null,null,null,null,null,null,null,null,null,0,0,0,0,0,0,0,0,0,0]
[null,null,null,null,null,null,null,null,null,null,null,null,0,0,0,0,0,0,0,0,0,0]
[null,null,null,null,null,null,null,null,null,null,null,null,0,0,0,0,0,0,0,0,0,0]
[null,null,null,null,null,null,null,null,null,null,null,null,{"$f":"IF((B198+B199)>0,MAX(1,ROUNDUP(($A199-$A198)*((B198+B199)/2)/27,0)),ROUNDUP(($A199-$A198)*((B198+B199)/2)/27,0))","v":0},{"$f":"IF((C198+C199)>0,MAX(1,ROUNDUP(($A199-$A198)*((C198+C199)/2)/27,0)),ROUNDUP(($A199-$A198)*((C198+C199)/2)/27,0))","v":0},{"$f":"IF((D198+D199)>0,MAX(1,ROUNDUP(($A199-$A198)*((D198+D199)/2)/27,0)),ROUNDUP(($A199-$A198)*((D198+D199)/2)/27,0))","v":0},{"$f":"IF((E198+E199)>0,MAX(1,ROUNDUP(($A199-$A198)*((E198+E199)/2)/27,0)),ROUNDUP(($A199-$A198)*((E198+E199)/2)/27,0))","v":0},{"$f":"IF((F198+F199)>0,MAX(1,ROUNDUP(($A199-$A198)*((F198+F199)/2)/27,0)),ROUNDUP(($A199-$A198)*((F198+F199)/2)/27,0))","v":0},{"$f":"IF((G198+G199)>0,MAX(1,ROUNDUP(($A199-$A198)*((G198+G199)/2)/27,0)),ROUNDUP(($A199-$A198)*((G198+G199)/2)/27,0))","v":0},{"$f":"IF((H198+H199)>0,MAX(1,ROUNDUP(($A199-$A198)*((H198+H199)/2)/27,0)),ROUNDUP(($A199-$A198)*((H198+H199)/2)/27,0))","v":0},{"$f":"IF((I198+I199)>0,MAX(1,ROUNDUP(($A199-$A198)*((I198+I199)/2)/27,0)),ROUNDUP(($A199-$A198)*((I198+I199)/2)/27,0))","v":0},{"$f":"IF((J198+J199)>0,MAX(1,ROUNDUP(($A199-$A198)*((J198+J199)/2)/27,0)),ROUNDUP(($A199-$A198)*((J198+J199)/2)/27,0))","v":0},0]
[null,null,null,null,null,null,null,null,null,null,null,null,0,0,0,0,0,0,0,0,0,0]
[null,null,null,null,null,null,null,null,null,null,null,null,0,0,0,0,0,0,0,0,0,0]
[null,null,null,null,null,null,null,null,null,null,null,null,0,0,0,0,0,0,0,0,0,0]
[null,null,null,null,null,null,null,null,null,null,null,null,0,0,0,0,0,0,0,0,0,0]
[null,null,null,null,null,null,null,null,null,null,null,null,0,0,0,0,0,0,0,0,0,0]
[null,null,null,null,null,null,null,null,null,null,null,null,0,0,0,0,0,0,0,0,0,0]
[null,null,null,null,null,null,null,null,null,null,null,null,0,0,0,0,0,0,0,0,0,0]
[null,null,null,null,null,null,null,null,null,null,null,null,0,0,0,0,0,0,0,0,0,0]
[null,null,null,null,null,null,null,null,null,null,null,null,0,0,0,0,0,0,0,0,0,0]
[null,null,null,null,null,null,null,null,null,null,null,null,0,0,0,0,0,0,0,0,0,0]
[null,null,null,null,null,null,null,null,null,null,null,null,0,0,0,0,0,0,0,0,0,0]
[null,null,null,null,null,null,null,null,null,null,null,null,0,0,0,0,0,0,0,0,0,0]
[null,null,null,null,null,null,null,null,null,null,null,null,0,0,0,0,0,0,0,0,0,0]
[null,null,null,null,null,null,null,null,null,null,null,null,0,0,0,0,0,0,0,0,0,0]
[null,null,null,null,null,null,null,null,null,null,null,null,0,0,0,0,0,0,0,0,0,0]
[null,null,null,null,null,null,null,null,null,null,null,null,0,0,0,0,0,0,0,0,0,0]
[null,null,null,null,null,null,null,null,null,null,null,null,0,0,0,0,0,0,0,0,0,0]
[null,null,null,null,null,null,null,null,null,null,null,null,0,0,0,0,0,0,0,0,0,0]
[null,null,null,null,null,null,null,null,null,null,null,null,0,0,0,0,0,0,0,0,0,0]
[null,null,null,null,null,null,null,null,null,null,null,null,0,0,0,0,0,0,0,0,0,0]
[null,null,null,null,null,null,null,null,null,null,null,null,0,0,0,0,0,0,0,0,0,0]
[null,null,null,null,null,null,null,null,null,null,null,null,0,0,0,0,0,0,0,0,0,0]
[null,null,null,null,null,null,null,null,null,null,null,null,0,0,0,0,0,0,0,0,0,0]
[null,null,null,null,null,null,null,null,null,null,null,null,0,0,0,0,0,0,0,0,0,0]
[null,null,null,null,null,null,null,null,null,null,null,null,0,0,0,0,0,0,0,0,0,0]
[null,null,null,null,null,null,null,null,null,null,null,null,0,0,0,0,0,0,0,0,0,0]
[null,null,null,null,null,null,null,null,null,null,null,null,0,0,0,0,0,0,0,0,0,0]
[null,null,null,null,null,null,null,null,null,null,null,null,0,0,0,0,0,0,0,0,0,0]
[null,null,null,null,null,null,null,null,null,null,null,null,0,0,0,0,0,0,0,0,0,0]
[null,null,null,null,null,null,null,null,null,null,null,null,0,0,0,0,0,0,0,0,0,0]
[null,null,null,null,null,null,null,null,null,null,null,null,0,0,0,0,0,0,0,0,0,0]
[null,null,null,null,null,null,null,null,null,null,null,null,0,0,0,0,0,0,0,0,0,0]
[null,null,null,null,null,null,null,null,null,null,null,null,0,0,0,0,0,0,0,0,0,0]
[null,null,null,null,null,null,null,null,null,null,null,null,0,0,0,0,0,0,0,0,0,0]
[null,null,null,null,null,null,null,null,null,null,null,null,0,0,0,0,0,0,0,0,0,0]
[null,null,null,null,null,null,null,null,null,null,null,null,0,0,0,0,0,0,0,0,0,0]
[null,null,null,null,null,null,null,null,null,null,null,null,0,0,0,0,0,0,0,0,0,0]
[null,null,null,null,null,null,null,null,null,null,null,null,0,0,0,0,0,0,0,0,0,0]
[null,null,null,null,null,null,null,null,null,null,null,null,0,0,0,0,0,0,0,0,0,0]
[null,null,null,null,null,null,null,null,null,null,null,null,0,0,0,0,0,0,0,0,0,0]
[null,null,null,null,null,null,null,null,null,null,null,null,0,0,0,0,0,0,0,0,0,0]
[null,null,null,null,null,null,null,null,null,null,null,null,0,0,0,0,0,0,0,0,0,0]
[null,null,null,null,null,null,null,null,null,null,null,null,0,0,0,0,0,0,0,0,0,0]
[null,null,null,null,null,null,null,null,null,null,null,null,0,0,0,0,0,0,0,0,0,0]
[null,null,null,null,null,null,null,null,null,null,null,null,0,0,0,0,0,0,0,0,0,0]
[null,null,null,null,null,null,null,null,null,null,null,null,0,0,0,0,0,0,0,0,0,0]
[null,null,null,null,null,null,null,null,null,null,null,null,0,0,0,0,0,0,0,0,0,0]
[null,null,null,null,null,null,null,null,null,null,null,null,0,0,0,0,0,0,0,0,0,0]
[null,null,null,null,null,null,null,null,null,null,null,null,0,0,0,0,0,0,0,0,0,0]
[null,null,null,null,null,null,null,null,null,null,null,null,0,0,0,0,0,0,0,0,0,0]
[null,null,null,null,null,null,null,null,null,null,null,null,0,0,0,0,0,0,0,0,0,0]
[null,null,null,null,null,null,null,null,null,null,null,null,0,0,0,0,0,0,0,0,0,0]
[null,null,null,null,null,null,null,null,null,null,null,null,0,0,0,0,0,0,0,0,0,0]
[null,null,null,null,null,null,null,null,null,null,null,null,0,0,0,0,0,0,0,0,0,0]
[null,null,null,null,null,null,null,null,null,null,null,null,0,0,0,0,0,0,0,0,0,0]
[null,null,null,null,null,null,null,null,null,null,null,null,0,0,0,0,0,0,0,0,0,0]
[null,null,null,null,null,null,null,null,null,null,null,null,0,0,0,0,0,0,0,0,0,0]
[null,null,null,null,null,null,null,null,null,null,null,null,0,0,0,0,0,0,0,0,0,0]
[null,null,null,null,null,null,null,null,null,null,null,null,0,0,0,0,0,0,0,0,0,0]
[null,null,null,null,null,null,null,null,null,null,null,null,0,0,0,0,0,0,0,0,0,0]
[null,null,null,null,null,null,null,null,null,null,null,null,0,0,0,0,0,0,0,0,0,0]
[null,null,null,null,null,null,null,null,null,null,null,null,0,0,0,0,0,0,0,0,0,0]
[null,null,null,null,null,null,null,null,null,null,null,null,0,0,0,0,0,0,0,0,0,0]
[null,null,null,null,null,null,null,null,null,null,null,null,{"$f":"IF((B262+B263)>0,MAX(1,ROUNDUP(($A263-$A262)*((B262+B263)/2)/27,0)),ROUNDUP(($A263-$A262)*((B262+B263)/2)/27,0))","v":0},{"$f":"IF((C262+C263)>0,MAX(1,ROUNDUP(($A263-$A262)*((C262+C263)/2)/27,0)),ROUNDUP(($A263-$A262)*((C262+C263)/2)/27,0))","v":0},{"$f":"IF((D262+D263)>0,MAX(1,ROUNDUP(($A263-$A262)*((D262+D263)/2)/27,0)),ROUNDUP(($A263-$A262)*((D262+D263)/2)/27,0))","v":0},{"$f":"IF((E262+E263)>0,MAX(1,ROUNDUP(($A263-$A262)*((E262+E263)/2)/27,0)),ROUNDUP(($A263-$A262)*((E262+E263)/2)/27,0))","v":0},{"$f":"IF((F262+F263)>0,MAX(1,ROUNDUP(($A263-$A262)*((F262+F263)/2)/27,0)),ROUNDUP(($A263-$A262)*((F262+F263)/2)/27,0))","v":0},{"$f":"IF((G262+G263)>0,MAX(1,ROUNDUP(($A263-$A262)*((G262+G263)/2)/27,0)),ROUNDUP(($A263-$A262)*((G262+G263)/2)/27,0))","v":0},{"$f":"IF((H262+H263)>0,MAX(1,ROUNDUP(($A263-$A262)*((H262+H263)/2)/27,0)),ROUNDUP(($A263-$A262)*((H262+H263)/2)/27,0))","v":0},{"$f":"IF((I262+I263)>0,MAX(1,ROUNDUP(($A263-$A262)*((I262+I263)/2)/27,0)),ROUNDUP(($A263-$A262)*((I262+I263)/2)/27,0))","v":0},{"$f":"IF((J262+J263)>0,MAX(1,ROUNDUP(($A263-$A262)*((J262+J263)/2)/27,0)),ROUNDUP(($A263-$A262)*((J262+J263)/2)/27,0))","v":0},0]
[null,null,null,null,null,null,null,null,null,null,null,null,0,0,0,0,0,0,0,0,0,0]
[null,null,null,null,null,null,null,null,null,null,null,null,0,0,0,0,0,0,0,0,0,0]
[null,null,null,null,null,null,null,null,null,null,null,null,0,0,0,0,0,0,0,0,0,0]
[null,null,null,null,null,null,null,null,null,null,null,null,0,0,0,0,0,0,0,0,0,0]
[null,null,null,null,null,null,null,null,null,null,null,null,0,0,0,0,0,0,0,0,0,0]
[null,null,null,null,null,null,null,null,null,null,null,null,0,0,0,0,0,0,0,0,0,0]
[null,null,null,null,null,null,null,null,null,null,null,null,0,0,0,0,0,0,0,0,0,0]
[null,null,null,null,null,null,null,null,null,null,null,null,0,0,0,0,0,0,0,0,0,0]
[null,null,null,null,null,null,null,null,null,null,null,null,0,0,0,0,0,0,0,0,0,0]
[null,null,null,null,null,null,null,null,null,null,null,null,0,0,0,0,0,0,0,0,0,0]
[null,null,null,null,null,null,null,null,null,null,null,null,0,0,0,0,0,0,0,0,0,0]
[null,null,null,null,null,null,null,null,null,null,null,null,0,0,0,0,0,0,0,0,0,0]
[null,null,null,null,null,null,null,null,null,null,null,null,0,0,0,0,0,0,0,0,0,0]
[null,null,null,null,null,null,null,null,null,null,null,null,0,0,0,0,0,0,0,0,0,0]
[null,null,null,null,null,null,null,null,null,null,null,null,0,0,0,0,0,0,0,0,0,0]
[null,null,null,null,null,null,null,null,null,null,null,null,0,0,0,0,0,0,0,0,0,0]
[null,null,null,null,null,null,null,null,null,null,null,null,0,0,0,0,0,0,0,0,0,0]
[null,null,null,null,null,null,null,null,null,null,null,null,0,0,0,0,0,0,0,0,0,0]
[null,null,null,null,null,null,null,null,null,null,null,null,0,0,0,0,0,0,0,0,0,0]
[null,null,null,null,null,null,null,null,null,null,null,null,0,0,0,0,0,0,0,0,0,0]
[null,null,null,null,null,null,null,null,null,null,null,null,0,0,0,0,0,0,0,0,0,0]
[null,null,null,null,null,null,null,null,null,null,null,null,0,0,0,0,0,0,0,0,0,0]
[null,null,null,null,null,null,null,null,null,null,null,null,0,0,0,0,0,0,0,0,0,0]
[null,null,null,null,null,null,null,null,null,null,null,null,0,0,0,0,0,0,0,0,0,0]
[null,null,null,null,null,null,null,null,null,null,null,null,0,0,0,0,0,0,0,0,0,0]
[null,null,null,null,null,null,null,null,null,null,null,null,0,0,0,0,0,0,0,0,0,0]
[null,null,null,null,null,null,null,null,null,null,null,null,0,0,0,0,0,0,0,0,0,0]
[null,null,null,null,null,null,null,null,null,null,null,null,0,0,0,0,0,0,0,0,0,0]
[null,null,null,null,null,null,null,null,null,null,null,null,0,0,0,0,0,0,0,0,0,0]
[null,null,null,null,null,null,null,null,null,null,null,null,0,0,0,0,0,0,0,0,0,0]
[null,null,null,null,null,null,null,null,null,null,null,null,0,0,0,0,0,0,0,0,0,0]
[null,null,null,null,null,null,null,null,null,null,null,null,0,0,0,0,0,0,0,0,0,0]
[null,null,null,null,null,null,null,null,null,null,null,null,0,0,0,0,0,0,0,0,0,0]
[null,null,null,null,null,null,null,null,null,null,null,null,0,0,0,0,0,0,0,0,0,0]
[null,null,null,null,null,null,null,null,null,null,null,null,0,0,0,0,0,0,0,0,0,0]
[null,null,null,null,null,null,null,null,null,null,null,null,0,0,0,0,0,0,0,0,0,0]
[null,null,null,null,null,null,null,null,null,null,null,null,0,0,0,0,0,0,0,0,0,0]
[null,null,null,null,null,null,null,null,null,null,null,null,0,0,0,0,0,0,0,0,0,0]
[null,null,null,null,null,null,null,null,null,null,null,null,0,0,0,0,0,0,0,0,0,0]
[null,null,null,null,null,null,null,null,null,null,null,null,0,0,0,0,0,0,0,0,0,0]
[null,null,null,null,null,null,null,null,null,null,null,null,0,0,0,0,0,0,0,0,0,0]
[null,null,null,null,null,null,null,null,null,null,null,null,0,0,0,0,0,0,0,0,0,0]
[null,null,null,null,null,null,null,null,null,null,null,null,0,0,0,0,0,0,0,0,0,0]
[null,null,null,null,null,null,null,null,null,null,null,null,0,0,0,0,0,0,0,0,0,0]
[null,null,null,null,null,null,null,null,null,null,null,null,0,0,0,0,0,0,0,0,0,0]
[null,null,null,null,null,null,null,null,null,null,null,null,0,0,0,0,0,0,0,0,0,0]
[null,null,null,null,null,null,null,null,null,null,null,null,0,0,0,0,0,0,0,0,0,0]
[null,null,null,null,null,null,null,null,null,null,null,null,0,0,0,0,0,0,0,0,0,0]
[null,null,null,null,null,null,null,null,null,null,null,null,0,0,0,0,0,0,0,0,0,0]
[null,null,null,null,null,null,null,null,null,null,null,null,0,0,0,0,0,0,0,0,0,0]
[null,null,null,null,null,null,null,null,null,null,null,null,0,0,0,0,0,0,0,0,0,0]
[null,null,null,null,null,null,null,null,null,null,null,null,0,0,0,0,0,0,0,0,0,0]
[null,null,null,null,null,null,null,null,null,null,null,null,0,0,0,0,0,0,0,0,0,0]
[null,null,null,null,null,null,null,null,null,null,null,null,0,0,0,0,0,0,0,0,0,0]
[null,null,null,null,null,null,null,null,null,null,null,null,0,0,0,0,0,0,0,0,0,0]
[null,null,null,null,null,null,null,null,null,null,null,null,0,0,0,0,0,0,0,0,0,0]
[null,null,null,null,null,null,null,null,null,null,null,null,0,0,0,0,0,0,0,0,0,0]
[null,null,null,null,null,null,null,null,null,null,null,null,0,0,0,0,0,0,0,0,0,0]
[null,null,null,null,null,null,null,null,null,null,null,null,0,0,0,0,0,0,0,0,0,0]
[null,null,null,null,null,null,null,null,null,null,null,null,0,0,0,0,0,0,0,0,0,0]
[null,null,null,null,null,null,null,null,null,null,null,null,0,0,0,0,0,0,0,0,0,0]
[null,null,null,null,null,null,null,null,null,null,null,null,0,0,0,0,0,0,0,0,0,0]
[null,null,null,null,null,null,null,null,null,null,null,null,0,0,0,0,0,0,0,0,0,0]
[null,null,null,null,null,null,null,null,null,null,null,null,{"$f":"IF((B326+B327)>0,MAX(1,ROUNDUP(($A327-$A326)*((B326+B327)/2)/27,0)),ROUNDUP(($A327-$A326)*((B326+B327)/2)/27,0))","v":0},{"$f":"IF((C326+C327)>0,MAX(1,ROUNDUP(($A327-$A326)*((C326+C327)/2)/27,0)),ROUNDUP(($A327-$A326)*((C326+C327)/2)/27,0))","v":0},{"$f":"IF((D326+D327)>0,MAX(1,ROUNDUP(($A327-$A326)*((D326+D327)/2)/27,0)),ROUNDUP(($A327-$A326)*((D326+D327)/2)/27,0))","v":0},{"$f":"IF((E326+E327)>0,MAX(1,ROUNDUP(($A327-$A326)*((E326+E327)/2)/27,0)),ROUNDUP(($A327-$A326)*((E326+E327)/2)/27,0))","v":0},{"$f":"IF((F326+F327)>0,MAX(1,ROUNDUP(($A327-$A326)*((F326+F327)/2)/27,0)),ROUNDUP(($A327-$A326)*((F326+F327)/2)/27,0))","v":0},{"$f":"IF((G326+G327)>0,MAX(1,ROUNDUP(($A327-$A326)*((G326+G327)/2)/27,0)),ROUNDUP(($A327-$A326)*((G326+G327)/2)/27,0))","v":0},{"$f":"IF((H326+H327)>0,MAX(1,ROUNDUP(($A327-$A326)*((H326+H327)/2)/27,0)),ROUNDUP(($A327-$A326)*((H326+H327)/2)/27,0))","v":0},{"$f":"IF((I326+I327)>0,MAX(1,ROUNDUP(($A327-$A326)*((I326+I327)/2)/27,0)),ROUNDUP(($A327-$A326)*((I326+I327)/2)/27,0))","v":0},{"$f":"IF((J326+J327)>0,MAX(1,ROUNDUP(($A327-$A326)*((J326+J327)/2)/27,0)),ROUNDUP(($A327-$A326)*((J326+J327)/2)/27,0))","v":0},0]
[null,null,null,null,null,null,null,null,null,null,null,null,0,0,0,0,0,0,0,0,0,0]
[null,null,null,null,null,null,null,null,null,null,null,null,0,0,0,0,0,0,0,0,0,0]
[null,null,null,null,null,null,null,null,null,null,null,null,0,0,0,0,0,0,0,0,0,0]
[null,null,null,null,null,null,null,null,null,null,null,null,0,0,0,0,0,0,0,0,0,0]
[null,null,null,null,null,null,null,null,null,null,null,null,0,0,0,0,0,0,0,0,0,0]
[null,null,null,null,null,null,null,null,null,null,null,null,0,0,0,0,0,0,0,0,0,0]
[null,null,null,null,null,null,null,null,null,null,null,null,0,0,0,0,0,0,0,0,0,0]
[null,null,null,null,null,null,null,null,null,null,null,null,0,0,0,0,0,0,0,0,0,0]
[null,null,null,null,null,null,null,null,null,null,null,null,0,0,0,0,0,0,0,0,0,0]
[null,null,null,null,null,null,null,null,null,null,null,null,0,0,0,0,0,0,0,0,0,0]
[null,null,null,null,null,null,null,null,null,null,null,null,0,0,0,0,0,0,0,0,0,0]
[null,null,null,null,null,null,null,null,null,null,null,null,0,0,0,0,0,0,0,0,0,0]
[null,null,null,null,null,null,null,null,null,null,null,null,0,0,0,0,0,0,0,0,0,0]
[null,null,null,null,null,null,null,null,null,null,null,null,0,0,0,0,0,0,0,0,0,0]
[null,null,null,null,null,null,null,null,null,null,null,null,0,0,0,0,0,0,0,0,0,0]
[null,null,null,null,null,null,null,null,null,null,null,null,0,0,0,0,0,0,0,0,0,0]
[null,null,null,null,null,null,null,null,null,null,null,null,0,0,0,0,0,0,0,0,0,0]
[null,null,null,null,null,null,null,null,null,null,null,null,0,0,0,0,0,0,0,0,0,0]
[null,null,null,null,null,null,null,null,null,null,null,null,0,0,0,0,0,0,0,0,0,0]
[null,null,null,null,null,null,null,null,null,null,null,null,0,0,0,0,0,0,0,0,0,0]
[null,null,null,null,null,null,null,null,null,null,null,null,0,0,0,0,0,0,0,0,0,0]
[null,null,null,null,null,null,null,null,null,null,null,null,0,0,0,0,0,0,0,0,0,0]
[null,null,null,null,null,null,null,null,null,null,null,null,0,0,0,0,0,0,0,0,0,0]
[null,null,null,null,null,null,null,null,null,null,null,null,0,0,0,0,0,0,0,0,0,0]
[null,null,null,null,null,null,null,null,null,null,null,null,0,0,0,0,0,0,0,0,0,0]
[null,null,null,null,null,null,null,null,null,null,null,null,0,0,0,0,0,0,0,0,0,0]
[null,null,null,null,null,null,null,null,null,null,null,null,0,0,0,0,0,0,0,0,0,0]
[null,null,null,null,null,null,null,null,null,null,null,null,0,0,0,0,0,0,0,0,0,0]
[null,null,null,null,null,null,null,null,null,null,null,null,0,0,0,0,0,0,0,0,0,0]
[null,null,null,null,null,null,null,null,null,null,null,null,0,0,0,0,0,0,0,0,0,0]
[null,null,null,null,null,null,null,null,null,null,null,null,0,0,0,0,0,0,0,0,0,0]
[null,null,null,null,null,null,null,null,null,null,null,null,0,0,0,0,0,0,0,0,0,0]
[null,null,null,null,null,null,null,null,null,null,null,null,0,0,0,0,0,0,0,0,0,0]
[null,null,null,null,null,null,null,null,null,null,null,null,0,0,0,0,0,0,0,0,0,0]
[null,null,null,null,null,null,null,null,null,null,null,null,0,0,0,0,0,0,0,0,0,0]
[null,null,null,null,null,null,null,null,null,null,null,null,0,0,0,0,0,0,0,0,0,0]
[null,null,null,null,null,null,null,null,null,null,null,null,0,0,0,0,0,0,0,0,0,0]
[null,null,null,null,null,null,null,null,null,null,null,null,0,0,0,0,0,0,0,0,0,0]
[null,null,null,null,null,null,null,null,null,null,null,null,0,0,0,0,0,0,0,0,0,0]
[null,null,null,null,null,null,null,null,null,null,null,null,0,0,0,0,0,0,0,0,0,0]
[null,null,null,null,null,null,null,null,null,null,null,null,0,0,0,0,0,0,0,0,0,0]
[null,null,null,null,null,null,null,null,null,null,null,null,0,0,0,0,0,0,0,0,0,0]
[null,null,null,null,null,null,null,null,null,null,null,null,0,0,0,0,0,0,0,0,0,0]
[null,null,null,null,null,null,null,null,null,null,null,null,0,0,0,0,0,0,0,0,0,0]
[null,null,null,null,null,null,null,null,null,null,null,null,0,0,0,0,0,0,0,0,0,0]
[null,null,null,null,null,null,null,null,null,null,null,null,0,0,0,0,0,0,0,0,0,0]
[null,null,null,null,null,null,null,null,null,null,null,null,0,0,0,0,0,0,0,0,0,0]
[null,null,null,null,null,null,null,null,null,null,null,null,0,0,0,0,0,0,0,0,0,0]
[null,null,null,null,null,null,null,null,null,null,null,null,0,0,0,0,0,0,0,0,0,0]
[null,null,null,null,null,null,null,null,null,null,null,null,0,0,0,0,0,0,0,0,0,0]
[null,null,null,null,null,null,null,null,null,null,null,null,0,0,0,0,0,0,0,0,0,0]
[null,null,null,null,null,null,null,null,null,null,null,null,0,0,0,0,0,0,0,0,0,0]
[null,null,null,null,null,null,null,null,null,null,null,null,0,0,0,0,0,0,0,0,0,0]
[null,null,null,null,null,null,null,null,null,null,null,null,0,0,0,0,0,0,0,0,0,0]
[null,null,null,null,null,null,null,null,null,null,null,null,0,0,0,0,0,0,0,0,0,0]
[null,null,null,null,null,null,null,null,null,null,null,null,0,0,0,0,0,0,0,0,0,0]
[null,null,null,null,null,null,null,null,null,null,null,null,0,0,0,0,0,0,0,0,0,0]
[null,null,null,null,null,null,null,null,null,null,null,null,0,0,0,0,0,0,0,0,0,0]
[null,null,null,null,null,null,null,null,null,null,null,null,0,0,0,0,0,0,0,0,0,0]
[null,null,null,null,null,null,null,null,null,null,null,null,0,0,0,0,0,0,0,0,0,0]
[null,null,null,null,null,null,null,null,null,null,null,null,0,0,0,0,0,0,0,0,0,0]
[null,null,null,null,null,null,null,null,null,null,null,null,0,0,0,0,0,0,0,0,0,0]
[null,null,null,null,null,null,null,null,null,null,null,null,0,0,0,0,0,0,0,0,0,0]
[null,null,null,null,null,null,null,null,null,null,null,null,{"$f":"IF((B390+B391)>0,MAX(1,ROUNDUP(($A391-$A390)*((B390+B391)/2)/27,0)),ROUNDUP(($A391-$A390)*((B390+B391)/2)/27,0))","v":0},{"$f":"IF((C390+C391)>0,MAX(1,ROUNDUP(($A391-$A390)*((C390+C391)/2)/27,0)),ROUNDUP(($A391-$A390)*((C390+C391)/2)/27,0))","v":0},{"$f":"IF((D390+D391)>0,MAX(1,ROUNDUP(($A391-$A390)*((D390+D391)/2)/27,0)),ROUNDUP(($A391-$A390)*((D390+D391)/2)/27,0))","v":0},{"$f":"IF((E390+E391)>0,MAX(1,ROUNDUP(($A391-$A390)*((E390+E391)/2)/27,0)),ROUNDUP(($A391-$A390)*((E390+E391)/2)/27,0))","v":0},{"$f":"IF((F390+F391)>0,MAX(1,ROUNDUP(($A391-$A390)*((F390+F391)/2)/27,0)),ROUNDUP(($A391-$A390)*((F390+F391)/2)/27,0))","v":0},{"$f":"IF((G390+G391)>0,MAX(1,ROUNDUP(($A391-$A390)*((G390+G391)/2)/27,0)),ROUNDUP(($A391-$A390)*((G390+G391)/2)/27,0))","v":0},{"$f":"IF((H390+H391)>0,MAX(1,ROUNDUP(($A391-$A390)*((H390+H391)/2)/27,0)),ROUNDUP(($A391-$A390)*((H390+H391)/2)/27,0))","v":0},{"$f":"IF((I390+I391)>0,MAX(1,ROUNDUP(($A391-$A390)*((I390+I391)/2)/27,0)),ROUNDUP(($A391-$A390)*((I390+I391)/2)/27,0))","v":0},{"$f":"IF((J390+J391)>0,MAX(1,ROUNDUP(($A391-$A390)*((J390+J391)/2)/27,0)),ROUNDUP(($A391-$A390)*((J390+J391)/2)/27,0))","v":0},0]
[null,null,null,null,null,null,null,null,null,null,null,null,0,0,0,0,0,0,0,0,0,0]
[null,null,null,null,null,null,null,null,null,null,null,null,0,0,0,0,0,0,0,0,0,0]
[null,null,null,null,null,null,null,null,null,null,null,null,0,0,0,0,0,0,0,0,0,0]
[null,null,null,null,null,null,null,null,null,null,null,null,0,0,0,0,0,0,0,0,0,0]
[null,null,null,null,null,null,null,null,null,null,null,null,0,0,0,0,0,0,0,0,0,0]
[null,null,null,null,null,null,null,null,null,null,null,null,0,0,0,0,0,0,0,0,0,0]
[null,null,null,null,null,null,null,null,null,null,null,null,0,0,0,0,0,0,0,0,0,0]
[null,null,null,null,null,null,null,null,null,null,null,null,0,0,0,0,0,0,0,0,0,0]
[null,null,null,null,null,null,null,null,null,null,null,null,0,0,0,0,0,0,0,0,0,0]
[null,null,null,null,null,null,null,null,null,null,null,null,0,0,0,0,0,0,0,0,0,0]
[null,null,null,null,null,null,null,null,null,null,null,null,0,0,0,0,0,0,0,0,0,0]
[null,null,null,null,null,null,null,null,null,null,null,null,0,0,0,0,0,0,0,0,0,0]
[null,null,null,null,null,null,null,null,null,null,null,null,0,0,0,0,0,0,0,0,0,0]
[null,null,null,null,null,null,null,null,null,null,null,null,0,0,0,0,0,0,0,0,0,0]
[null,null,null,null,null,null,null,null,null,null,null,null,0,0,0,0,0,0,0,0,0,0]
[null,null,null,null,null,null,null,null,null,null,null,null,0,0,0,0,0,0,0,0,0,0]
[null,null,null,null,null,null,null,null,null,null,null,null,0,0,0,0,0,0,0,0,0,0]
[null,null,null,null,null,null,null,null,null,null,null,null,0,0,0,0,0,0,0,0,0,0]
[null,null,null,null,null,null,null,null,null,null,null,null,0,0,0,0,0,0,0,0,0,0]
[null,null,null,null,null,null,null,null,null,null,null,null,0,0,0,0,0,0,0,0,0,0]
[null,null,null,null,null,null,null,null,null,null,null,null,0,0,0,0,0,0,0,0,0,0]
[null,null,null,null,null,null,null,null,null,null,null,null,0,0,0,0,0,0,0,0,0,0]
[null,null,null,null,null,null,null,null,null,null,null,null,0,0,0,0,0,0,0,0,0,0]
[null,null,null,null,null,null,null,null,null,null,null,null,0,0,0,0,0,0,0,0,0,0]
[null,null,null,null,null,null,null,null,null,null,null,null,0,0,0,0,0,0,0,0,0,0]
[null,null,null,null,null,null,null,null,null,null,null,null,0,0,0,0,0,0,0,0,0,0]
[null,null,null,null,null,null,null,null,null,null,null,null,0,0,0,0,0,0,0,0,0,0]
[null,null,null,null,null,null,null,null,null,null,null,null,0,0,0,0,0,0,0,0,0,0]
[null,null,null,null,null,null,null,null,null,null,null,null,0,0,0,0,0,0,0,0,0,0]
[null,null,null,null,null,null,null,null,null,null,null,null,0,0,0,0,0,0,0,0,0,0]
[null,null,null,null,null,null,null,null,null,null,null,null,0,0,0,0,0,0,0,0,0,0]
[null,null,null,null,null,null,null,null,null,null,null,null,0,0,0,0,0,0,0,0,0,0]
[null,null,null,null,null,null,null,null,null,null,null,null,0,0,0,0,0,0,0,0,0,0]
[null,null,null,null,null,null,null,null,null,null,null,null,0,0,0,0,0,0,0,0,0,0]
[null,null,null,null,null,null,null,null,null,null,null,null,0,0,0,0,0,0,0,0,0,0]
[null,null,null,null,null,null,null,null,null,null,null,null,0,0,0,0,0,0,0,0,0,0]
[null,null,null,null,null,null,null,null,null,null,null,null,0,0,0,0,0,0,0,0,0,0]
[null,null,null,null,null,null,null,null,null,null,null,null,0,0,0,0,0,0,0,0,0,0]
[null,null,null,null,null,null,null,null,null,null,null,null,0,0,0,0,0,0,0,0,0,0]
[null,null,null,null,null,null,null,null,null,null,null,null,0,0,0,0,0,0,0,0,0,0]
[null,null,null,null,null,null,null,null,null,null,null,null,0,0,0,0,0,0,0,0,0,0]
[null,null,null,null,null,null,null,null,null,null,null,null,0,0,0,0,0,0,0,0,0,0]
[null,null,null,null,null,null,null,null,null,null,null,null,0,0,0,0,0,0,0,0,0,0]
[null,null,null,null,null,null,null,null,null,null,null,null,0,0,0,0,0,0,0,0,0,0]
[null,null,null,null,null,null,null,null,null,null,null,null,0,0,0,0,0,0,0,0,0,0]
[null,null,null,null,null,null,null,null,null,null,null,null,0,0,0,0,0,0,0,0,0,0]
[null,null,null,null,null,null,null,null,null,null,null,null,0,0,0,0,0,0,0,0,0,0]
[null,null,null,null,null,null,null,null,null,null,null,null,0,0,0,0,0,0,0,0,0,0]
[null,null,null,null,null,null,null,null,null,null,null,null,0,0,0,0,0,0,0,0,0,0]
[null,null,null,null,null,null,null,null,null,null,null,null,0,0,0,0,0,0,0,0,0,0]
[null,null,null,null,null,null,null,null,null,null,null,null,0,0,0,0,0,0,0,0,0,0]
[null,null,null,null,null,null,null,null,null,null,null,null,0,0,0,0,0,0,0,0,0,0]
[null,null,null,null,null,null,null,null,null,null,null,null,0,0,0,0,0,0,0,0,0,0]
[null,null,null,null,null,null,null,null,null,null,null,null,0,0,0,0,0,0,0,0,0,0]
[null,null,null,null,null,null,null,null,null,null,null,null,0,0,0,0,0,0,0,0,0,0]
[null,null,null,null,null,null,null,null,null,null,null,null,0,0,0,0,0,0,0,0,0,0]
[null,null,null,null,null,null,null,null,null,null,null,null,0,0,0,0,0,0,0,0,0,0]
[null,null,null,null,null,null,null,null,null,null,null,null,0,0,0,0,0,0,0,0,0,0]
[null,null,null,null,null,null,null,null,null,null,null,null,0,0,0,0,0,0,0,0,0,0]
[null,null,null,null,null,null,null,null,null,null,null,null,0,0,0,0,0,0,0,0,0,0]
[null,null,null,null,null,null,null,null,null,null,null,null,0,0,0,0,0,0,0,0,0,0]
[null,null,null,null,null,null,null,null,null,null,null,null,0,0,0,0,0,0,0,0,0,0]
[null,null,null,null,null,null,null,null,null,null,null,null,0,0,0,0,0,0,0,0,0,0]
[null,null,null,null,null,null,null,null,null,null,null,null,{"$f":"IF((B454+B455)>0,MAX(1,ROUNDUP(($A455-$A454)*((B454+B455)/2)/27,0)),ROUNDUP(($A455-$A454)*((B454+B455)/2)/27,0))","v":0},{"$f":"IF((C454+C455)>0,MAX(1,ROUNDUP(($A455-$A454)*((C454+C455)/2)/27,0)),ROUNDUP(($A455-$A454)*((C454+C455)/2)/27,0))","v":0},{"$f":"IF((D454+D455)>0,MAX(1,ROUNDUP(($A455-$A454)*((D454+D455)/2)/27,0)),ROUNDUP(($A455-$A454)*((D454+D455)/2)/27,0))","v":0},{"$f":"IF((E454+E455)>0,MAX(1,ROUNDUP(($A455-$A454)*((E454+E455)/2)/27,0)),ROUNDUP(($A455-$A454)*((E454+E455)/2)/27,0))","v":0},{"$f":"IF((F454+F455)>0,MAX(1,ROUNDUP(($A455-$A454)*((F454+F455)/2)/27,0)),ROUNDUP(($A455-$A454)*((F454+F455)/2)/27,0))","v":0},{"$f":"IF((G454+G455)>0,MAX(1,ROUNDUP(($A455-$A454)*((G454+G455)/2)/27,0)),ROUNDUP(($A455-$A454)*((G454+G455)/2)/27,0))","v":0},{"$f":"IF((H454+H455)>0,MAX(1,ROUNDUP(($A455-$A454)*((H454+H455)/2)/27,0)),ROUNDUP(($A455-$A454)*((H454+H455)/2)/27,0))","v":0},{"$f":"IF((I454+I455)>0,MAX(1,ROUNDUP(($A455-$A454)*((I454+I455)/2)/27,0)),ROUNDUP(($A455-$A454)*((I454+I455)/2)/27,0))","v":0},{"$f":"IF((J454+J455)>0,MAX(1,ROUNDUP(($A455-$A454)*((J454+J455)/2)/27,0)),ROUNDUP(($A455-$A454)*((J454+J455)/2)/27,0))","v":0},0]
[null,null,null,null,null,null,null,null,null,null,null,null,0,0,0,0,0,0,0,0,0,0]
[null,null,null,null,null,null,null,null,null,null,null,null,0,0,0,0,0,0,0,0,0,0]
[null,null,null,null,null,null,null,null,null,null,null,null,0,0,0,0,0,0,0,0,0,0]
[null,null,null,null,null,null,null,null,null,null,null,null,0,0,0,0,0,0,0,0,0,0]
[null,null,null,null,null,null,null,null,null,null,null,null,0,0,0,0,0,0,0,0,0,0]
[null,null,null,null,null,null,null,null,null,null,null,null,0,0,0,0,0,0,0,0,0,0]
[null,null,null,null,null,null,null,null,null,null,null,null,0,0,0,0,0,0,0,0,0,0]
[null,null,null,null,null,null,null,null,null,null,null,null,0,0,0,0,0,0,0,0,0,0]
[null,null,null,null,null,null,null,null,null,null,null,null,0,0,0,0,0,0,0,0,0,0]
[null,null,null,null,null,null,null,null,null,null,null,null,0,0,0,0,0,0,0,0,0,0]
[null,null,null,null,null,null,null,null,null,null,null,null,0,0,0,0,0,0,0,0,0,0]
[null,null,null,null,null,null,null,null,null,null,null,null,0,0,0,0,0,0,0,0,0,0]
[null,null,null,null,null,null,null,null,null,null,null,null,0,0,0,0,0,0,0,0,0,0]
[null,null,null,null,null,null,null,null,null,null,null,null,0,0,0,0,0,0,0,0,0,0]
[null,null,null,null,null,null,null,null,null,null,null,null,0,0,0,0,0,0,0,0,0,0]
[null,null,null,null,null,null,null,null,null,null,null,null,0,0,0,0,0,0,0,0,0,0]
[null,null,null,null,null,null,null,null,null,null,null,null,0,0,0,0,0,0,0,0,0,0]
[null,null,null,null,null,null,null,null,null,null,null,null,0,0,0,0,0,0,0,0,0,0]
[null,null,null,null,null,null,null,null,null,null,null,null,0,0,0,0,0,0,0,0,0,0]
[null,null,null,null,null,null,null,null,null,null,null,null,0,0,0,0,0,0,0,0,0,0]
[null,null,null,null,null,null,null,null,null,null,null,null,0,0,0,0,0,0,0,0,0,0]
[null,null,null,null,null,null,null,null,null,null,null,null,0,0,0,0,0,0,0,0,0,0]
[null,null,null,null,null,null,null,null,null,null,null,null,0,0,0,0,0,0,0,0,0,0]
[null,null,null,null,null,null,null,null,null,null,null,null,0,0,0,0,0,0,0,0,0,0]
[null,null,null,null,null,null,null,null,null,null,null,null,0,0,0,0,0,0,0,0,0,0]
[null,null,null,null,null,null,null,null,null,null,null,null,0,0,0,0,0,0,0,0,0,0]
[null,null,null,null,null,null,null,null,null,null,null,null,0,0,0,0,0,0,0,0,0,0]
[null,null,null,null,null,null,null,null,null,null,null,null,0,0,0,0,0,0,0,0,0,0]
[null,null,null,null,null,null,null,null,null,null,null,null,0,0,0,0,0,0,0,0,0,0]
[null,null,null,null,null,null,null,null,null,null,null,null,0,0,0,0,0,0,0,0,0,0]
[null,null,null,null,null,null,null,null,null,null,null,null,0,0,0,0,0,0,0,0,0,0]
[null,null,null,null,null,null,null,null,null,null,null,null,0,0,0,0,0,0,0,0,0,0]
[null,null,null,null,null,null,null,null,null,null,null,null,0,0,0,0,0,0,0,0,0,0]
[null,null,null,null,null,null,null,null,null,null,null,null,0,0,0,0,0,0,0,0,0,0]
[null,null,null,null,null,null,null,null,null,null,null,null,0,0,0,0,0,0,0,0,0,0]
[null,null,null,null,null,null,null,null,null,null,null,null,0,0,0,0,0,0,0,0,0,0]
[null,null,null,null,null,null,null,null,null,null,null,null,0,0,0,0,0,0,0,0,0,0]
[null,null,null,null,null,null,null,null,null,null,null,null,0,0,0,0,0,0,0,0,0,0]
[null,null,null,null,null,null,null,null,null,null,null,null,0,0,0,0,0,0,0,0,0,0]
[null,null,null,null,null,null,null,null,null,null,null,null,0,0,0,0,0,0,0,0,0,0]
[null,null,null,null,null,null,null,null,null,null,null,null,0,0,0,0,0,0,0,0,0,0]
[null,null,null,null,null,null,null,null,null,null,null,null,0,0,0,0,0,0,0,0,0,0]
[null,null,null,null,null,null,null,null,null,null,null,null,0,0,0,0,0,0,0,0,0,0]
[null,null,null,null,null,null,null,null,null,null,null,null,0,0,0,0,0,0,0,0,0,0]
[null,null,null,null,null,null,null,null,null,null,null,null,0,0,0,0,0,0,0,0,0,0]
[null,null,null,null,null,null,null,null,null,null,null,null,0,0,0,0,0,0,0,0,0,0]
[null,null,null,null,null,null,null,null,null,null,null,null,0,0,0,0,0,0,0,0,0,0]
[null,null,null,null,null,null,null,null,null,null,null,null,0,0,0,0,0,0,0,0,0,0]
[null,null,null,null,null,null,null,null,null,null,null,null,0,0,0,0,0,0,0,0,0,0]
[null,null,null,null,null,null,null,null,null,null,null,null,0,0,0,0,0,0,0,0,0,0]
[null,null,null,null,null,null,null,null,null,null,null,null,0,0,0,0,0,0,0,0,0,0]
[null,null,null,null,null,null,null,null,null,null,null,null,0,0,0,0,0,0,0,0,0,0]
[null,null,null,null,null,null,null,null,null,null,null,null,0,0,0,0,0,0,0,0,0,0]
[null,null,null,null,null,null,null,null,null,null,null,null,0,0,0,0,0,0,0,0,0,0]
[null,null,null,null,null,null,null,null,null,null,null,null,0,0,0,0,0,0,0,0,0,0]
[null,null,null,null,null,null,null,null,null,null,null,null,0,0,0,0,0,0,0,0,0,0]
[null,null,null,null,null,null,null,null,null,null,null,null,0,0,0,0,0,0,0,0,0,0]
[null,null,null,null,null,null,null,null,null,null,null,null,0,0,0,0,0,0,0,0,0,0]
[null,null,null,null,null,null,null,null,null,null,null,null,0,0,0,0,0,0,0,0,0,0]
[null,null,null,null,null,null,null,null,null,null,null,null,0,0,0,0,0,0,0,0,0,0]
[null,null,null,null,null,null,null,null,null,null,null,null,0,0,0,0,0,0,0,0,0,0]
[null,null,null,null,null,null,null,null,null,null,null,null,0,0,0,0,0,0,0,0,0,0]
[null,null,null,null,null,null,null,null,null,null,null,null,0,0,0,0,0,0,0,0,0,0]
[null,null,null,null,null,null,null,null,null,null,null,null,{"$f":"IF((B518+B519)>0,MAX(1,ROUNDUP(($A519-$A518)*((B518+B519)/2)/27,0)),ROUNDUP(($A519-$A518)*((B518+B519)/2)/27,0))","v":0},{"$f":"IF((C518+C519)>0,MAX(1,ROUNDUP(($A519-$A518)*((C518+C519)/2)/27,0)),ROUNDUP(($A519-$A518)*((C518+C519)/2)/27,0))","v":0},{"$f":"IF((D518+D519)>0,MAX(1,ROUNDUP(($A519-$A518)*((D518+D519)/2)/27,0)),ROUNDUP(($A519-$A518)*((D518+D519)/2)/27,0))","v":0},{"$f":"IF((E518+E519)>0,MAX(1,ROUNDUP(($A519-$A518)*((E518+E519)/2)/27,0)),ROUNDUP(($A519-$A518)*((E518+E519)/2)/27,0))","v":0},{"$f":"IF((F518+F519)>0,MAX(1,ROUNDUP(($A519-$A518)*((F518+F519)/2)/27,0)),ROUNDUP(($A519-$A518)*((F518+F519)/2)/27,0))","v":0},{"$f":"IF((G518+G519)>0,MAX(1,ROUNDUP(($A519-$A518)*((G518+G519)/2)/27,0)),ROUNDUP(($A519-$A518)*((G518+G519)/2)/27,0))","v":0},{"$f":"IF((H518+H519)>0,MAX(1,ROUNDUP(($A519-$A518)*((H518+H519)/2)/27,0)),ROUNDUP(($A519-$A518)*((H518+H519)/2)/27,0))","v":0},{"$f":"IF((I518+I519)>0,MAX(1,ROUNDUP(($A519-$A518)*((I518+I519)/2)/27,0)),ROUNDUP(($A519-$A518)*((I518+I519)/2)/27,0))","v":0},{"$f":"IF((J518+J519)>0,MAX(1,ROUNDUP(($A519-$A518)*((J518+J519)/2)/27,0)),ROUNDUP(($A519-$A518)*((J518+J519)/2)/27,0))","v":0},0]
[null,null,null,null,null,null,null,null,null,null,null,null,0,0,0,0,0,0,0,0,0,0]
[null,null,null,null,null,null,null,null,null,null,null,null,0,0,0,0,0,0,0,0,0,0]
[null,null,null,null,null,null,null,null,null,null,null,null,0,0,0,0,0,0,0,0,0,0]
[null,null,null,null,null,null,null,null,null,null,null,null,0,0,0,0,0,0,0,0,0,0]
[null,null,null,null,null,null,null,null,null,null,null,null,0,0,0,0,0,0,0,0,0,0]
[null,null,null,null,null,null,null,null,null,null,null,null,0,0,0,0,0,0,0,0,0,0]
[null,null,null,null,null,null,null,null,null,null,null,null,0,0,0,0,0,0,0,0,0,0]
[null,null,null,null,null,null,null,null,null,null,null,null,0,0,0,0,0,0,0,0,0,0]
[null,null,null,null,null,null,null,null,null,null,null,null,0,0,0,0,0,0,0,0,0,0]
[null,null,null,null,null,null,null,null,null,null,null,null,0,0,0,0,0,0,0,0,0,0]
[null,null,null,null,null,null,null,null,null,null,null,null,0,0,0,0,0,0,0,0,0,0]
[null,null,null,null,null,null,null,null,null,null,null,null,0,0,0,0,0,0,0,0,0,0]
[null,null,null,null,null,null,null,null,null,null,null,null,0,0,0,0,0,0,0,0,0,0]
[null,null,null,null,null,null,null,null,null,null,null,null,0,0,0,0,0,0,0,0,0,0]
[null,null,null,null,null,null,null,null,null,null,null,null,0,0,0,0,0,0,0,0,0,0]
[null,null,null,null,null,null,null,null,null,null,null,null,0,0,0,0,0,0,0,0,0,0]
[null,null,null,null,null,null,null,null,null,null,null,null,0,0,0,0,0,0,0,0,0,0]
[null,null,null,null,null,null,null,null,null,null,null,null,0,0,0,0,0,0,0,0,0,0]
[null,null,null,null,null,null,null,null,null,null,null,null,0,0,0,0,0,0,0,0,0,0]
[null,null,null,null,null,null,null,null,null,null,null,null,0,0,0,0,0,0,0,0,0,0]
[null,null,null,null,null,null,null,null,null,null,null,null,0,0,0,0,0,0,0,0,0,0]
[null,null,null,null,null,null,null,null,null,null,null,null,0,0,0,0,0,0,0,0,0,0]
[null,null,null,null,null,null,null,null,null,null,null,null,0,0,0,0,0,0,0,0,0,0]
[null,null,null,null,null,null,null,null,null,null,null,null,0,0,0,0,0,0,0,0,0,0]
[null,null,null,null,null,null,null,null,null,null,null,null,0,0,0,0,0,0,0,0,0,0]
[null,null,null,null,null,null,null,null,null,null,null,null,0,0,0,0,0,0,0,0,0,0]
[null,null,null,null,null,null,null,null,null,null,null,null,0,0,0,0,0,0,0,0,0,0]
[null,null,null,null,null,null,null,null,null,null,null,null,0,0,0,0,0,0,0,0,0,0]
[null,null,null,null,null,null,null,null,null,null,null,null,0,0,0,0,0,0,0,0,0,0]
[null,null,null,null,null,null,null,null,null,null,null,null,0,0,0,0,0,0,0,0,0,0]
[null,null,null,null,null,null,null,null,null,null,null,null,0,0,0,0,0,0,0,0,0,0]
[null,null,null,null,null,null,null,null,null,null,null,null,0,0,0,0,0,0,0,0,0,0]
[null,null,null,null,null,null,null,null,null,null,null,null,0,0,0,0,0,0,0,0,0,0]
[null,null,null,null,null,null,null,null,null,null,null,null,0,0,0,0,0,0,0,0,0,0]
[null,null,null,null,null,null,null,null,null,null,null,null,0,0,0,0,0,0,0,0,0,0]
[null,null,null,null,null,null,null,null,null,null,null,null,0,0,0,0,0,0,0,0,0,0]
[null,null,null,null,null,null,null,null,null,null,null,null,0,0,0,0,0,0,0,0,0,0]
[null,null,null,null,null,null,null,null,null,null,null,null,0,0,0,0,0,0,0,0,0,0]
[null,null,null,null,null,null,null,null,null,null,null,null,0,0,0,0,0,0,0,0,0,0]
[null,null,null,null,null,null,null,null,null,null,null,null,0,0,0,0,0,0,0,0,0,0]
[null,null,null,null,null,null,null,null,null,null,null,null,0,0,0,0,0,0,0,0,0,0]
[null,null,null,null,null,null,null,null,null,null,null,null,0,0,0,0,0,0,0,0,0,0]
[null,null,null,null,null,null,null,null,null,null,null,null,0,0,0,0,0,0,0,0,0,0]
[null,null,null,null,null,null,null,null,null,null,null,null,0,0,0,0,0,0,0,0,0,0]
[null,null,null,null,null,null,null,null,null,null,null,null,0,0,0,0,0,0,0,0,0,0]
[null,null,null,null,null,null,null,null,null,null,null,null,0,0,0,0,0,0,0,0,0,0]
[null,null,null,null,null,null,null,null,null,null,null,null,0,0,0,0,0,0,0,0,0,0]
[null,null,null,null,null,null,null,null,null,null,null,null,0,0,0,0,0,0,0,0,0,0]
[null,null,null,null,null,null,null,null,null,null,null,null,0,0,0,0,0,0,0,0,0,0]
[null,null,null,null,null,null,null,null,null,null,null,null,0,0,0,0,0,0,0,0,0,0]
[null,null,null,null,null,null,null,null,null,null,null,null,0,0,0,0,0,0,0,0,0,0]
[null,null,null,null,null,null,null,null,null,null,null,null,0,0,0,0,0,0,0,0,0,0]
[null,null,null,null,null,null,null,null,null,null,null,null,0,0,0,0,0,0,0,0,0,0]
[null,null,null,null,null,null,null,null,null,null,null,null,0,0,0,0,0,0,0,0,0,0]
[null,null,null,null,null,null,null,null,null,null,null,null,0,0,0,0,0,0,0,0,0,0]
[null,null,null,null,null,null,null,null,null,null,null,null,0,0,0,0,0,0,0,0,0,0]
[null,null,null,null,null,null,null,null,null,null,null,null,0,0,0,0,0,0,0,0,0,0]
[null,null,null,null,null,null,null,null,null,null,null,null,0,0,0,0,0,0,0,0,0,0]
[null,null,null,null,null,null,null,null,null,null,null,null,0,0,0,0,0,0,0,0,0,0]
[null,null,null,null,null,null,null,null,null,null,null,null,0,0,0,0,0,0,0,0,0,0]
[null,null,null,null,null,null,null,null,null,null,null,null,0,0,0,0,0,0,0,0,0,0]
[null,null,null,null,null,null,null,null,null,null,null,null,0,0,0,0,0,0,0,0,0,0]
[null,null,null,null,null,null,null,null,null,null,null,null,0,0,0,0,0,0,0,0,0,0]
[null,null,null,null,null,null,null,null,null,null,null,null,{"$f":"IF((B582+B583)>0,MAX(1,ROUNDUP(($A583-$A582)*((B582+B583)/2)/27,0)),ROUNDUP(($A583-$A582)*((B582+B583)/2)/27,0))","v":0},{"$f":"IF((C582+C583)>0,MAX(1,ROUNDUP(($A583-$A582)*((C582+C583)/2)/27,0)),ROUNDUP(($A583-$A582)*((C582+C583)/2)/27,0))","v":0},{"$f":"IF((D582+D583)>0,MAX(1,ROUNDUP(($A583-$A582)*((D582+D583)/2)/27,0)),ROUNDUP(($A583-$A582)*((D582+D583)/2)/27,0))","v":0},{"$f":"IF((E582+E583)>0,MAX(1,ROUNDUP(($A583-$A582)*((E582+E583)/2)/27,0)),ROUNDUP(($A583-$A582)*((E582+E583)/2)/27,0))","v":0},{"$f":"IF((F582+F583)>0,MAX(1,ROUNDUP(($A583-$A582)*((F582+F583)/2)/27,0)),ROUNDUP(($A583-$A582)*((F582+F583)/2)/27,0))","v":0},{"$f":"IF((G582+G583)>0,MAX(1,ROUNDUP(($A583-$A582)*((G582+G583)/2)/27,0)),ROUNDUP(($A583-$A582)*((G582+G583)/2)/27,0))","v":0},{"$f":"IF((H582+H583)>0,MAX(1,ROUNDUP(($A583-$A582)*((H582+H583)/2)/27,0)),ROUNDUP(($A583-$A582)*((H582+H583)/2)/27,0))","v":0},{"$f":"IF((I582+I583)>0,MAX(1,ROUNDUP(($A583-$A582)*((I582+I583)/2)/27,0)),ROUNDUP(($A583-$A582)*((I582+I583)/2)/27,0))","v":0},{"$f":"IF((J582+J583)>0,MAX(1,ROUNDUP(($A583-$A582)*((J582+J583)/2)/27,0)),ROUNDUP(($A583-$A582)*((J582+J583)/2)/27,0))","v":0},0]
[null,null,null,null,null,null,null,null,null,null,null,null,0,0,0,0,0,0,0,0,0,0]
[null,null,null,null,null,null,null,null,null,null,null,null,0,0,0,0,0,0,0,0,0,0]
[null,null,null,null,null,null,null,null,null,null,null,null,0,0,0,0,0,0,0,0,0,0]

{"sheet":"MAINLINE SHEET TOTALS","index":3,"n_rows":89,"n_cols":15,"rows_kept":89,"cut":false,"hidden":false,"merged":[]}
["Start Station",null,"End Station",null,null,"ROCK ROADBED","REFILL","EMB. BENCH","GRAN. EMB.","COM","EM","ROCK EXC.","DT LT","DT RT","LEVEL-WEDGE"]
[{"$f":"MAINLINE!A5","v":43521.22},{"$f":"_xlfn.IFNA(MATCH(A2,MAINLINE!$A$1:$A$586,0),\"\")","v":5},null,{"$f":"_xlfn.IFNA(MATCH(C2,MAINLINE!$A$1:$A$586,0),\"\")","v":""},null,{"$f":"IF(B2=\"\",\"\",IF(D2=\"\",\"\",SUM(INDIRECT(\"MAINLINE!M\"&$B2+1):INDIRECT(\"MAINLINE!M\"&$D2))))","v":""},{"$f":"IF(B2=\"\",\"\",IF(D2=\"\",\"\",SUM(INDIRECT(\"MAINLINE!N\"&$B2+1):INDIRECT(\"MAINLINE!N\"&$D2))))","v":""},{"$f":"IF(B2=\"\",\"\",IF(D2=\"\",\"\",SUM(INDIRECT(\"MAINLINE!O\"&$B2+1):INDIRECT(\"MAINLINE!O\"&$D2))))","v":""},{"$f":"IF(B2=\"\",\"\",IF(D2=\"\",\"\",SUM(INDIRECT(\"MAINLINE!P\"&$B2+1):INDIRECT(\"MAINLINE!P\"&$D2))))","v":""},{"$f":"IF(B2=\"\",\"\",IF(D2=\"\",\"\",SUM(INDIRECT(\"MAINLINE!Q\"&$B2+1):INDIRECT(\"MAINLINE!Q\"&$D2))))","v":""},{"$f":"IF(B2=\"\",\"\",IF(D2=\"\",\"\",SUM(INDIRECT(\"MAINLINE!R\"&$B2+1):INDIRECT(\"MAINLINE!R\"&$D2))))","v":""},{"$f":"IF(B2=\"\",\"\",IF(D2=\"\",\"\",SUM(INDIRECT(\"MAINLINE!S\"&$B2+1):INDIRECT(\"MAINLINE!S\"&$D2))))","v":""},{"$f":"IF(B2=\"\",\"\",IF(D2=\"\",\"\",SUM(INDIRECT(\"MAINLINE!T\"&$B2+1):INDIRECT(\"MAINLINE!T\"&$D2))))","v":""},{"$f":"IF(B2=\"\",\"\",IF(D2=\"\",\"\",SUM(INDIRECT(\"MAINLINE!U\"&$B2+1):INDIRECT(\"MAINLINE!U\"&$D2))))","v":""},{"$f":"IF(B2=\"\",\"\",IF(D2=\"\",\"\",SUM(INDIRECT(\"MAINLINE!V\"&$B2+1):INDIRECT(\"MAINLINE!V\"&$D2))))","v":""}]
[{"$f":"IF(C2=\"\",\"\",C2)","v":""},{"$f":"_xlfn.IFNA(MATCH(A3,MAINLINE!$A$1:$A$586,0),\"\")","v":""},null,{"$f":"_xlfn.IFNA(MATCH(C3,MAINLINE!$A$1:$A$586,0),\"\")","v":""},null,{"$f":"IF(B3=\"\",\"\",IF(D3=\"\",\"\",SUM(INDIRECT(\"MAINLINE!M\"&$B3+1):INDIRECT(\"MAINLINE!M\"&$D3))))","v":""},{"$f":"IF(B3=\"\",\"\",IF(D3=\"\",\"\",SUM(INDIRECT(\"MAINLINE!N\"&$B3+1):INDIRECT(\"MAINLINE!N\"&$D3))))","v":""},{"$f":"IF(B3=\"\",\"\",IF(D3=\"\",\"\",SUM(INDIRECT(\"MAINLINE!O\"&$B3+1):INDIRECT(\"MAINLINE!O\"&$D3))))","v":""},{"$f":"IF(B3=\"\",\"\",IF(D3=\"\",\"\",SUM(INDIRECT(\"MAINLINE!P\"&$B3+1):INDIRECT(\"MAINLINE!P\"&$D3))))","v":""},{"$f":"IF(B3=\"\",\"\",IF(D3=\"\",\"\",SUM(INDIRECT(\"MAINLINE!Q\"&$B3+1):INDIRECT(\"MAINLINE!Q\"&$D3))))","v":""},{"$f":"IF(B3=\"\",\"\",IF(D3=\"\",\"\",SUM(INDIRECT(\"MAINLINE!R\"&$B3+1):INDIRECT(\"MAINLINE!R\"&$D3))))","v":""},{"$f":"IF(B3=\"\",\"\",IF(D3=\"\",\"\",SUM(INDIRECT(\"MAINLINE!S\"&$B3+1):INDIRECT(\"MAINLINE!S\"&$D3))))","v":""},{"$f":"IF(B3=\"\",\"\",IF(D3=\"\",\"\",SUM(INDIRECT(\"MAINLINE!T\"&$B3+1):INDIRECT(\"MAINLINE!T\"&$D3))))","v":""},{"$f":"IF(B3=\"\",\"\",IF(D3=\"\",\"\",SUM(INDIRECT(\"MAINLINE!U\"&$B3+1):INDIRECT(\"MAINLINE!U\"&$D3))))","v":""},{"$f":"IF(B3=\"\",\"\",IF(D3=\"\",\"\",SUM(INDIRECT(\"MAINLINE!V\"&$B3+1):INDIRECT(\"MAINLINE!V\"&$D3))))","v":""}]
[{"$f":"IF(C3=\"\",\"\",C3)","v":""},{"$f":"_xlfn.IFNA(MATCH(A4,MAINLINE!$A$1:$A$586,0),\"\")","v":""},null,{"$f":"_xlfn.IFNA(MATCH(C4,MAINLINE!$A$1:$A$586,0),\"\")","v":""},null,{"$f":"IF(B4=\"\",\"\",IF(D4=\"\",\"\",SUM(INDIRECT(\"MAINLINE!M\"&$B4+1):INDIRECT(\"MAINLINE!M\"&$D4))))","v":""},{"$f":"IF(B4=\"\",\"\",IF(D4=\"\",\"\",SUM(INDIRECT(\"MAINLINE!N\"&$B4+1):INDIRECT(\"MAINLINE!N\"&$D4))))","v":""},{"$f":"IF(B4=\"\",\"\",IF(D4=\"\",\"\",SUM(INDIRECT(\"MAINLINE!O\"&$B4+1):INDIRECT(\"MAINLINE!O\"&$D4))))","v":""},{"$f":"IF(B4=\"\",\"\",IF(D4=\"\",\"\",SUM(INDIRECT(\"MAINLINE!P\"&$B4+1):INDIRECT(\"MAINLINE!P\"&$D4))))","v":""},{"$f":"IF(B4=\"\",\"\",IF(D4=\"\",\"\",SUM(INDIRECT(\"MAINLINE!Q\"&$B4+1):INDIRECT(\"MAINLINE!Q\"&$D4))))","v":""},{"$f":"IF(B4=\"\",\"\",IF(D4=\"\",\"\",SUM(INDIRECT(\"MAINLINE!R\"&$B4+1):INDIRECT(\"MAINLINE!R\"&$D4))))","v":""},{"$f":"IF(B4=\"\",\"\",IF(D4=\"\",\"\",SUM(INDIRECT(\"MAINLINE!S\"&$B4+1):INDIRECT(\"MAINLINE!S\"&$D4))))","v":""},{"$f":"IF(B4=\"\",\"\",IF(D4=\"\",\"\",SUM(INDIRECT(\"MAINLINE!T\"&$B4+1):INDIRECT(\"MAINLINE!T\"&$D4))))","v":""},{"$f":"IF(B4=\"\",\"\",IF(D4=\"\",\"\",SUM(INDIRECT(\"MAINLINE!U\"&$B4+1):INDIRECT(\"MAINLINE!U\"&$D4))))","v":""},{"$f":"IF(B4=\"\",\"\",IF(D4=\"\",\"\",SUM(INDIRECT(\"MAINLINE!V\"&$B4+1):INDIRECT(\"MAINLINE!V\"&$D4))))","v":""}]
["",{"$f":"_xlfn.IFNA(MATCH(A5,MAINLINE!$A$1:$A$586,0),\"\")","v":""},null,{"$f":"_xlfn.IFNA(MATCH(C5,MAINLINE!$A$1:$A$586,0),\"\")","v":""},null,{"$f":"IF(B5=\"\",\"\",IF(D5=\"\",\"\",SUM(INDIRECT(\"MAINLINE!M\"&$B5+1):INDIRECT(\"MAINLINE!M\"&$D5))))","v":""},{"$f":"IF(B5=\"\",\"\",IF(D5=\"\",\"\",SUM(INDIRECT(\"MAINLINE!N\"&$B5+1):INDIRECT(\"MAINLINE!N\"&$D5))))","v":""},{"$f":"IF(B5=\"\",\"\",IF(D5=\"\",\"\",SUM(INDIRECT(\"MAINLINE!O\"&$B5+1):INDIRECT(\"MAINLINE!O\"&$D5))))","v":""},{"$f":"IF(B5=\"\",\"\",IF(D5=\"\",\"\",SUM(INDIRECT(\"MAINLINE!P\"&$B5+1):INDIRECT(\"MAINLINE!P\"&$D5))))","v":""},{"$f":"IF(B5=\"\",\"\",IF(D5=\"\",\"\",SUM(INDIRECT(\"MAINLINE!Q\"&$B5+1):INDIRECT(\"MAINLINE!Q\"&$D5))))","v":""},{"$f":"IF(B5=\"\",\"\",IF(D5=\"\",\"\",SUM(INDIRECT(\"MAINLINE!R\"&$B5+1):INDIRECT(\"MAINLINE!R\"&$D5))))","v":""},{"$f":"IF(B5=\"\",\"\",IF(D5=\"\",\"\",SUM(INDIRECT(\"MAINLINE!S\"&$B5+1):INDIRECT(\"MAINLINE!S\"&$D5))))","v":""},{"$f":"IF(B5=\"\",\"\",IF(D5=\"\",\"\",SUM(INDIRECT(\"MAINLINE!T\"&$B5+1):INDIRECT(\"MAINLINE!T\"&$D5))))","v":""},{"$f":"IF(B5=\"\",\"\",IF(D5=\"\",\"\",SUM(INDIRECT(\"MAINLINE!U\"&$B5+1):INDIRECT(\"MAINLINE!U\"&$D5))))","v":""},{"$f":"IF(B5=\"\",\"\",IF(D5=\"\",\"\",SUM(INDIRECT(\"MAINLINE!V\"&$B5+1):INDIRECT(\"MAINLINE!V\"&$D5))))","v":""}]
["",{"$f":"_xlfn.IFNA(MATCH(A6,MAINLINE!$A$1:$A$586,0),\"\")","v":""},null,{"$f":"_xlfn.IFNA(MATCH(C6,MAINLINE!$A$1:$A$586,0),\"\")","v":""},null,{"$f":"IF(B6=\"\",\"\",IF(D6=\"\",\"\",SUM(INDIRECT(\"MAINLINE!M\"&$B6+1):INDIRECT(\"MAINLINE!M\"&$D6))))","v":""},{"$f":"IF(B6=\"\",\"\",IF(D6=\"\",\"\",SUM(INDIRECT(\"MAINLINE!N\"&$B6+1):INDIRECT(\"MAINLINE!N\"&$D6))))","v":""},{"$f":"IF(B6=\"\",\"\",IF(D6=\"\",\"\",SUM(INDIRECT(\"MAINLINE!O\"&$B6+1):INDIRECT(\"MAINLINE!O\"&$D6))))","v":""},{"$f":"IF(B6=\"\",\"\",IF(D6=\"\",\"\",SUM(INDIRECT(\"MAINLINE!P\"&$B6+1):INDIRECT(\"MAINLINE!P\"&$D6))))","v":""},{"$f":"IF(B6=\"\",\"\",IF(D6=\"\",\"\",SUM(INDIRECT(\"MAINLINE!Q\"&$B6+1):INDIRECT(\"MAINLINE!Q\"&$D6))))","v":""},{"$f":"IF(B6=\"\",\"\",IF(D6=\"\",\"\",SUM(INDIRECT(\"MAINLINE!R\"&$B6+1):INDIRECT(\"MAINLINE!R\"&$D6))))","v":""},{"$f":"IF(B6=\"\",\"\",IF(D6=\"\",\"\",SUM(INDIRECT(\"MAINLINE!S\"&$B6+1):INDIRECT(\"MAINLINE!S\"&$D6))))","v":""},{"$f":"IF(B6=\"\",\"\",IF(D6=\"\",\"\",SUM(INDIRECT(\"MAINLINE!T\"&$B6+1):INDIRECT(\"MAINLINE!T\"&$D6))))","v":""},{"$f":"IF(B6=\"\",\"\",IF(D6=\"\",\"\",SUM(INDIRECT(\"MAINLINE!U\"&$B6+1):INDIRECT(\"MAINLINE!U\"&$D6))))","v":""},{"$f":"IF(B6=\"\",\"\",IF(D6=\"\",\"\",SUM(INDIRECT(\"MAINLINE!V\"&$B6+1):INDIRECT(\"MAINLINE!V\"&$D6))))","v":""}]
["",{"$f":"_xlfn.IFNA(MATCH(A7,MAINLINE!$A$1:$A$586,0),\"\")","v":""},null,{"$f":"_xlfn.IFNA(MATCH(C7,MAINLINE!$A$1:$A$586,0),\"\")","v":""},null,{"$f":"IF(B7=\"\",\"\",IF(D7=\"\",\"\",SUM(INDIRECT(\"MAINLINE!M\"&$B7+1):INDIRECT(\"MAINLINE!M\"&$D7))))","v":""},{"$f":"IF(B7=\"\",\"\",IF(D7=\"\",\"\",SUM(INDIRECT(\"MAINLINE!N\"&$B7+1):INDIRECT(\"MAINLINE!N\"&$D7))))","v":""},{"$f":"IF(B7=\"\",\"\",IF(D7=\"\",\"\",SUM(INDIRECT(\"MAINLINE!O\"&$B7+1):INDIRECT(\"MAINLINE!O\"&$D7))))","v":""},{"$f":"IF(B7=\"\",\"\",IF(D7=\"\",\"\",SUM(INDIRECT(\"MAINLINE!P\"&$B7+1):INDIRECT(\"MAINLINE!P\"&$D7))))","v":""},{"$f":"IF(B7=\"\",\"\",IF(D7=\"\",\"\",SUM(INDIRECT(\"MAINLINE!Q\"&$B7+1):INDIRECT(\"MAINLINE!Q\"&$D7))))","v":""},{"$f":"IF(B7=\"\",\"\",IF(D7=\"\",\"\",SUM(INDIRECT(\"MAINLINE!R\"&$B7+1):INDIRECT(\"MAINLINE!R\"&$D7))))","v":""},{"$f":"IF(B7=\"\",\"\",IF(D7=\"\",\"\",SUM(INDIRECT(\"MAINLINE!S\"&$B7+1):INDIRECT(\"MAINLINE!S\"&$D7))))","v":""},{"$f":"IF(B7=\"\",\"\",IF(D7=\"\",\"\",SUM(INDIRECT(\"MAINLINE!T\"&$B7+1):INDIRECT(\"MAINLINE!T\"&$D7))))","v":""},{"$f":"IF(B7=\"\",\"\",IF(D7=\"\",\"\",SUM(INDIRECT(\"MAINLINE!U\"&$B7+1):INDIRECT(\"MAINLINE!U\"&$D7))))","v":""},{"$f":"IF(B7=\"\",\"\",IF(D7=\"\",\"\",SUM(INDIRECT(\"MAINLINE!V\"&$B7+1):INDIRECT(\"MAINLINE!V\"&$D7))))","v":""}]
["",{"$f":"_xlfn.IFNA(MATCH(A8,MAINLINE!$A$1:$A$586,0),\"\")","v":""},null,{"$f":"_xlfn.IFNA(MATCH(C8,MAINLINE!$A$1:$A$586,0),\"\")","v":""},null,{"$f":"IF(B8=\"\",\"\",IF(D8=\"\",\"\",SUM(INDIRECT(\"MAINLINE!M\"&$B8+1):INDIRECT(\"MAINLINE!M\"&$D8))))","v":""},{"$f":"IF(B8=\"\",\"\",IF(D8=\"\",\"\",SUM(INDIRECT(\"MAINLINE!N\"&$B8+1):INDIRECT(\"MAINLINE!N\"&$D8))))","v":""},{"$f":"IF(B8=\"\",\"\",IF(D8=\"\",\"\",SUM(INDIRECT(\"MAINLINE!O\"&$B8+1):INDIRECT(\"MAINLINE!O\"&$D8))))","v":""},{"$f":"IF(B8=\"\",\"\",IF(D8=\"\",\"\",SUM(INDIRECT(\"MAINLINE!P\"&$B8+1):INDIRECT(\"MAINLINE!P\"&$D8))))","v":""},{"$f":"IF(B8=\"\",\"\",IF(D8=\"\",\"\",SUM(INDIRECT(\"MAINLINE!Q\"&$B8+1):INDIRECT(\"MAINLINE!Q\"&$D8))))","v":""},{"$f":"IF(B8=\"\",\"\",IF(D8=\"\",\"\",SUM(INDIRECT(\"MAINLINE!R\"&$B8+1):INDIRECT(\"MAINLINE!R\"&$D8))))","v":""},{"$f":"IF(B8=\"\",\"\",IF(D8=\"\",\"\",SUM(INDIRECT(\"MAINLINE!S\"&$B8+1):INDIRECT(\"MAINLINE!S\"&$D8))))","v":""},{"$f":"IF(B8=\"\",\"\",IF(D8=\"\",\"\",SUM(INDIRECT(\"MAINLINE!T\"&$B8+1):INDIRECT(\"MAINLINE!T\"&$D8))))","v":""},{"$f":"IF(B8=\"\",\"\",IF(D8=\"\",\"\",SUM(INDIRECT(\"MAINLINE!U\"&$B8+1):INDIRECT(\"MAINLINE!U\"&$D8))))","v":""},{"$f":"IF(B8=\"\",\"\",IF(D8=\"\",\"\",SUM(INDIRECT(\"MAINLINE!V\"&$B8+1):INDIRECT(\"MAINLINE!V\"&$D8))))","v":""}]
["",{"$f":"_xlfn.IFNA(MATCH(A9,MAINLINE!$A$1:$A$586,0),\"\")","v":""},null,{"$f":"_xlfn.IFNA(MATCH(C9,MAINLINE!$A$1:$A$586,0),\"\")","v":""},null,{"$f":"IF(B9=\"\",\"\",IF(D9=\"\",\"\",SUM(INDIRECT(\"MAINLINE!M\"&$B9+1):INDIRECT(\"MAINLINE!M\"&$D9))))","v":""},{"$f":"IF(B9=\"\",\"\",IF(D9=\"\",\"\",SUM(INDIRECT(\"MAINLINE!N\"&$B9+1):INDIRECT(\"MAINLINE!N\"&$D9))))","v":""},{"$f":"IF(B9=\"\",\"\",IF(D9=\"\",\"\",SUM(INDIRECT(\"MAINLINE!O\"&$B9+1):INDIRECT(\"MAINLINE!O\"&$D9))))","v":""},{"$f":"IF(B9=\"\",\"\",IF(D9=\"\",\"\",SUM(INDIRECT(\"MAINLINE!P\"&$B9+1):INDIRECT(\"MAINLINE!P\"&$D9))))","v":""},{"$f":"IF(B9=\"\",\"\",IF(D9=\"\",\"\",SUM(INDIRECT(\"MAINLINE!Q\"&$B9+1):INDIRECT(\"MAINLINE!Q\"&$D9))))","v":""},{"$f":"IF(B9=\"\",\"\",IF(D9=\"\",\"\",SUM(INDIRECT(\"MAINLINE!R\"&$B9+1):INDIRECT(\"MAINLINE!R\"&$D9))))","v":""},{"$f":"IF(B9=\"\",\"\",IF(D9=\"\",\"\",SUM(INDIRECT(\"MAINLINE!S\"&$B9+1):INDIRECT(\"MAINLINE!S\"&$D9))))","v":""},{"$f":"IF(B9=\"\",\"\",IF(D9=\"\",\"\",SUM(INDIRECT(\"MAINLINE!T\"&$B9+1):INDIRECT(\"MAINLINE!T\"&$D9))))","v":""},{"$f":"IF(B9=\"\",\"\",IF(D9=\"\",\"\",SUM(INDIRECT(\"MAINLINE!U\"&$B9+1):INDIRECT(\"MAINLINE!U\"&$D9))))","v":""},{"$f":"IF(B9=\"\",\"\",IF(D9=\"\",\"\",SUM(INDIRECT(\"MAINLINE!V\"&$B9+1):INDIRECT(\"MAINLINE!V\"&$D9))))","v":""}]
["",{"$f":"_xlfn.IFNA(MATCH(A10,MAINLINE!$A$1:$A$586,0),\"\")","v":""},null,{"$f":"_xlfn.IFNA(MATCH(C10,MAINLINE!$A$1:$A$586,0),\"\")","v":""},null,{"$f":"IF(B10=\"\",\"\",IF(D10=\"\",\"\",SUM(INDIRECT(\"MAINLINE!M\"&$B10+1):INDIRECT(\"MAINLINE!M\"&$D10))))","v":""},{"$f":"IF(B10=\"\",\"\",IF(D10=\"\",\"\",SUM(INDIRECT(\"MAINLINE!N\"&$B10+1):INDIRECT(\"MAINLINE!N\"&$D10))))","v":""},{"$f":"IF(B10=\"\",\"\",IF(D10=\"\",\"\",SUM(INDIRECT(\"MAINLINE!O\"&$B10+1):INDIRECT(\"MAINLINE!O\"&$D10))))","v":""},{"$f":"IF(B10=\"\",\"\",IF(D10=\"\",\"\",SUM(INDIRECT(\"MAINLINE!P\"&$B10+1):INDIRECT(\"MAINLINE!P\"&$D10))))","v":""},{"$f":"IF(B10=\"\",\"\",IF(D10=\"\",\"\",SUM(INDIRECT(\"MAINLINE!Q\"&$B10+1):INDIRECT(\"MAINLINE!Q\"&$D10))))","v":""},{"$f":"IF(B10=\"\",\"\",IF(D10=\"\",\"\",SUM(INDIRECT(\"MAINLINE!R\"&$B10+1):INDIRECT(\"MAINLINE!R\"&$D10))))","v":""},{"$f":"IF(B10=\"\",\"\",IF(D10=\"\",\"\",SUM(INDIRECT(\"MAINLINE!S\"&$B10+1):INDIRECT(\"MAINLINE!S\"&$D10))))","v":""},{"$f":"IF(B10=\"\",\"\",IF(D10=\"\",\"\",SUM(INDIRECT(\"MAINLINE!T\"&$B10+1):INDIRECT(\"MAINLINE!T\"&$D10))))","v":""},{"$f":"IF(B10=\"\",\"\",IF(D10=\"\",\"\",SUM(INDIRECT(\"MAINLINE!U\"&$B10+1):INDIRECT(\"MAINLINE!U\"&$D10))))","v":""},{"$f":"IF(B10=\"\",\"\",IF(D10=\"\",\"\",SUM(INDIRECT(\"MAINLINE!V\"&$B10+1):INDIRECT(\"MAINLINE!V\"&$D10))))","v":""}]
["",{"$f":"_xlfn.IFNA(MATCH(A11,MAINLINE!$A$1:$A$586,0),\"\")","v":""},null,{"$f":"_xlfn.IFNA(MATCH(C11,MAINLINE!$A$1:$A$586,0),\"\")","v":""},null,{"$f":"IF(B11=\"\",\"\",IF(D11=\"\",\"\",SUM(INDIRECT(\"MAINLINE!M\"&$B11+1):INDIRECT(\"MAINLINE!M\"&$D11))))","v":""},{"$f":"IF(B11=\"\",\"\",IF(D11=\"\",\"\",SUM(INDIRECT(\"MAINLINE!N\"&$B11+1):INDIRECT(\"MAINLINE!N\"&$D11))))","v":""},{"$f":"IF(B11=\"\",\"\",IF(D11=\"\",\"\",SUM(INDIRECT(\"MAINLINE!O\"&$B11+1):INDIRECT(\"MAINLINE!O\"&$D11))))","v":""},{"$f":"IF(B11=\"\",\"\",IF(D11=\"\",\"\",SUM(INDIRECT(\"MAINLINE!P\"&$B11+1):INDIRECT(\"MAINLINE!P\"&$D11))))","v":""},{"$f":"IF(B11=\"\",\"\",IF(D11=\"\",\"\",SUM(INDIRECT(\"MAINLINE!Q\"&$B11+1):INDIRECT(\"MAINLINE!Q\"&$D11))))","v":""},{"$f":"IF(B11=\"\",\"\",IF(D11=\"\",\"\",SUM(INDIRECT(\"MAINLINE!R\"&$B11+1):INDIRECT(\"MAINLINE!R\"&$D11))))","v":""},{"$f":"IF(B11=\"\",\"\",IF(D11=\"\",\"\",SUM(INDIRECT(\"MAINLINE!S\"&$B11+1):INDIRECT(\"MAINLINE!S\"&$D11))))","v":""},{"$f":"IF(B11=\"\",\"\",IF(D11=\"\",\"\",SUM(INDIRECT(\"MAINLINE!T\"&$B11+1):INDIRECT(\"MAINLINE!T\"&$D11))))","v":""},{"$f":"IF(B11=\"\",\"\",IF(D11=\"\",\"\",SUM(INDIRECT(\"MAINLINE!U\"&$B11+1):INDIRECT(\"MAINLINE!U\"&$D11))))","v":""},{"$f":"IF(B11=\"\",\"\",IF(D11=\"\",\"\",SUM(INDIRECT(\"MAINLINE!V\"&$B11+1):INDIRECT(\"MAINLINE!V\"&$D11))))","v":""}]
["",{"$f":"_xlfn.IFNA(MATCH(A12,MAINLINE!$A$1:$A$586,0),\"\")","v":""},null,{"$f":"_xlfn.IFNA(MATCH(C12,MAINLINE!$A$1:$A$586,0),\"\")","v":""},null,{"$f":"IF(B12=\"\",\"\",IF(D12=\"\",\"\",SUM(INDIRECT(\"MAINLINE!M\"&$B12+1):INDIRECT(\"MAINLINE!M\"&$D12))))","v":""},{"$f":"IF(B12=\"\",\"\",IF(D12=\"\",\"\",SUM(INDIRECT(\"MAINLINE!N\"&$B12+1):INDIRECT(\"MAINLINE!N\"&$D12))))","v":""},{"$f":"IF(B12=\"\",\"\",IF(D12=\"\",\"\",SUM(INDIRECT(\"MAINLINE!O\"&$B12+1):INDIRECT(\"MAINLINE!O\"&$D12))))","v":""},{"$f":"IF(B12=\"\",\"\",IF(D12=\"\",\"\",SUM(INDIRECT(\"MAINLINE!P\"&$B12+1):INDIRECT(\"MAINLINE!P\"&$D12))))","v":""},{"$f":"IF(B12=\"\",\"\",IF(D12=\"\",\"\",SUM(INDIRECT(\"MAINLINE!Q\"&$B12+1):INDIRECT(\"MAINLINE!Q\"&$D12))))","v":""},{"$f":"IF(B12=\"\",\"\",IF(D12=\"\",\"\",SUM(INDIRECT(\"MAINLINE!R\"&$B12+1):INDIRECT(\"MAINLINE!R\"&$D12))))","v":""},{"$f":"IF(B12=\"\",\"\",IF(D12=\"\",\"\",SUM(INDIRECT(\"MAINLINE!S\"&$B12+1):INDIRECT(\"MAINLINE!S\"&$D12))))","v":""},{"$f":"IF(B12=\"\",\"\",IF(D12=\"\",\"\",SUM(INDIRECT(\"MAINLINE!T\"&$B12+1):INDIRECT(\"MAINLINE!T\"&$D12))))","v":""},{"$f":"IF(B12=\"\",\"\",IF(D12=\"\",\"\",SUM(INDIRECT(\"MAINLINE!U\"&$B12+1):INDIRECT(\"MAINLINE!U\"&$D12))))","v":""},{"$f":"IF(B12=\"\",\"\",IF(D12=\"\",\"\",SUM(INDIRECT(\"MAINLINE!V\"&$B12+1):INDIRECT(\"MAINLINE!V\"&$D12))))","v":""}]
["",{"$f":"_xlfn.IFNA(MATCH(A13,MAINLINE!$A$1:$A$586,0),\"\")","v":""},null,{"$f":"_xlfn.IFNA(MATCH(C13,MAINLINE!$A$1:$A$586,0),\"\")","v":""},null,{"$f":"IF(B13=\"\",\"\",IF(D13=\"\",\"\",SUM(INDIRECT(\"MAINLINE!M\"&$B13+1):INDIRECT(\"MAINLINE!M\"&$D13))))","v":""},{"$f":"IF(B13=\"\",\"\",IF(D13=\"\",\"\",SUM(INDIRECT(\"MAINLINE!N\"&$B13+1):INDIRECT(\"MAINLINE!N\"&$D13))))","v":""},{"$f":"IF(B13=\"\",\"\",IF(D13=\"\",\"\",SUM(INDIRECT(\"MAINLINE!O\"&$B13+1):INDIRECT(\"MAINLINE!O\"&$D13))))","v":""},{"$f":"IF(B13=\"\",\"\",IF(D13=\"\",\"\",SUM(INDIRECT(\"MAINLINE!P\"&$B13+1):INDIRECT(\"MAINLINE!P\"&$D13))))","v":""},{"$f":"IF(B13=\"\",\"\",IF(D13=\"\",\"\",SUM(INDIRECT(\"MAINLINE!Q\"&$B13+1):INDIRECT(\"MAINLINE!Q\"&$D13))))","v":""},{"$f":"IF(B13=\"\",\"\",IF(D13=\"\",\"\",SUM(INDIRECT(\"MAINLINE!R\"&$B13+1):INDIRECT(\"MAINLINE!R\"&$D13))))","v":""},{"$f":"IF(B13=\"\",\"\",IF(D13=\"\",\"\",SUM(INDIRECT(\"MAINLINE!S\"&$B13+1):INDIRECT(\"MAINLINE!S\"&$D13))))","v":""},{"$f":"IF(B13=\"\",\"\",IF(D13=\"\",\"\",SUM(INDIRECT(\"MAINLINE!T\"&$B13+1):INDIRECT(\"MAINLINE!T\"&$D13))))","v":""},{"$f":"IF(B13=\"\",\"\",IF(D13=\"\",\"\",SUM(INDIRECT(\"MAINLINE!U\"&$B13+1):INDIRECT(\"MAINLINE!U\"&$D13))))","v":""},{"$f":"IF(B13=\"\",\"\",IF(D13=\"\",\"\",SUM(INDIRECT(\"MAINLINE!V\"&$B13+1):INDIRECT(\"MAINLINE!V\"&$D13))))","v":""}]
["",{"$f":"_xlfn.IFNA(MATCH(A14,MAINLINE!$A$1:$A$586,0),\"\")","v":""},null,{"$f":"_xlfn.IFNA(MATCH(C14,MAINLINE!$A$1:$A$586,0),\"\")","v":""},null,{"$f":"IF(B14=\"\",\"\",IF(D14=\"\",\"\",SUM(INDIRECT(\"MAINLINE!M\"&$B14+1):INDIRECT(\"MAINLINE!M\"&$D14))))","v":""},{"$f":"IF(B14=\"\",\"\",IF(D14=\"\",\"\",SUM(INDIRECT(\"MAINLINE!N\"&$B14+1):INDIRECT(\"MAINLINE!N\"&$D14))))","v":""},{"$f":"IF(B14=\"\",\"\",IF(D14=\"\",\"\",SUM(INDIRECT(\"MAINLINE!O\"&$B14+1):INDIRECT(\"MAINLINE!O\"&$D14))))","v":""},{"$f":"IF(B14=\"\",\"\",IF(D14=\"\",\"\",SUM(INDIRECT(\"MAINLINE!P\"&$B14+1):INDIRECT(\"MAINLINE!P\"&$D14))))","v":""},{"$f":"IF(B14=\"\",\"\",IF(D14=\"\",\"\",SUM(INDIRECT(\"MAINLINE!Q\"&$B14+1):INDIRECT(\"MAINLINE!Q\"&$D14))))","v":""},{"$f":"IF(B14=\"\",\"\",IF(D14=\"\",\"\",SUM(INDIRECT(\"MAINLINE!R\"&$B14+1):INDIRECT(\"MAINLINE!R\"&$D14))))","v":""},{"$f":"IF(B14=\"\",\"\",IF(D14=\"\",\"\",SUM(INDIRECT(\"MAINLINE!S\"&$B14+1):INDIRECT(\"MAINLINE!S\"&$D14))))","v":""},{"$f":"IF(B14=\"\",\"\",IF(D14=\"\",\"\",SUM(INDIRECT(\"MAINLINE!T\"&$B14+1):INDIRECT(\"MAINLINE!T\"&$D14))))","v":""},{"$f":"IF(B14=\"\",\"\",IF(D14=\"\",\"\",SUM(INDIRECT(\"MAINLINE!U\"&$B14+1):INDIRECT(\"MAINLINE!U\"&$D14))))","v":""},{"$f":"IF(B14=\"\",\"\",IF(D14=\"\",\"\",SUM(INDIRECT(\"MAINLINE!V\"&$B14+1):INDIRECT(\"MAINLINE!V\"&$D14))))","v":""}]
["",{"$f":"_xlfn.IFNA(MATCH(A15,MAINLINE!$A$1:$A$586,0),\"\")","v":""},null,{"$f":"_xlfn.IFNA(MATCH(C15,MAINLINE!$A$1:$A$586,0),\"\")","v":""},null,{"$f":"IF(B15=\"\",\"\",IF(D15=\"\",\"\",SUM(INDIRECT(\"MAINLINE!M\"&$B15+1):INDIRECT(\"MAINLINE!M\"&$D15))))","v":""},{"$f":"IF(B15=\"\",\"\",IF(D15=\"\",\"\",SUM(INDIRECT(\"MAINLINE!N\"&$B15+1):INDIRECT(\"MAINLINE!N\"&$D15))))","v":""},{"$f":"IF(B15=\"\",\"\",IF(D15=\"\",\"\",SUM(INDIRECT(\"MAINLINE!O\"&$B15+1):INDIRECT(\"MAINLINE!O\"&$D15))))","v":""},{"$f":"IF(B15=\"\",\"\",IF(D15=\"\",\"\",SUM(INDIRECT(\"MAINLINE!P\"&$B15+1):INDIRECT(\"MAINLINE!P\"&$D15))))","v":""},{"$f":"IF(B15=\"\",\"\",IF(D15=\"\",\"\",SUM(INDIRECT(\"MAINLINE!Q\"&$B15+1):INDIRECT(\"MAINLINE!Q\"&$D15))))","v":""},{"$f":"IF(B15=\"\",\"\",IF(D15=\"\",\"\",SUM(INDIRECT(\"MAINLINE!R\"&$B15+1):INDIRECT(\"MAINLINE!R\"&$D15))))","v":""},{"$f":"IF(B15=\"\",\"\",IF(D15=\"\",\"\",SUM(INDIRECT(\"MAINLINE!S\"&$B15+1):INDIRECT(\"MAINLINE!S\"&$D15))))","v":""},{"$f":"IF(B15=\"\",\"\",IF(D15=\"\",\"\",SUM(INDIRECT(\"MAINLINE!T\"&$B15+1):INDIRECT(\"MAINLINE!T\"&$D15))))","v":""},{"$f":"IF(B15=\"\",\"\",IF(D15=\"\",\"\",SUM(INDIRECT(\"MAINLINE!U\"&$B15+1):INDIRECT(\"MAINLINE!U\"&$D15))))","v":""},{"$f":"IF(B15=\"\",\"\",IF(D15=\"\",\"\",SUM(INDIRECT(\"MAINLINE!V\"&$B15+1):INDIRECT(\"MAINLINE!V\"&$D15))))","v":""}]
["",{"$f":"_xlfn.IFNA(MATCH(A16,MAINLINE!$A$1:$A$586,0),\"\")","v":""},null,{"$f":"_xlfn.IFNA(MATCH(C16,MAINLINE!$A$1:$A$586,0),\"\")","v":""},null,{"$f":"IF(B16=\"\",\"\",IF(D16=\"\",\"\",SUM(INDIRECT(\"MAINLINE!M\"&$B16+1):INDIRECT(\"MAINLINE!M\"&$D16))))","v":""},{"$f":"IF(B16=\"\",\"\",IF(D16=\"\",\"\",SUM(INDIRECT(\"MAINLINE!N\"&$B16+1):INDIRECT(\"MAINLINE!N\"&$D16))))","v":""},{"$f":"IF(B16=\"\",\"\",IF(D16=\"\",\"\",SUM(INDIRECT(\"MAINLINE!O\"&$B16+1):INDIRECT(\"MAINLINE!O\"&$D16))))","v":""},{"$f":"IF(B16=\"\",\"\",IF(D16=\"\",\"\",SUM(INDIRECT(\"MAINLINE!P\"&$B16+1):INDIRECT(\"MAINLINE!P\"&$D16))))","v":""},{"$f":"IF(B16=\"\",\"\",IF(D16=\"\",\"\",SUM(INDIRECT(\"MAINLINE!Q\"&$B16+1):INDIRECT(\"MAINLINE!Q\"&$D16))))","v":""},{"$f":"IF(B16=\"\",\"\",IF(D16=\"\",\"\",SUM(INDIRECT(\"MAINLINE!R\"&$B16+1):INDIRECT(\"MAINLINE!R\"&$D16))))","v":""},{"$f":"IF(B16=\"\",\"\",IF(D16=\"\",\"\",SUM(INDIRECT(\"MAINLINE!S\"&$B16+1):INDIRECT(\"MAINLINE!S\"&$D16))))","v":""},{"$f":"IF(B16=\"\",\"\",IF(D16=\"\",\"\",SUM(INDIRECT(\"MAINLINE!T\"&$B16+1):INDIRECT(\"MAINLINE!T\"&$D16))))","v":""},{"$f":"IF(B16=\"\",\"\",IF(D16=\"\",\"\",SUM(INDIRECT(\"MAINLINE!U\"&$B16+1):INDIRECT(\"MAINLINE!U\"&$D16))))","v":""},{"$f":"IF(B16=\"\",\"\",IF(D16=\"\",\"\",SUM(INDIRECT(\"MAINLINE!V\"&$B16+1):INDIRECT(\"MAINLINE!V\"&$D16))))","v":""}]
["",{"$f":"_xlfn.IFNA(MATCH(A17,MAINLINE!$A$1:$A$586,0),\"\")","v":""},null,{"$f":"_xlfn.IFNA(MATCH(C17,MAINLINE!$A$1:$A$586,0),\"\")","v":""},null,{"$f":"IF(B17=\"\",\"\",IF(D17=\"\",\"\",SUM(INDIRECT(\"MAINLINE!M\"&$B17+1):INDIRECT(\"MAINLINE!M\"&$D17))))","v":""},{"$f":"IF(B17=\"\",\"\",IF(D17=\"\",\"\",SUM(INDIRECT(\"MAINLINE!N\"&$B17+1):INDIRECT(\"MAINLINE!N\"&$D17))))","v":""},{"$f":"IF(B17=\"\",\"\",IF(D17=\"\",\"\",SUM(INDIRECT(\"MAINLINE!O\"&$B17+1):INDIRECT(\"MAINLINE!O\"&$D17))))","v":""},{"$f":"IF(B17=\"\",\"\",IF(D17=\"\",\"\",SUM(INDIRECT(\"MAINLINE!P\"&$B17+1):INDIRECT(\"MAINLINE!P\"&$D17))))","v":""},{"$f":"IF(B17=\"\",\"\",IF(D17=\"\",\"\",SUM(INDIRECT(\"MAINLINE!Q\"&$B17+1):INDIRECT(\"MAINLINE!Q\"&$D17))))","v":""},{"$f":"IF(B17=\"\",\"\",IF(D17=\"\",\"\",SUM(INDIRECT(\"MAINLINE!R\"&$B17+1):INDIRECT(\"MAINLINE!R\"&$D17))))","v":""},{"$f":"IF(B17=\"\",\"\",IF(D17=\"\",\"\",SUM(INDIRECT(\"MAINLINE!S\"&$B17+1):INDIRECT(\"MAINLINE!S\"&$D17))))","v":""},{"$f":"IF(B17=\"\",\"\",IF(D17=\"\",\"\",SUM(INDIRECT(\"MAINLINE!T\"&$B17+1):INDIRECT(\"MAINLINE!T\"&$D17))))","v":""},{"$f":"IF(B17=\"\",\"\",IF(D17=\"\",\"\",SUM(INDIRECT(\"MAINLINE!U\"&$B17+1):INDIRECT(\"MAINLINE!U\"&$D17))))","v":""},{"$f":"IF(B17=\"\",\"\",IF(D17=\"\",\"\",SUM(INDIRECT(\"MAINLINE!V\"&$B17+1):INDIRECT(\"MAINLINE!V\"&$D17))))","v":""}]
["",{"$f":"_xlfn.IFNA(MATCH(A18,MAINLINE!$A$1:$A$586,0),\"\")","v":""},null,{"$f":"_xlfn.IFNA(MATCH(C18,MAINLINE!$A$1:$A$586,0),\"\")","v":""},null,{"$f":"IF(B18=\"\",\"\",IF(D18=\"\",\"\",SUM(INDIRECT(\"MAINLINE!M\"&$B18+1):INDIRECT(\"MAINLINE!M\"&$D18))))","v":""},{"$f":"IF(B18=\"\",\"\",IF(D18=\"\",\"\",SUM(INDIRECT(\"MAINLINE!N\"&$B18+1):INDIRECT(\"MAINLINE!N\"&$D18))))","v":""},{"$f":"IF(B18=\"\",\"\",IF(D18=\"\",\"\",SUM(INDIRECT(\"MAINLINE!O\"&$B18+1):INDIRECT(\"MAINLINE!O\"&$D18))))","v":""},{"$f":"IF(B18=\"\",\"\",IF(D18=\"\",\"\",SUM(INDIRECT(\"MAINLINE!P\"&$B18+1):INDIRECT(\"MAINLINE!P\"&$D18))))","v":""},{"$f":"IF(B18=\"\",\"\",IF(D18=\"\",\"\",SUM(INDIRECT(\"MAINLINE!Q\"&$B18+1):INDIRECT(\"MAINLINE!Q\"&$D18))))","v":""},{"$f":"IF(B18=\"\",\"\",IF(D18=\"\",\"\",SUM(INDIRECT(\"MAINLINE!R\"&$B18+1):INDIRECT(\"MAINLINE!R\"&$D18))))","v":""},{"$f":"IF(B18=\"\",\"\",IF(D18=\"\",\"\",SUM(INDIRECT(\"MAINLINE!S\"&$B18+1):INDIRECT(\"MAINLINE!S\"&$D18))))","v":""},{"$f":"IF(B18=\"\",\"\",IF(D18=\"\",\"\",SUM(INDIRECT(\"MAINLINE!T\"&$B18+1):INDIRECT(\"MAINLINE!T\"&$D18))))","v":""},{"$f":"IF(B18=\"\",\"\",IF(D18=\"\",\"\",SUM(INDIRECT(\"MAINLINE!U\"&$B18+1):INDIRECT(\"MAINLINE!U\"&$D18))))","v":""},{"$f":"IF(B18=\"\",\"\",IF(D18=\"\",\"\",SUM(INDIRECT(\"MAINLINE!V\"&$B18+1):INDIRECT(\"MAINLINE!V\"&$D18))))","v":""}]
["",{"$f":"_xlfn.IFNA(MATCH(A19,MAINLINE!$A$1:$A$586,0),\"\")","v":""},null,{"$f":"_xlfn.IFNA(MATCH(C19,MAINLINE!$A$1:$A$586,0),\"\")","v":""},null,{"$f":"IF(B19=\"\",\"\",IF(D19=\"\",\"\",SUM(INDIRECT(\"MAINLINE!M\"&$B19+1):INDIRECT(\"MAINLINE!M\"&$D19))))","v":""},{"$f":"IF(B19=\"\",\"\",IF(D19=\"\",\"\",SUM(INDIRECT(\"MAINLINE!N\"&$B19+1):INDIRECT(\"MAINLINE!N\"&$D19))))","v":""},{"$f":"IF(B19=\"\",\"\",IF(D19=\"\",\"\",SUM(INDIRECT(\"MAINLINE!O\"&$B19+1):INDIRECT(\"MAINLINE!O\"&$D19))))","v":""},{"$f":"IF(B19=\"\",\"\",IF(D19=\"\",\"\",SUM(INDIRECT(\"MAINLINE!P\"&$B19+1):INDIRECT(\"MAINLINE!P\"&$D19))))","v":""},{"$f":"IF(B19=\"\",\"\",IF(D19=\"\",\"\",SUM(INDIRECT(\"MAINLINE!Q\"&$B19+1):INDIRECT(\"MAINLINE!Q\"&$D19))))","v":""},{"$f":"IF(B19=\"\",\"\",IF(D19=\"\",\"\",SUM(INDIRECT(\"MAINLINE!R\"&$B19+1):INDIRECT(\"MAINLINE!R\"&$D19))))","v":""},{"$f":"IF(B19=\"\",\"\",IF(D19=\"\",\"\",SUM(INDIRECT(\"MAINLINE!S\"&$B19+1):INDIRECT(\"MAINLINE!S\"&$D19))))","v":""},{"$f":"IF(B19=\"\",\"\",IF(D19=\"\",\"\",SUM(INDIRECT(\"MAINLINE!T\"&$B19+1):INDIRECT(\"MAINLINE!T\"&$D19))))","v":""},{"$f":"IF(B19=\"\",\"\",IF(D19=\"\",\"\",SUM(INDIRECT(\"MAINLINE!U\"&$B19+1):INDIRECT(\"MAINLINE!U\"&$D19))))","v":""},{"$f":"IF(B19=\"\",\"\",IF(D19=\"\",\"\",SUM(INDIRECT(\"MAINLINE!V\"&$B19+1):INDIRECT(\"MAINLINE!V\"&$D19))))","v":""}]
["",{"$f":"_xlfn.IFNA(MATCH(A20,MAINLINE!$A$1:$A$586,0),\"\")","v":""},null,{"$f":"_xlfn.IFNA(MATCH(C20,MAINLINE!$A$1:$A$586,0),\"\")","v":""},null,{"$f":"IF(B20=\"\",\"\",IF(D20=\"\",\"\",SUM(INDIRECT(\"MAINLINE!M\"&$B20+1):INDIRECT(\"MAINLINE!M\"&$D20))))","v":""},{"$f":"IF(B20=\"\",\"\",IF(D20=\"\",\"\",SUM(INDIRECT(\"MAINLINE!N\"&$B20+1):INDIRECT(\"MAINLINE!N\"&$D20))))","v":""},{"$f":"IF(B20=\"\",\"\",IF(D20=\"\",\"\",SUM(INDIRECT(\"MAINLINE!O\"&$B20+1):INDIRECT(\"MAINLINE!O\"&$D20))))","v":""},{"$f":"IF(B20=\"\",\"\",IF(D20=\"\",\"\",SUM(INDIRECT(\"MAINLINE!P\"&$B20+1):INDIRECT(\"MAINLINE!P\"&$D20))))","v":""},{"$f":"IF(B20=\"\",\"\",IF(D20=\"\",\"\",SUM(INDIRECT(\"MAINLINE!Q\"&$B20+1):INDIRECT(\"MAINLINE!Q\"&$D20))))","v":""},{"$f":"IF(B20=\"\",\"\",IF(D20=\"\",\"\",SUM(INDIRECT(\"MAINLINE!R\"&$B20+1):INDIRECT(\"MAINLINE!R\"&$D20))))","v":""},{"$f":"IF(B20=\"\",\"\",IF(D20=\"\",\"\",SUM(INDIRECT(\"MAINLINE!S\"&$B20+1):INDIRECT(\"MAINLINE!S\"&$D20))))","v":""},{"$f":"IF(B20=\"\",\"\",IF(D20=\"\",\"\",SUM(INDIRECT(\"MAINLINE!T\"&$B20+1):INDIRECT(\"MAINLINE!T\"&$D20))))","v":""},{"$f":"IF(B20=\"\",\"\",IF(D20=\"\",\"\",SUM(INDIRECT(\"MAINLINE!U\"&$B20+1):INDIRECT(\"MAINLINE!U\"&$D20))))","v":""},{"$f":"IF(B20=\"\",\"\",IF(D20=\"\",\"\",SUM(INDIRECT(\"MAINLINE!V\"&$B20+1):INDIRECT(\"MAINLINE!V\"&$D20))))","v":""}]
["",{"$f":"_xlfn.IFNA(MATCH(A21,MAINLINE!$A$1:$A$586,0),\"\")","v":""},null,{"$f":"_xlfn.IFNA(MATCH(C21,MAINLINE!$A$1:$A$586,0),\"\")","v":""},null,{"$f":"IF(B21=\"\",\"\",IF(D21=\"\",\"\",SUM(INDIRECT(\"MAINLINE!M\"&$B21+1):INDIRECT(\"MAINLINE!M\"&$D21))))","v":""},{"$f":"IF(B21=\"\",\"\",IF(D21=\"\",\"\",SUM(INDIRECT(\"MAINLINE!N\"&$B21+1):INDIRECT(\"MAINLINE!N\"&$D21))))","v":""},{"$f":"IF(B21=\"\",\"\",IF(D21=\"\",\"\",SUM(INDIRECT(\"MAINLINE!O\"&$B21+1):INDIRECT(\"MAINLINE!O\"&$D21))))","v":""},{"$f":"IF(B21=\"\",\"\",IF(D21=\"\",\"\",SUM(INDIRECT(\"MAINLINE!P\"&$B21+1):INDIRECT(\"MAINLINE!P\"&$D21))))","v":""},{"$f":"IF(B21=\"\",\"\",IF(D21=\"\",\"\",SUM(INDIRECT(\"MAINLINE!Q\"&$B21+1):INDIRECT(\"MAINLINE!Q\"&$D21))))","v":""},{"$f":"IF(B21=\"\",\"\",IF(D21=\"\",\"\",SUM(INDIRECT(\"MAINLINE!R\"&$B21+1):INDIRECT(\"MAINLINE!R\"&$D21))))","v":""},{"$f":"IF(B21=\"\",\"\",IF(D21=\"\",\"\",SUM(INDIRECT(\"MAINLINE!S\"&$B21+1):INDIRECT(\"MAINLINE!S\"&$D21))))","v":""},{"$f":"IF(B21=\"\",\"\",IF(D21=\"\",\"\",SUM(INDIRECT(\"MAINLINE!T\"&$B21+1):INDIRECT(\"MAINLINE!T\"&$D21))))","v":""},{"$f":"IF(B21=\"\",\"\",IF(D21=\"\",\"\",SUM(INDIRECT(\"MAINLINE!U\"&$B21+1):INDIRECT(\"MAINLINE!U\"&$D21))))","v":""},{"$f":"IF(B21=\"\",\"\",IF(D21=\"\",\"\",SUM(INDIRECT(\"MAINLINE!V\"&$B21+1):INDIRECT(\"MAINLINE!V\"&$D21))))","v":""}]
["",{"$f":"_xlfn.IFNA(MATCH(A22,MAINLINE!$A$1:$A$586,0),\"\")","v":""},null,{"$f":"_xlfn.IFNA(MATCH(C22,MAINLINE!$A$1:$A$586,0),\"\")","v":""},null,{"$f":"IF(B22=\"\",\"\",IF(D22=\"\",\"\",SUM(INDIRECT(\"MAINLINE!M\"&$B22+1):INDIRECT(\"MAINLINE!M\"&$D22))))","v":""},{"$f":"IF(B22=\"\",\"\",IF(D22=\"\",\"\",SUM(INDIRECT(\"MAINLINE!N\"&$B22+1):INDIRECT(\"MAINLINE!N\"&$D22))))","v":""},{"$f":"IF(B22=\"\",\"\",IF(D22=\"\",\"\",SUM(INDIRECT(\"MAINLINE!O\"&$B22+1):INDIRECT(\"MAINLINE!O\"&$D22))))","v":""},{"$f":"IF(B22=\"\",\"\",IF(D22=\"\",\"\",SUM(INDIRECT(\"MAINLINE!P\"&$B22+1):INDIRECT(\"MAINLINE!P\"&$D22))))","v":""},{"$f":"IF(B22=\"\",\"\",IF(D22=\"\",\"\",SUM(INDIRECT(\"MAINLINE!Q\"&$B22+1):INDIRECT(\"MAINLINE!Q\"&$D22))))","v":""},{"$f":"IF(B22=\"\",\"\",IF(D22=\"\",\"\",SUM(INDIRECT(\"MAINLINE!R\"&$B22+1):INDIRECT(\"MAINLINE!R\"&$D22))))","v":""},{"$f":"IF(B22=\"\",\"\",IF(D22=\"\",\"\",SUM(INDIRECT(\"MAINLINE!S\"&$B22+1):INDIRECT(\"MAINLINE!S\"&$D22))))","v":""},{"$f":"IF(B22=\"\",\"\",IF(D22=\"\",\"\",SUM(INDIRECT(\"MAINLINE!T\"&$B22+1):INDIRECT(\"MAINLINE!T\"&$D22))))","v":""},{"$f":"IF(B22=\"\",\"\",IF(D22=\"\",\"\",SUM(INDIRECT(\"MAINLINE!U\"&$B22+1):INDIRECT(\"MAINLINE!U\"&$D22))))","v":""},{"$f":"IF(B22=\"\",\"\",IF(D22=\"\",\"\",SUM(INDIRECT(\"MAINLINE!V\"&$B22+1):INDIRECT(\"MAINLINE!V\"&$D22))))","v":""}]
["",{"$f":"_xlfn.IFNA(MATCH(A23,MAINLINE!$A$1:$A$586,0),\"\")","v":""},null,{"$f":"_xlfn.IFNA(MATCH(C23,MAINLINE!$A$1:$A$586,0),\"\")","v":""},null,{"$f":"IF(B23=\"\",\"\",IF(D23=\"\",\"\",SUM(INDIRECT(\"MAINLINE!M\"&$B23+1):INDIRECT(\"MAINLINE!M\"&$D23))))","v":""},{"$f":"IF(B23=\"\",\"\",IF(D23=\"\",\"\",SUM(INDIRECT(\"MAINLINE!N\"&$B23+1):INDIRECT(\"MAINLINE!N\"&$D23))))","v":""},{"$f":"IF(B23=\"\",\"\",IF(D23=\"\",\"\",SUM(INDIRECT(\"MAINLINE!O\"&$B23+1):INDIRECT(\"MAINLINE!O\"&$D23))))","v":""},{"$f":"IF(B23=\"\",\"\",IF(D23=\"\",\"\",SUM(INDIRECT(\"MAINLINE!P\"&$B23+1):INDIRECT(\"MAINLINE!P\"&$D23))))","v":""},{"$f":"IF(B23=\"\",\"\",IF(D23=\"\",\"\",SUM(INDIRECT(\"MAINLINE!Q\"&$B23+1):INDIRECT(\"MAINLINE!Q\"&$D23))))","v":""},{"$f":"IF(B23=\"\",\"\",IF(D23=\"\",\"\",SUM(INDIRECT(\"MAINLINE!R\"&$B23+1):INDIRECT(\"MAINLINE!R\"&$D23))))","v":""},{"$f":"IF(B23=\"\",\"\",IF(D23=\"\",\"\",SUM(INDIRECT(\"MAINLINE!S\"&$B23+1):INDIRECT(\"MAINLINE!S\"&$D23))))","v":""},{"$f":"IF(B23=\"\",\"\",IF(D23=\"\",\"\",SUM(INDIRECT(\"MAINLINE!T\"&$B23+1):INDIRECT(\"MAINLINE!T\"&$D23))))","v":""},{"$f":"IF(B23=\"\",\"\",IF(D23=\"\",\"\",SUM(INDIRECT(\"MAINLINE!U\"&$B23+1):INDIRECT(\"MAINLINE!U\"&$D23))))","v":""},{"$f":"IF(B23=\"\",\"\",IF(D23=\"\",\"\",SUM(INDIRECT(\"MAINLINE!V\"&$B23+1):INDIRECT(\"MAINLINE!V\"&$D23))))","v":""}]
["",{"$f":"_xlfn.IFNA(MATCH(A24,MAINLINE!$A$1:$A$586,0),\"\")","v":""},null,{"$f":"_xlfn.IFNA(MATCH(C24,MAINLINE!$A$1:$A$586,0),\"\")","v":""},null,{"$f":"IF(B24=\"\",\"\",IF(D24=\"\",\"\",SUM(INDIRECT(\"MAINLINE!M\"&$B24+1):INDIRECT(\"MAINLINE!M\"&$D24))))","v":""},{"$f":"IF(B24=\"\",\"\",IF(D24=\"\",\"\",SUM(INDIRECT(\"MAINLINE!N\"&$B24+1):INDIRECT(\"MAINLINE!N\"&$D24))))","v":""},{"$f":"IF(B24=\"\",\"\",IF(D24=\"\",\"\",SUM(INDIRECT(\"MAINLINE!O\"&$B24+1):INDIRECT(\"MAINLINE!O\"&$D24))))","v":""},{"$f":"IF(B24=\"\",\"\",IF(D24=\"\",\"\",SUM(INDIRECT(\"MAINLINE!P\"&$B24+1):INDIRECT(\"MAINLINE!P\"&$D24))))","v":""},{"$f":"IF(B24=\"\",\"\",IF(D24=\"\",\"\",SUM(INDIRECT(\"MAINLINE!Q\"&$B24+1):INDIRECT(\"MAINLINE!Q\"&$D24))))","v":""},{"$f":"IF(B24=\"\",\"\",IF(D24=\"\",\"\",SUM(INDIRECT(\"MAINLINE!R\"&$B24+1):INDIRECT(\"MAINLINE!R\"&$D24))))","v":""},{"$f":"IF(B24=\"\",\"\",IF(D24=\"\",\"\",SUM(INDIRECT(\"MAINLINE!S\"&$B24+1):INDIRECT(\"MAINLINE!S\"&$D24))))","v":""},{"$f":"IF(B24=\"\",\"\",IF(D24=\"\",\"\",SUM(INDIRECT(\"MAINLINE!T\"&$B24+1):INDIRECT(\"MAINLINE!T\"&$D24))))","v":""},{"$f":"IF(B24=\"\",\"\",IF(D24=\"\",\"\",SUM(INDIRECT(\"MAINLINE!U\"&$B24+1):INDIRECT(\"MAINLINE!U\"&$D24))))","v":""},{"$f":"IF(B24=\"\",\"\",IF(D24=\"\",\"\",SUM(INDIRECT(\"MAINLINE!V\"&$B24+1):INDIRECT(\"MAINLINE!V\"&$D24))))","v":""}]
["",{"$f":"_xlfn.IFNA(MATCH(A25,MAINLINE!$A$1:$A$586,0),\"\")","v":""},null,{"$f":"_xlfn.IFNA(MATCH(C25,MAINLINE!$A$1:$A$586,0),\"\")","v":""},null,{"$f":"IF(B25=\"\",\"\",IF(D25=\"\",\"\",SUM(INDIRECT(\"MAINLINE!M\"&$B25+1):INDIRECT(\"MAINLINE!M\"&$D25))))","v":""},{"$f":"IF(B25=\"\",\"\",IF(D25=\"\",\"\",SUM(INDIRECT(\"MAINLINE!N\"&$B25+1):INDIRECT(\"MAINLINE!N\"&$D25))))","v":""},{"$f":"IF(B25=\"\",\"\",IF(D25=\"\",\"\",SUM(INDIRECT(\"MAINLINE!O\"&$B25+1):INDIRECT(\"MAINLINE!O\"&$D25))))","v":""},{"$f":"IF(B25=\"\",\"\",IF(D25=\"\",\"\",SUM(INDIRECT(\"MAINLINE!P\"&$B25+1):INDIRECT(\"MAINLINE!P\"&$D25))))","v":""},{"$f":"IF(B25=\"\",\"\",IF(D25=\"\",\"\",SUM(INDIRECT(\"MAINLINE!Q\"&$B25+1):INDIRECT(\"MAINLINE!Q\"&$D25))))","v":""},{"$f":"IF(B25=\"\",\"\",IF(D25=\"\",\"\",SUM(INDIRECT(\"MAINLINE!R\"&$B25+1):INDIRECT(\"MAINLINE!R\"&$D25))))","v":""},{"$f":"IF(B25=\"\",\"\",IF(D25=\"\",\"\",SUM(INDIRECT(\"MAINLINE!S\"&$B25+1):INDIRECT(\"MAINLINE!S\"&$D25))))","v":""},{"$f":"IF(B25=\"\",\"\",IF(D25=\"\",\"\",SUM(INDIRECT(\"MAINLINE!T\"&$B25+1):INDIRECT(\"MAINLINE!T\"&$D25))))","v":""},{"$f":"IF(B25=\"\",\"\",IF(D25=\"\",\"\",SUM(INDIRECT(\"MAINLINE!U\"&$B25+1):INDIRECT(\"MAINLINE!U\"&$D25))))","v":""},{"$f":"IF(B25=\"\",\"\",IF(D25=\"\",\"\",SUM(INDIRECT(\"MAINLINE!V\"&$B25+1):INDIRECT(\"MAINLINE!V\"&$D25))))","v":""}]
["",{"$f":"_xlfn.IFNA(MATCH(A26,MAINLINE!$A$1:$A$586,0),\"\")","v":""},null,{"$f":"_xlfn.IFNA(MATCH(C26,MAINLINE!$A$1:$A$586,0),\"\")","v":""},null,{"$f":"IF(B26=\"\",\"\",IF(D26=\"\",\"\",SUM(INDIRECT(\"MAINLINE!M\"&$B26+1):INDIRECT(\"MAINLINE!M\"&$D26))))","v":""},{"$f":"IF(B26=\"\",\"\",IF(D26=\"\",\"\",SUM(INDIRECT(\"MAINLINE!N\"&$B26+1):INDIRECT(\"MAINLINE!N\"&$D26))))","v":""},{"$f":"IF(B26=\"\",\"\",IF(D26=\"\",\"\",SUM(INDIRECT(\"MAINLINE!O\"&$B26+1):INDIRECT(\"MAINLINE!O\"&$D26))))","v":""},{"$f":"IF(B26=\"\",\"\",IF(D26=\"\",\"\",SUM(INDIRECT(\"MAINLINE!P\"&$B26+1):INDIRECT(\"MAINLINE!P\"&$D26))))","v":""},{"$f":"IF(B26=\"\",\"\",IF(D26=\"\",\"\",SUM(INDIRECT(\"MAINLINE!Q\"&$B26+1):INDIRECT(\"MAINLINE!Q\"&$D26))))","v":""},{"$f":"IF(B26=\"\",\"\",IF(D26=\"\",\"\",SUM(INDIRECT(\"MAINLINE!R\"&$B26+1):INDIRECT(\"MAINLINE!R\"&$D26))))","v":""},{"$f":"IF(B26=\"\",\"\",IF(D26=\"\",\"\",SUM(INDIRECT(\"MAINLINE!S\"&$B26+1):INDIRECT(\"MAINLINE!S\"&$D26))))","v":""},{"$f":"IF(B26=\"\",\"\",IF(D26=\"\",\"\",SUM(INDIRECT(\"MAINLINE!T\"&$B26+1):INDIRECT(\"MAINLINE!T\"&$D26))))","v":""},{"$f":"IF(B26=\"\",\"\",IF(D26=\"\",\"\",SUM(INDIRECT(\"MAINLINE!U\"&$B26+1):INDIRECT(\"MAINLINE!U\"&$D26))))","v":""},{"$f":"IF(B26=\"\",\"\",IF(D26=\"\",\"\",SUM(INDIRECT(\"MAINLINE!V\"&$B26+1):INDIRECT(\"MAINLINE!V\"&$D26))))","v":""}]
["",{"$f":"_xlfn.IFNA(MATCH(A27,MAINLINE!$A$1:$A$586,0),\"\")","v":""},null,{"$f":"_xlfn.IFNA(MATCH(C27,MAINLINE!$A$1:$A$586,0),\"\")","v":""},null,{"$f":"IF(B27=\"\",\"\",IF(D27=\"\",\"\",SUM(INDIRECT(\"MAINLINE!M\"&$B27+1):INDIRECT(\"MAINLINE!M\"&$D27))))","v":""},{"$f":"IF(B27=\"\",\"\",IF(D27=\"\",\"\",SUM(INDIRECT(\"MAINLINE!N\"&$B27+1):INDIRECT(\"MAINLINE!N\"&$D27))))","v":""},{"$f":"IF(B27=\"\",\"\",IF(D27=\"\",\"\",SUM(INDIRECT(\"MAINLINE!O\"&$B27+1):INDIRECT(\"MAINLINE!O\"&$D27))))","v":""},{"$f":"IF(B27=\"\",\"\",IF(D27=\"\",\"\",SUM(INDIRECT(\"MAINLINE!P\"&$B27+1):INDIRECT(\"MAINLINE!P\"&$D27))))","v":""},{"$f":"IF(B27=\"\",\"\",IF(D27=\"\",\"\",SUM(INDIRECT(\"MAINLINE!Q\"&$B27+1):INDIRECT(\"MAINLINE!Q\"&$D27))))","v":""},{"$f":"IF(B27=\"\",\"\",IF(D27=\"\",\"\",SUM(INDIRECT(\"MAINLINE!R\"&$B27+1):INDIRECT(\"MAINLINE!R\"&$D27))))","v":""},{"$f":"IF(B27=\"\",\"\",IF(D27=\"\",\"\",SUM(INDIRECT(\"MAINLINE!S\"&$B27+1):INDIRECT(\"MAINLINE!S\"&$D27))))","v":""},{"$f":"IF(B27=\"\",\"\",IF(D27=\"\",\"\",SUM(INDIRECT(\"MAINLINE!T\"&$B27+1):INDIRECT(\"MAINLINE!T\"&$D27))))","v":""},{"$f":"IF(B27=\"\",\"\",IF(D27=\"\",\"\",SUM(INDIRECT(\"MAINLINE!U\"&$B27+1):INDIRECT(\"MAINLINE!U\"&$D27))))","v":""},{"$f":"IF(B27=\"\",\"\",IF(D27=\"\",\"\",SUM(INDIRECT(\"MAINLINE!V\"&$B27+1):INDIRECT(\"MAINLINE!V\"&$D27))))","v":""}]
["",{"$f":"_xlfn.IFNA(MATCH(A28,MAINLINE!$A$1:$A$586,0),\"\")","v":""},null,{"$f":"_xlfn.IFNA(MATCH(C28,MAINLINE!$A$1:$A$586,0),\"\")","v":""},null,{"$f":"IF(B28=\"\",\"\",IF(D28=\"\",\"\",SUM(INDIRECT(\"MAINLINE!M\"&$B28+1):INDIRECT(\"MAINLINE!M\"&$D28))))","v":""},{"$f":"IF(B28=\"\",\"\",IF(D28=\"\",\"\",SUM(INDIRECT(\"MAINLINE!N\"&$B28+1):INDIRECT(\"MAINLINE!N\"&$D28))))","v":""},{"$f":"IF(B28=\"\",\"\",IF(D28=\"\",\"\",SUM(INDIRECT(\"MAINLINE!O\"&$B28+1):INDIRECT(\"MAINLINE!O\"&$D28))))","v":""},{"$f":"IF(B28=\"\",\"\",IF(D28=\"\",\"\",SUM(INDIRECT(\"MAINLINE!P\"&$B28+1):INDIRECT(\"MAINLINE!P\"&$D28))))","v":""},{"$f":"IF(B28=\"\",\"\",IF(D28=\"\",\"\",SUM(INDIRECT(\"MAINLINE!Q\"&$B28+1):INDIRECT(\"MAINLINE!Q\"&$D28))))","v":""},{"$f":"IF(B28=\"\",\"\",IF(D28=\"\",\"\",SUM(INDIRECT(\"MAINLINE!R\"&$B28+1):INDIRECT(\"MAINLINE!R\"&$D28))))","v":""},{"$f":"IF(B28=\"\",\"\",IF(D28=\"\",\"\",SUM(INDIRECT(\"MAINLINE!S\"&$B28+1):INDIRECT(\"MAINLINE!S\"&$D28))))","v":""},{"$f":"IF(B28=\"\",\"\",IF(D28=\"\",\"\",SUM(INDIRECT(\"MAINLINE!T\"&$B28+1):INDIRECT(\"MAINLINE!T\"&$D28))))","v":""},{"$f":"IF(B28=\"\",\"\",IF(D28=\"\",\"\",SUM(INDIRECT(\"MAINLINE!U\"&$B28+1):INDIRECT(\"MAINLINE!U\"&$D28))))","v":""},{"$f":"IF(B28=\"\",\"\",IF(D28=\"\",\"\",SUM(INDIRECT(\"MAINLINE!V\"&$B28+1):INDIRECT(\"MAINLINE!V\"&$D28))))","v":""}]
["",{"$f":"_xlfn.IFNA(MATCH(A29,MAINLINE!$A$1:$A$586,0),\"\")","v":""},null,{"$f":"_xlfn.IFNA(MATCH(C29,MAINLINE!$A$1:$A$586,0),\"\")","v":""},null,{"$f":"IF(B29=\"\",\"\",IF(D29=\"\",\"\",SUM(INDIRECT(\"MAINLINE!M\"&$B29+1):INDIRECT(\"MAINLINE!M\"&$D29))))","v":""},{"$f":"IF(B29=\"\",\"\",IF(D29=\"\",\"\",SUM(INDIRECT(\"MAINLINE!N\"&$B29+1):INDIRECT(\"MAINLINE!N\"&$D29))))","v":""},{"$f":"IF(B29=\"\",\"\",IF(D29=\"\",\"\",SUM(INDIRECT(\"MAINLINE!O\"&$B29+1):INDIRECT(\"MAINLINE!O\"&$D29))))","v":""},{"$f":"IF(B29=\"\",\"\",IF(D29=\"\",\"\",SUM(INDIRECT(\"MAINLINE!P\"&$B29+1):INDIRECT(\"MAINLINE!P\"&$D29))))","v":""},{"$f":"IF(B29=\"\",\"\",IF(D29=\"\",\"\",SUM(INDIRECT(\"MAINLINE!Q\"&$B29+1):INDIRECT(\"MAINLINE!Q\"&$D29))))","v":""},{"$f":"IF(B29=\"\",\"\",IF(D29=\"\",\"\",SUM(INDIRECT(\"MAINLINE!R\"&$B29+1):INDIRECT(\"MAINLINE!R\"&$D29))))","v":""},{"$f":"IF(B29=\"\",\"\",IF(D29=\"\",\"\",SUM(INDIRECT(\"MAINLINE!S\"&$B29+1):INDIRECT(\"MAINLINE!S\"&$D29))))","v":""},{"$f":"IF(B29=\"\",\"\",IF(D29=\"\",\"\",SUM(INDIRECT(\"MAINLINE!T\"&$B29+1):INDIRECT(\"MAINLINE!T\"&$D29))))","v":""},{"$f":"IF(B29=\"\",\"\",IF(D29=\"\",\"\",SUM(INDIRECT(\"MAINLINE!U\"&$B29+1):INDIRECT(\"MAINLINE!U\"&$D29))))","v":""},{"$f":"IF(B29=\"\",\"\",IF(D29=\"\",\"\",SUM(INDIRECT(\"MAINLINE!V\"&$B29+1):INDIRECT(\"MAINLINE!V\"&$D29))))","v":""}]
["",{"$f":"_xlfn.IFNA(MATCH(A30,MAINLINE!$A$1:$A$586,0),\"\")","v":""},null,{"$f":"_xlfn.IFNA(MATCH(C30,MAINLINE!$A$1:$A$586,0),\"\")","v":""},null,{"$f":"IF(B30=\"\",\"\",IF(D30=\"\",\"\",SUM(INDIRECT(\"MAINLINE!M\"&$B30+1):INDIRECT(\"MAINLINE!M\"&$D30))))","v":""},{"$f":"IF(B30=\"\",\"\",IF(D30=\"\",\"\",SUM(INDIRECT(\"MAINLINE!N\"&$B30+1):INDIRECT(\"MAINLINE!N\"&$D30))))","v":""},{"$f":"IF(B30=\"\",\"\",IF(D30=\"\",\"\",SUM(INDIRECT(\"MAINLINE!O\"&$B30+1):INDIRECT(\"MAINLINE!O\"&$D30))))","v":""},{"$f":"IF(B30=\"\",\"\",IF(D30=\"\",\"\",SUM(INDIRECT(\"MAINLINE!P\"&$B30+1):INDIRECT(\"MAINLINE!P\"&$D30))))","v":""},{"$f":"IF(B30=\"\",\"\",IF(D30=\"\",\"\",SUM(INDIRECT(\"MAINLINE!Q\"&$B30+1):INDIRECT(\"MAINLINE!Q\"&$D30))))","v":""},{"$f":"IF(B30=\"\",\"\",IF(D30=\"\",\"\",SUM(INDIRECT(\"MAINLINE!R\"&$B30+1):INDIRECT(\"MAINLINE!R\"&$D30))))","v":""},{"$f":"IF(B30=\"\",\"\",IF(D30=\"\",\"\",SUM(INDIRECT(\"MAINLINE!S\"&$B30+1):INDIRECT(\"MAINLINE!S\"&$D30))))","v":""},{"$f":"IF(B30=\"\",\"\",IF(D30=\"\",\"\",SUM(INDIRECT(\"MAINLINE!T\"&$B30+1):INDIRECT(\"MAINLINE!T\"&$D30))))","v":""},{"$f":"IF(B30=\"\",\"\",IF(D30=\"\",\"\",SUM(INDIRECT(\"MAINLINE!U\"&$B30+1):INDIRECT(\"MAINLINE!U\"&$D30))))","v":""},{"$f":"IF(B30=\"\",\"\",IF(D30=\"\",\"\",SUM(INDIRECT(\"MAINLINE!V\"&$B30+1):INDIRECT(\"MAINLINE!V\"&$D30))))","v":""}]
["",{"$f":"_xlfn.IFNA(MATCH(A31,MAINLINE!$A$1:$A$586,0),\"\")","v":""},null,{"$f":"_xlfn.IFNA(MATCH(C31,MAINLINE!$A$1:$A$586,0),\"\")","v":""},null,{"$f":"IF(B31=\"\",\"\",IF(D31=\"\",\"\",SUM(INDIRECT(\"MAINLINE!M\"&$B31+1):INDIRECT(\"MAINLINE!M\"&$D31))))","v":""},{"$f":"IF(B31=\"\",\"\",IF(D31=\"\",\"\",SUM(INDIRECT(\"MAINLINE!N\"&$B31+1):INDIRECT(\"MAINLINE!N\"&$D31))))","v":""},{"$f":"IF(B31=\"\",\"\",IF(D31=\"\",\"\",SUM(INDIRECT(\"MAINLINE!O\"&$B31+1):INDIRECT(\"MAINLINE!O\"&$D31))))","v":""},{"$f":"IF(B31=\"\",\"\",IF(D31=\"\",\"\",SUM(INDIRECT(\"MAINLINE!P\"&$B31+1):INDIRECT(\"MAINLINE!P\"&$D31))))","v":""},{"$f":"IF(B31=\"\",\"\",IF(D31=\"\",\"\",SUM(INDIRECT(\"MAINLINE!Q\"&$B31+1):INDIRECT(\"MAINLINE!Q\"&$D31))))","v":""},{"$f":"IF(B31=\"\",\"\",IF(D31=\"\",\"\",SUM(INDIRECT(\"MAINLINE!R\"&$B31+1):INDIRECT(\"MAINLINE!R\"&$D31))))","v":""},{"$f":"IF(B31=\"\",\"\",IF(D31=\"\",\"\",SUM(INDIRECT(\"MAINLINE!S\"&$B31+1):INDIRECT(\"MAINLINE!S\"&$D31))))","v":""},{"$f":"IF(B31=\"\",\"\",IF(D31=\"\",\"\",SUM(INDIRECT(\"MAINLINE!T\"&$B31+1):INDIRECT(\"MAINLINE!T\"&$D31))))","v":""},{"$f":"IF(B31=\"\",\"\",IF(D31=\"\",\"\",SUM(INDIRECT(\"MAINLINE!U\"&$B31+1):INDIRECT(\"MAINLINE!U\"&$D31))))","v":""},{"$f":"IF(B31=\"\",\"\",IF(D31=\"\",\"\",SUM(INDIRECT(\"MAINLINE!V\"&$B31+1):INDIRECT(\"MAINLINE!V\"&$D31))))","v":""}]
["",{"$f":"_xlfn.IFNA(MATCH(A32,MAINLINE!$A$1:$A$586,0),\"\")","v":""},null,{"$f":"_xlfn.IFNA(MATCH(C32,MAINLINE!$A$1:$A$586,0),\"\")","v":""},null,{"$f":"IF(B32=\"\",\"\",IF(D32=\"\",\"\",SUM(INDIRECT(\"MAINLINE!M\"&$B32+1):INDIRECT(\"MAINLINE!M\"&$D32))))","v":""},{"$f":"IF(B32=\"\",\"\",IF(D32=\"\",\"\",SUM(INDIRECT(\"MAINLINE!N\"&$B32+1):INDIRECT(\"MAINLINE!N\"&$D32))))","v":""},{"$f":"IF(B32=\"\",\"\",IF(D32=\"\",\"\",SUM(INDIRECT(\"MAINLINE!O\"&$B32+1):INDIRECT(\"MAINLINE!O\"&$D32))))","v":""},{"$f":"IF(B32=\"\",\"\",IF(D32=\"\",\"\",SUM(INDIRECT(\"MAINLINE!P\"&$B32+1):INDIRECT(\"MAINLINE!P\"&$D32))))","v":""},{"$f":"IF(B32=\"\",\"\",IF(D32=\"\",\"\",SUM(INDIRECT(\"MAINLINE!Q\"&$B32+1):INDIRECT(\"MAINLINE!Q\"&$D32))))","v":""},{"$f":"IF(B32=\"\",\"\",IF(D32=\"\",\"\",SUM(INDIRECT(\"MAINLINE!R\"&$B32+1):INDIRECT(\"MAINLINE!R\"&$D32))))","v":""},{"$f":"IF(B32=\"\",\"\",IF(D32=\"\",\"\",SUM(INDIRECT(\"MAINLINE!S\"&$B32+1):INDIRECT(\"MAINLINE!S\"&$D32))))","v":""},{"$f":"IF(B32=\"\",\"\",IF(D32=\"\",\"\",SUM(INDIRECT(\"MAINLINE!T\"&$B32+1):INDIRECT(\"MAINLINE!T\"&$D32))))","v":""},{"$f":"IF(B32=\"\",\"\",IF(D32=\"\",\"\",SUM(INDIRECT(\"MAINLINE!U\"&$B32+1):INDIRECT(\"MAINLINE!U\"&$D32))))","v":""},{"$f":"IF(B32=\"\",\"\",IF(D32=\"\",\"\",SUM(INDIRECT(\"MAINLINE!V\"&$B32+1):INDIRECT(\"MAINLINE!V\"&$D32))))","v":""}]
["",{"$f":"_xlfn.IFNA(MATCH(A33,MAINLINE!$A$1:$A$586,0),\"\")","v":""},null,{"$f":"_xlfn.IFNA(MATCH(C33,MAINLINE!$A$1:$A$586,0),\"\")","v":""},null,{"$f":"IF(B33=\"\",\"\",IF(D33=\"\",\"\",SUM(INDIRECT(\"MAINLINE!M\"&$B33+1):INDIRECT(\"MAINLINE!M\"&$D33))))","v":""},{"$f":"IF(B33=\"\",\"\",IF(D33=\"\",\"\",SUM(INDIRECT(\"MAINLINE!N\"&$B33+1):INDIRECT(\"MAINLINE!N\"&$D33))))","v":""},{"$f":"IF(B33=\"\",\"\",IF(D33=\"\",\"\",SUM(INDIRECT(\"MAINLINE!O\"&$B33+1):INDIRECT(\"MAINLINE!O\"&$D33))))","v":""},{"$f":"IF(B33=\"\",\"\",IF(D33=\"\",\"\",SUM(INDIRECT(\"MAINLINE!P\"&$B33+1):INDIRECT(\"MAINLINE!P\"&$D33))))","v":""},{"$f":"IF(B33=\"\",\"\",IF(D33=\"\",\"\",SUM(INDIRECT(\"MAINLINE!Q\"&$B33+1):INDIRECT(\"MAINLINE!Q\"&$D33))))","v":""},{"$f":"IF(B33=\"\",\"\",IF(D33=\"\",\"\",SUM(INDIRECT(\"MAINLINE!R\"&$B33+1):INDIRECT(\"MAINLINE!R\"&$D33))))","v":""},{"$f":"IF(B33=\"\",\"\",IF(D33=\"\",\"\",SUM(INDIRECT(\"MAINLINE!S\"&$B33+1):INDIRECT(\"MAINLINE!S\"&$D33))))","v":""},{"$f":"IF(B33=\"\",\"\",IF(D33=\"\",\"\",SUM(INDIRECT(\"MAINLINE!T\"&$B33+1):INDIRECT(\"MAINLINE!T\"&$D33))))","v":""},{"$f":"IF(B33=\"\",\"\",IF(D33=\"\",\"\",SUM(INDIRECT(\"MAINLINE!U\"&$B33+1):INDIRECT(\"MAINLINE!U\"&$D33))))","v":""},{"$f":"IF(B33=\"\",\"\",IF(D33=\"\",\"\",SUM(INDIRECT(\"MAINLINE!V\"&$B33+1):INDIRECT(\"MAINLINE!V\"&$D33))))","v":""}]
["",{"$f":"_xlfn.IFNA(MATCH(A34,MAINLINE!$A$1:$A$586,0),\"\")","v":""},null,{"$f":"_xlfn.IFNA(MATCH(C34,MAINLINE!$A$1:$A$586,0),\"\")","v":""},null,{"$f":"IF(B34=\"\",\"\",IF(D34=\"\",\"\",SUM(INDIRECT(\"MAINLINE!M\"&$B34+1):INDIRECT(\"MAINLINE!M\"&$D34))))","v":""},{"$f":"IF(B34=\"\",\"\",IF(D34=\"\",\"\",SUM(INDIRECT(\"MAINLINE!N\"&$B34+1):INDIRECT(\"MAINLINE!N\"&$D34))))","v":""},{"$f":"IF(B34=\"\",\"\",IF(D34=\"\",\"\",SUM(INDIRECT(\"MAINLINE!O\"&$B34+1):INDIRECT(\"MAINLINE!O\"&$D34))))","v":""},{"$f":"IF(B34=\"\",\"\",IF(D34=\"\",\"\",SUM(INDIRECT(\"MAINLINE!P\"&$B34+1):INDIRECT(\"MAINLINE!P\"&$D34))))","v":""},{"$f":"IF(B34=\"\",\"\",IF(D34=\"\",\"\",SUM(INDIRECT(\"MAINLINE!Q\"&$B34+1):INDIRECT(\"MAINLINE!Q\"&$D34))))","v":""},{"$f":"IF(B34=\"\",\"\",IF(D34=\"\",\"\",SUM(INDIRECT(\"MAINLINE!R\"&$B34+1):INDIRECT(\"MAINLINE!R\"&$D34))))","v":""},{"$f":"IF(B34=\"\",\"\",IF(D34=\"\",\"\",SUM(INDIRECT(\"MAINLINE!S\"&$B34+1):INDIRECT(\"MAINLINE!S\"&$D34))))","v":""},{"$f":"IF(B34=\"\",\"\",IF(D34=\"\",\"\",SUM(INDIRECT(\"MAINLINE!T\"&$B34+1):INDIRECT(\"MAINLINE!T\"&$D34))))","v":""},{"$f":"IF(B34=\"\",\"\",IF(D34=\"\",\"\",SUM(INDIRECT(\"MAINLINE!U\"&$B34+1):INDIRECT(\"MAINLINE!U\"&$D34))))","v":""},{"$f":"IF(B34=\"\",\"\",IF(D34=\"\",\"\",SUM(INDIRECT(\"MAINLINE!V\"&$B34+1):INDIRECT(\"MAINLINE!V\"&$D34))))","v":""}]
["",{"$f":"_xlfn.IFNA(MATCH(A35,MAINLINE!$A$1:$A$586,0),\"\")","v":""},null,{"$f":"_xlfn.IFNA(MATCH(C35,MAINLINE!$A$1:$A$586,0),\"\")","v":""},null,{"$f":"IF(B35=\"\",\"\",IF(D35=\"\",\"\",SUM(INDIRECT(\"MAINLINE!M\"&$B35+1):INDIRECT(\"MAINLINE!M\"&$D35))))","v":""},{"$f":"IF(B35=\"\",\"\",IF(D35=\"\",\"\",SUM(INDIRECT(\"MAINLINE!N\"&$B35+1):INDIRECT(\"MAINLINE!N\"&$D35))))","v":""},{"$f":"IF(B35=\"\",\"\",IF(D35=\"\",\"\",SUM(INDIRECT(\"MAINLINE!O\"&$B35+1):INDIRECT(\"MAINLINE!O\"&$D35))))","v":""},{"$f":"IF(B35=\"\",\"\",IF(D35=\"\",\"\",SUM(INDIRECT(\"MAINLINE!P\"&$B35+1):INDIRECT(\"MAINLINE!P\"&$D35))))","v":""},{"$f":"IF(B35=\"\",\"\",IF(D35=\"\",\"\",SUM(INDIRECT(\"MAINLINE!Q\"&$B35+1):INDIRECT(\"MAINLINE!Q\"&$D35))))","v":""},{"$f":"IF(B35=\"\",\"\",IF(D35=\"\",\"\",SUM(INDIRECT(\"MAINLINE!R\"&$B35+1):INDIRECT(\"MAINLINE!R\"&$D35))))","v":""},{"$f":"IF(B35=\"\",\"\",IF(D35=\"\",\"\",SUM(INDIRECT(\"MAINLINE!S\"&$B35+1):INDIRECT(\"MAINLINE!S\"&$D35))))","v":""},{"$f":"IF(B35=\"\",\"\",IF(D35=\"\",\"\",SUM(INDIRECT(\"MAINLINE!T\"&$B35+1):INDIRECT(\"MAINLINE!T\"&$D35))))","v":""},{"$f":"IF(B35=\"\",\"\",IF(D35=\"\",\"\",SUM(INDIRECT(\"MAINLINE!U\"&$B35+1):INDIRECT(\"MAINLINE!U\"&$D35))))","v":""},{"$f":"IF(B35=\"\",\"\",IF(D35=\"\",\"\",SUM(INDIRECT(\"MAINLINE!V\"&$B35+1):INDIRECT(\"MAINLINE!V\"&$D35))))","v":""}]
["",{"$f":"_xlfn.IFNA(MATCH(A36,MAINLINE!$A$1:$A$586,0),\"\")","v":""},null,{"$f":"_xlfn.IFNA(MATCH(C36,MAINLINE!$A$1:$A$586,0),\"\")","v":""},null,{"$f":"IF(B36=\"\",\"\",IF(D36=\"\",\"\",SUM(INDIRECT(\"MAINLINE!M\"&$B36+1):INDIRECT(\"MAINLINE!M\"&$D36))))","v":""},{"$f":"IF(B36=\"\",\"\",IF(D36=\"\",\"\",SUM(INDIRECT(\"MAINLINE!N\"&$B36+1):INDIRECT(\"MAINLINE!N\"&$D36))))","v":""},{"$f":"IF(B36=\"\",\"\",IF(D36=\"\",\"\",SUM(INDIRECT(\"MAINLINE!O\"&$B36+1):INDIRECT(\"MAINLINE!O\"&$D36))))","v":""},{"$f":"IF(B36=\"\",\"\",IF(D36=\"\",\"\",SUM(INDIRECT(\"MAINLINE!P\"&$B36+1):INDIRECT(\"MAINLINE!P\"&$D36))))","v":""},{"$f":"IF(B36=\"\",\"\",IF(D36=\"\",\"\",SUM(INDIRECT(\"MAINLINE!Q\"&$B36+1):INDIRECT(\"MAINLINE!Q\"&$D36))))","v":""},{"$f":"IF(B36=\"\",\"\",IF(D36=\"\",\"\",SUM(INDIRECT(\"MAINLINE!R\"&$B36+1):INDIRECT(\"MAINLINE!R\"&$D36))))","v":""},{"$f":"IF(B36=\"\",\"\",IF(D36=\"\",\"\",SUM(INDIRECT(\"MAINLINE!S\"&$B36+1):INDIRECT(\"MAINLINE!S\"&$D36))))","v":""},{"$f":"IF(B36=\"\",\"\",IF(D36=\"\",\"\",SUM(INDIRECT(\"MAINLINE!T\"&$B36+1):INDIRECT(\"MAINLINE!T\"&$D36))))","v":""},{"$f":"IF(B36=\"\",\"\",IF(D36=\"\",\"\",SUM(INDIRECT(\"MAINLINE!U\"&$B36+1):INDIRECT(\"MAINLINE!U\"&$D36))))","v":""},{"$f":"IF(B36=\"\",\"\",IF(D36=\"\",\"\",SUM(INDIRECT(\"MAINLINE!V\"&$B36+1):INDIRECT(\"MAINLINE!V\"&$D36))))","v":""}]
["",{"$f":"_xlfn.IFNA(MATCH(A37,MAINLINE!$A$1:$A$586,0),\"\")","v":""},null,{"$f":"_xlfn.IFNA(MATCH(C37,MAINLINE!$A$1:$A$586,0),\"\")","v":""},null,{"$f":"IF(B37=\"\",\"\",IF(D37=\"\",\"\",SUM(INDIRECT(\"MAINLINE!M\"&$B37+1):INDIRECT(\"MAINLINE!M\"&$D37))))","v":""},{"$f":"IF(B37=\"\",\"\",IF(D37=\"\",\"\",SUM(INDIRECT(\"MAINLINE!N\"&$B37+1):INDIRECT(\"MAINLINE!N\"&$D37))))","v":""},{"$f":"IF(B37=\"\",\"\",IF(D37=\"\",\"\",SUM(INDIRECT(\"MAINLINE!O\"&$B37+1):INDIRECT(\"MAINLINE!O\"&$D37))))","v":""},{"$f":"IF(B37=\"\",\"\",IF(D37=\"\",\"\",SUM(INDIRECT(\"MAINLINE!P\"&$B37+1):INDIRECT(\"MAINLINE!P\"&$D37))))","v":""},{"$f":"IF(B37=\"\",\"\",IF(D37=\"\",\"\",SUM(INDIRECT(\"MAINLINE!Q\"&$B37+1):INDIRECT(\"MAINLINE!Q\"&$D37))))","v":""},{"$f":"IF(B37=\"\",\"\",IF(D37=\"\",\"\",SUM(INDIRECT(\"MAINLINE!R\"&$B37+1):INDIRECT(\"MAINLINE!R\"&$D37))))","v":""},{"$f":"IF(B37=\"\",\"\",IF(D37=\"\",\"\",SUM(INDIRECT(\"MAINLINE!S\"&$B37+1):INDIRECT(\"MAINLINE!S\"&$D37))))","v":""},{"$f":"IF(B37=\"\",\"\",IF(D37=\"\",\"\",SUM(INDIRECT(\"MAINLINE!T\"&$B37+1):INDIRECT(\"MAINLINE!T\"&$D37))))","v":""},{"$f":"IF(B37=\"\",\"\",IF(D37=\"\",\"\",SUM(INDIRECT(\"MAINLINE!U\"&$B37+1):INDIRECT(\"MAINLINE!U\"&$D37))))","v":""},{"$f":"IF(B37=\"\",\"\",IF(D37=\"\",\"\",SUM(INDIRECT(\"MAINLINE!V\"&$B37+1):INDIRECT(\"MAINLINE!V\"&$D37))))","v":""}]
["",{"$f":"_xlfn.IFNA(MATCH(A38,MAINLINE!$A$1:$A$586,0),\"\")","v":""},null,{"$f":"_xlfn.IFNA(MATCH(C38,MAINLINE!$A$1:$A$586,0),\"\")","v":""},null,{"$f":"IF(B38=\"\",\"\",IF(D38=\"\",\"\",SUM(INDIRECT(\"MAINLINE!M\"&$B38+1):INDIRECT(\"MAINLINE!M\"&$D38))))","v":""},{"$f":"IF(B38=\"\",\"\",IF(D38=\"\",\"\",SUM(INDIRECT(\"MAINLINE!N\"&$B38+1):INDIRECT(\"MAINLINE!N\"&$D38))))","v":""},{"$f":"IF(B38=\"\",\"\",IF(D38=\"\",\"\",SUM(INDIRECT(\"MAINLINE!O\"&$B38+1):INDIRECT(\"MAINLINE!O\"&$D38))))","v":""},{"$f":"IF(B38=\"\",\"\",IF(D38=\"\",\"\",SUM(INDIRECT(\"MAINLINE!P\"&$B38+1):INDIRECT(\"MAINLINE!P\"&$D38))))","v":""},{"$f":"IF(B38=\"\",\"\",IF(D38=\"\",\"\",SUM(INDIRECT(\"MAINLINE!Q\"&$B38+1):INDIRECT(\"MAINLINE!Q\"&$D38))))","v":""},{"$f":"IF(B38=\"\",\"\",IF(D38=\"\",\"\",SUM(INDIRECT(\"MAINLINE!R\"&$B38+1):INDIRECT(\"MAINLINE!R\"&$D38))))","v":""},{"$f":"IF(B38=\"\",\"\",IF(D38=\"\",\"\",SUM(INDIRECT(\"MAINLINE!S\"&$B38+1):INDIRECT(\"MAINLINE!S\"&$D38))))","v":""},{"$f":"IF(B38=\"\",\"\",IF(D38=\"\",\"\",SUM(INDIRECT(\"MAINLINE!T\"&$B38+1):INDIRECT(\"MAINLINE!T\"&$D38))))","v":""},{"$f":"IF(B38=\"\",\"\",IF(D38=\"\",\"\",SUM(INDIRECT(\"MAINLINE!U\"&$B38+1):INDIRECT(\"MAINLINE!U\"&$D38))))","v":""},{"$f":"IF(B38=\"\",\"\",IF(D38=\"\",\"\",SUM(INDIRECT(\"MAINLINE!V\"&$B38+1):INDIRECT(\"MAINLINE!V\"&$D38))))","v":""}]
["",{"$f":"_xlfn.IFNA(MATCH(A39,MAINLINE!$A$1:$A$586,0),\"\")","v":""},null,{"$f":"_xlfn.IFNA(MATCH(C39,MAINLINE!$A$1:$A$586,0),\"\")","v":""},null,{"$f":"IF(B39=\"\",\"\",IF(D39=\"\",\"\",SUM(INDIRECT(\"MAINLINE!M\"&$B39+1):INDIRECT(\"MAINLINE!M\"&$D39))))","v":""},{"$f":"IF(B39=\"\",\"\",IF(D39=\"\",\"\",SUM(INDIRECT(\"MAINLINE!N\"&$B39+1):INDIRECT(\"MAINLINE!N\"&$D39))))","v":""},{"$f":"IF(B39=\"\",\"\",IF(D39=\"\",\"\",SUM(INDIRECT(\"MAINLINE!O\"&$B39+1):INDIRECT(\"MAINLINE!O\"&$D39))))","v":""},{"$f":"IF(B39=\"\",\"\",IF(D39=\"\",\"\",SUM(INDIRECT(\"MAINLINE!P\"&$B39+1):INDIRECT(\"MAINLINE!P\"&$D39))))","v":""},{"$f":"IF(B39=\"\",\"\",IF(D39=\"\",\"\",SUM(INDIRECT(\"MAINLINE!Q\"&$B39+1):INDIRECT(\"MAINLINE!Q\"&$D39))))","v":""},{"$f":"IF(B39=\"\",\"\",IF(D39=\"\",\"\",SUM(INDIRECT(\"MAINLINE!R\"&$B39+1):INDIRECT(\"MAINLINE!R\"&$D39))))","v":""},{"$f":"IF(B39=\"\",\"\",IF(D39=\"\",\"\",SUM(INDIRECT(\"MAINLINE!S\"&$B39+1):INDIRECT(\"MAINLINE!S\"&$D39))))","v":""},{"$f":"IF(B39=\"\",\"\",IF(D39=\"\",\"\",SUM(INDIRECT(\"MAINLINE!T\"&$B39+1):INDIRECT(\"MAINLINE!T\"&$D39))))","v":""},{"$f":"IF(B39=\"\",\"\",IF(D39=\"\",\"\",SUM(INDIRECT(\"MAINLINE!U\"&$B39+1):INDIRECT(\"MAINLINE!U\"&$D39))))","v":""},{"$f":"IF(B39=\"\",\"\",IF(D39=\"\",\"\",SUM(INDIRECT(\"MAINLINE!V\"&$B39+1):INDIRECT(\"MAINLINE!V\"&$D39))))","v":""}]
["",{"$f":"_xlfn.IFNA(MATCH(A40,MAINLINE!$A$1:$A$586,0),\"\")","v":""},null,{"$f":"_xlfn.IFNA(MATCH(C40,MAINLINE!$A$1:$A$586,0),\"\")","v":""},null,{"$f":"IF(B40=\"\",\"\",IF(D40=\"\",\"\",SUM(INDIRECT(\"MAINLINE!M\"&$B40+1):INDIRECT(\"MAINLINE!M\"&$D40))))","v":""},{"$f":"IF(B40=\"\",\"\",IF(D40=\"\",\"\",SUM(INDIRECT(\"MAINLINE!N\"&$B40+1):INDIRECT(\"MAINLINE!N\"&$D40))))","v":""},{"$f":"IF(B40=\"\",\"\",IF(D40=\"\",\"\",SUM(INDIRECT(\"MAINLINE!O\"&$B40+1):INDIRECT(\"MAINLINE!O\"&$D40))))","v":""},{"$f":"IF(B40=\"\",\"\",IF(D40=\"\",\"\",SUM(INDIRECT(\"MAINLINE!P\"&$B40+1):INDIRECT(\"MAINLINE!P\"&$D40))))","v":""},{"$f":"IF(B40=\"\",\"\",IF(D40=\"\",\"\",SUM(INDIRECT(\"MAINLINE!Q\"&$B40+1):INDIRECT(\"MAINLINE!Q\"&$D40))))","v":""},{"$f":"IF(B40=\"\",\"\",IF(D40=\"\",\"\",SUM(INDIRECT(\"MAINLINE!R\"&$B40+1):INDIRECT(\"MAINLINE!R\"&$D40))))","v":""},{"$f":"IF(B40=\"\",\"\",IF(D40=\"\",\"\",SUM(INDIRECT(\"MAINLINE!S\"&$B40+1):INDIRECT(\"MAINLINE!S\"&$D40))))","v":""},{"$f":"IF(B40=\"\",\"\",IF(D40=\"\",\"\",SUM(INDIRECT(\"MAINLINE!T\"&$B40+1):INDIRECT(\"MAINLINE!T\"&$D40))))","v":""},{"$f":"IF(B40=\"\",\"\",IF(D40=\"\",\"\",SUM(INDIRECT(\"MAINLINE!U\"&$B40+1):INDIRECT(\"MAINLINE!U\"&$D40))))","v":""},{"$f":"IF(B40=\"\",\"\",IF(D40=\"\",\"\",SUM(INDIRECT(\"MAINLINE!V\"&$B40+1):INDIRECT(\"MAINLINE!V\"&$D40))))","v":""}]
["",{"$f":"_xlfn.IFNA(MATCH(A41,MAINLINE!$A$1:$A$586,0),\"\")","v":""},null,{"$f":"_xlfn.IFNA(MATCH(C41,MAINLINE!$A$1:$A$586,0),\"\")","v":""},null,{"$f":"IF(B41=\"\",\"\",IF(D41=\"\",\"\",SUM(INDIRECT(\"MAINLINE!M\"&$B41+1):INDIRECT(\"MAINLINE!M\"&$D41))))","v":""},{"$f":"IF(B41=\"\",\"\",IF(D41=\"\",\"\",SUM(INDIRECT(\"MAINLINE!N\"&$B41+1):INDIRECT(\"MAINLINE!N\"&$D41))))","v":""},{"$f":"IF(B41=\"\",\"\",IF(D41=\"\",\"\",SUM(INDIRECT(\"MAINLINE!O\"&$B41+1):INDIRECT(\"MAINLINE!O\"&$D41))))","v":""},{"$f":"IF(B41=\"\",\"\",IF(D41=\"\",\"\",SUM(INDIRECT(\"MAINLINE!P\"&$B41+1):INDIRECT(\"MAINLINE!P\"&$D41))))","v":""},{"$f":"IF(B41=\"\",\"\",IF(D41=\"\",\"\",SUM(INDIRECT(\"MAINLINE!Q\"&$B41+1):INDIRECT(\"MAINLINE!Q\"&$D41))))","v":""},{"$f":"IF(B41=\"\",\"\",IF(D41=\"\",\"\",SUM(INDIRECT(\"MAINLINE!R\"&$B41+1):INDIRECT(\"MAINLINE!R\"&$D41))))","v":""},{"$f":"IF(B41=\"\",\"\",IF(D41=\"\",\"\",SUM(INDIRECT(\"MAINLINE!S\"&$B41+1):INDIRECT(\"MAINLINE!S\"&$D41))))","v":""},{"$f":"IF(B41=\"\",\"\",IF(D41=\"\",\"\",SUM(INDIRECT(\"MAINLINE!T\"&$B41+1):INDIRECT(\"MAINLINE!T\"&$D41))))","v":""},{"$f":"IF(B41=\"\",\"\",IF(D41=\"\",\"\",SUM(INDIRECT(\"MAINLINE!U\"&$B41+1):INDIRECT(\"MAINLINE!U\"&$D41))))","v":""},{"$f":"IF(B41=\"\",\"\",IF(D41=\"\",\"\",SUM(INDIRECT(\"MAINLINE!V\"&$B41+1):INDIRECT(\"MAINLINE!V\"&$D41))))","v":""}]
["",{"$f":"_xlfn.IFNA(MATCH(A42,MAINLINE!$A$1:$A$586,0),\"\")","v":""},null,{"$f":"_xlfn.IFNA(MATCH(C42,MAINLINE!$A$1:$A$586,0),\"\")","v":""},null,{"$f":"IF(B42=\"\",\"\",IF(D42=\"\",\"\",SUM(INDIRECT(\"MAINLINE!M\"&$B42+1):INDIRECT(\"MAINLINE!M\"&$D42))))","v":""},{"$f":"IF(B42=\"\",\"\",IF(D42=\"\",\"\",SUM(INDIRECT(\"MAINLINE!N\"&$B42+1):INDIRECT(\"MAINLINE!N\"&$D42))))","v":""},{"$f":"IF(B42=\"\",\"\",IF(D42=\"\",\"\",SUM(INDIRECT(\"MAINLINE!O\"&$B42+1):INDIRECT(\"MAINLINE!O\"&$D42))))","v":""},{"$f":"IF(B42=\"\",\"\",IF(D42=\"\",\"\",SUM(INDIRECT(\"MAINLINE!P\"&$B42+1):INDIRECT(\"MAINLINE!P\"&$D42))))","v":""},{"$f":"IF(B42=\"\",\"\",IF(D42=\"\",\"\",SUM(INDIRECT(\"MAINLINE!Q\"&$B42+1):INDIRECT(\"MAINLINE!Q\"&$D42))))","v":""},{"$f":"IF(B42=\"\",\"\",IF(D42=\"\",\"\",SUM(INDIRECT(\"MAINLINE!R\"&$B42+1):INDIRECT(\"MAINLINE!R\"&$D42))))","v":""},{"$f":"IF(B42=\"\",\"\",IF(D42=\"\",\"\",SUM(INDIRECT(\"MAINLINE!S\"&$B42+1):INDIRECT(\"MAINLINE!S\"&$D42))))","v":""},{"$f":"IF(B42=\"\",\"\",IF(D42=\"\",\"\",SUM(INDIRECT(\"MAINLINE!T\"&$B42+1):INDIRECT(\"MAINLINE!T\"&$D42))))","v":""},{"$f":"IF(B42=\"\",\"\",IF(D42=\"\",\"\",SUM(INDIRECT(\"MAINLINE!U\"&$B42+1):INDIRECT(\"MAINLINE!U\"&$D42))))","v":""},{"$f":"IF(B42=\"\",\"\",IF(D42=\"\",\"\",SUM(INDIRECT(\"MAINLINE!V\"&$B42+1):INDIRECT(\"MAINLINE!V\"&$D42))))","v":""}]
["",{"$f":"_xlfn.IFNA(MATCH(A43,MAINLINE!$A$1:$A$586,0),\"\")","v":""},null,{"$f":"_xlfn.IFNA(MATCH(C43,MAINLINE!$A$1:$A$586,0),\"\")","v":""},null,{"$f":"IF(B43=\"\",\"\",IF(D43=\"\",\"\",SUM(INDIRECT(\"MAINLINE!M\"&$B43+1):INDIRECT(\"MAINLINE!M\"&$D43))))","v":""},{"$f":"IF(B43=\"\",\"\",IF(D43=\"\",\"\",SUM(INDIRECT(\"MAINLINE!N\"&$B43+1):INDIRECT(\"MAINLINE!N\"&$D43))))","v":""},{"$f":"IF(B43=\"\",\"\",IF(D43=\"\",\"\",SUM(INDIRECT(\"MAINLINE!O\"&$B43+1):INDIRECT(\"MAINLINE!O\"&$D43))))","v":""},{"$f":"IF(B43=\"\",\"\",IF(D43=\"\",\"\",SUM(INDIRECT(\"MAINLINE!P\"&$B43+1):INDIRECT(\"MAINLINE!P\"&$D43))))","v":""},{"$f":"IF(B43=\"\",\"\",IF(D43=\"\",\"\",SUM(INDIRECT(\"MAINLINE!Q\"&$B43+1):INDIRECT(\"MAINLINE!Q\"&$D43))))","v":""},{"$f":"IF(B43=\"\",\"\",IF(D43=\"\",\"\",SUM(INDIRECT(\"MAINLINE!R\"&$B43+1):INDIRECT(\"MAINLINE!R\"&$D43))))","v":""},{"$f":"IF(B43=\"\",\"\",IF(D43=\"\",\"\",SUM(INDIRECT(\"MAINLINE!S\"&$B43+1):INDIRECT(\"MAINLINE!S\"&$D43))))","v":""},{"$f":"IF(B43=\"\",\"\",IF(D43=\"\",\"\",SUM(INDIRECT(\"MAINLINE!T\"&$B43+1):INDIRECT(\"MAINLINE!T\"&$D43))))","v":""},{"$f":"IF(B43=\"\",\"\",IF(D43=\"\",\"\",SUM(INDIRECT(\"MAINLINE!U\"&$B43+1):INDIRECT(\"MAINLINE!U\"&$D43))))","v":""},{"$f":"IF(B43=\"\",\"\",IF(D43=\"\",\"\",SUM(INDIRECT(\"MAINLINE!V\"&$B43+1):INDIRECT(\"MAINLINE!V\"&$D43))))","v":""}]
["",{"$f":"_xlfn.IFNA(MATCH(A44,MAINLINE!$A$1:$A$586,0),\"\")","v":""},null,{"$f":"_xlfn.IFNA(MATCH(C44,MAINLINE!$A$1:$A$586,0),\"\")","v":""},null,{"$f":"IF(B44=\"\",\"\",IF(D44=\"\",\"\",SUM(INDIRECT(\"MAINLINE!M\"&$B44+1):INDIRECT(\"MAINLINE!M\"&$D44))))","v":""},{"$f":"IF(B44=\"\",\"\",IF(D44=\"\",\"\",SUM(INDIRECT(\"MAINLINE!N\"&$B44+1):INDIRECT(\"MAINLINE!N\"&$D44))))","v":""},{"$f":"IF(B44=\"\",\"\",IF(D44=\"\",\"\",SUM(INDIRECT(\"MAINLINE!O\"&$B44+1):INDIRECT(\"MAINLINE!O\"&$D44))))","v":""},{"$f":"IF(B44=\"\",\"\",IF(D44=\"\",\"\",SUM(INDIRECT(\"MAINLINE!P\"&$B44+1):INDIRECT(\"MAINLINE!P\"&$D44))))","v":""},{"$f":"IF(B44=\"\",\"\",IF(D44=\"\",\"\",SUM(INDIRECT(\"MAINLINE!Q\"&$B44+1):INDIRECT(\"MAINLINE!Q\"&$D44))))","v":""},{"$f":"IF(B44=\"\",\"\",IF(D44=\"\",\"\",SUM(INDIRECT(\"MAINLINE!R\"&$B44+1):INDIRECT(\"MAINLINE!R\"&$D44))))","v":""},{"$f":"IF(B44=\"\",\"\",IF(D44=\"\",\"\",SUM(INDIRECT(\"MAINLINE!S\"&$B44+1):INDIRECT(\"MAINLINE!S\"&$D44))))","v":""},{"$f":"IF(B44=\"\",\"\",IF(D44=\"\",\"\",SUM(INDIRECT(\"MAINLINE!T\"&$B44+1):INDIRECT(\"MAINLINE!T\"&$D44))))","v":""},{"$f":"IF(B44=\"\",\"\",IF(D44=\"\",\"\",SUM(INDIRECT(\"MAINLINE!U\"&$B44+1):INDIRECT(\"MAINLINE!U\"&$D44))))","v":""},{"$f":"IF(B44=\"\",\"\",IF(D44=\"\",\"\",SUM(INDIRECT(\"MAINLINE!V\"&$B44+1):INDIRECT(\"MAINLINE!V\"&$D44))))","v":""}]
["",{"$f":"_xlfn.IFNA(MATCH(A45,MAINLINE!$A$1:$A$586,0),\"\")","v":""},null,{"$f":"_xlfn.IFNA(MATCH(C45,MAINLINE!$A$1:$A$586,0),\"\")","v":""},null,{"$f":"IF(B45=\"\",\"\",IF(D45=\"\",\"\",SUM(INDIRECT(\"MAINLINE!M\"&$B45+1):INDIRECT(\"MAINLINE!M\"&$D45))))","v":""},{"$f":"IF(B45=\"\",\"\",IF(D45=\"\",\"\",SUM(INDIRECT(\"MAINLINE!N\"&$B45+1):INDIRECT(\"MAINLINE!N\"&$D45))))","v":""},{"$f":"IF(B45=\"\",\"\",IF(D45=\"\",\"\",SUM(INDIRECT(\"MAINLINE!O\"&$B45+1):INDIRECT(\"MAINLINE!O\"&$D45))))","v":""},{"$f":"IF(B45=\"\",\"\",IF(D45=\"\",\"\",SUM(INDIRECT(\"MAINLINE!P\"&$B45+1):INDIRECT(\"MAINLINE!P\"&$D45))))","v":""},{"$f":"IF(B45=\"\",\"\",IF(D45=\"\",\"\",SUM(INDIRECT(\"MAINLINE!Q\"&$B45+1):INDIRECT(\"MAINLINE!Q\"&$D45))))","v":""},{"$f":"IF(B45=\"\",\"\",IF(D45=\"\",\"\",SUM(INDIRECT(\"MAINLINE!R\"&$B45+1):INDIRECT(\"MAINLINE!R\"&$D45))))","v":""},{"$f":"IF(B45=\"\",\"\",IF(D45=\"\",\"\",SUM(INDIRECT(\"MAINLINE!S\"&$B45+1):INDIRECT(\"MAINLINE!S\"&$D45))))","v":""},{"$f":"IF(B45=\"\",\"\",IF(D45=\"\",\"\",SUM(INDIRECT(\"MAINLINE!T\"&$B45+1):INDIRECT(\"MAINLINE!T\"&$D45))))","v":""},{"$f":"IF(B45=\"\",\"\",IF(D45=\"\",\"\",SUM(INDIRECT(\"MAINLINE!U\"&$B45+1):INDIRECT(\"MAINLINE!U\"&$D45))))","v":""},{"$f":"IF(B45=\"\",\"\",IF(D45=\"\",\"\",SUM(INDIRECT(\"MAINLINE!V\"&$B45+1):INDIRECT(\"MAINLINE!V\"&$D45))))","v":""}]
["",{"$f":"_xlfn.IFNA(MATCH(A46,MAINLINE!$A$1:$A$586,0),\"\")","v":""},null,{"$f":"_xlfn.IFNA(MATCH(C46,MAINLINE!$A$1:$A$586,0),\"\")","v":""},null,{"$f":"IF(B46=\"\",\"\",IF(D46=\"\",\"\",SUM(INDIRECT(\"MAINLINE!M\"&$B46+1):INDIRECT(\"MAINLINE!M\"&$D46))))","v":""},{"$f":"IF(B46=\"\",\"\",IF(D46=\"\",\"\",SUM(INDIRECT(\"MAINLINE!N\"&$B46+1):INDIRECT(\"MAINLINE!N\"&$D46))))","v":""},{"$f":"IF(B46=\"\",\"\",IF(D46=\"\",\"\",SUM(INDIRECT(\"MAINLINE!O\"&$B46+1):INDIRECT(\"MAINLINE!O\"&$D46))))","v":""},{"$f":"IF(B46=\"\",\"\",IF(D46=\"\",\"\",SUM(INDIRECT(\"MAINLINE!P\"&$B46+1):INDIRECT(\"MAINLINE!P\"&$D46))))","v":""},{"$f":"IF(B46=\"\",\"\",IF(D46=\"\",\"\",SUM(INDIRECT(\"MAINLINE!Q\"&$B46+1):INDIRECT(\"MAINLINE!Q\"&$D46))))","v":""},{"$f":"IF(B46=\"\",\"\",IF(D46=\"\",\"\",SUM(INDIRECT(\"MAINLINE!R\"&$B46+1):INDIRECT(\"MAINLINE!R\"&$D46))))","v":""},{"$f":"IF(B46=\"\",\"\",IF(D46=\"\",\"\",SUM(INDIRECT(\"MAINLINE!S\"&$B46+1):INDIRECT(\"MAINLINE!S\"&$D46))))","v":""},{"$f":"IF(B46=\"\",\"\",IF(D46=\"\",\"\",SUM(INDIRECT(\"MAINLINE!T\"&$B46+1):INDIRECT(\"MAINLINE!T\"&$D46))))","v":""},{"$f":"IF(B46=\"\",\"\",IF(D46=\"\",\"\",SUM(INDIRECT(\"MAINLINE!U\"&$B46+1):INDIRECT(\"MAINLINE!U\"&$D46))))","v":""},{"$f":"IF(B46=\"\",\"\",IF(D46=\"\",\"\",SUM(INDIRECT(\"MAINLINE!V\"&$B46+1):INDIRECT(\"MAINLINE!V\"&$D46))))","v":""}]
["",{"$f":"_xlfn.IFNA(MATCH(A47,MAINLINE!$A$1:$A$586,0),\"\")","v":""},null,{"$f":"_xlfn.IFNA(MATCH(C47,MAINLINE!$A$1:$A$586,0),\"\")","v":""},null,{"$f":"IF(B47=\"\",\"\",IF(D47=\"\",\"\",SUM(INDIRECT(\"MAINLINE!M\"&$B47+1):INDIRECT(\"MAINLINE!M\"&$D47))))","v":""},{"$f":"IF(B47=\"\",\"\",IF(D47=\"\",\"\",SUM(INDIRECT(\"MAINLINE!N\"&$B47+1):INDIRECT(\"MAINLINE!N\"&$D47))))","v":""},{"$f":"IF(B47=\"\",\"\",IF(D47=\"\",\"\",SUM(INDIRECT(\"MAINLINE!O\"&$B47+1):INDIRECT(\"MAINLINE!O\"&$D47))))","v":""},{"$f":"IF(B47=\"\",\"\",IF(D47=\"\",\"\",SUM(INDIRECT(\"MAINLINE!P\"&$B47+1):INDIRECT(\"MAINLINE!P\"&$D47))))","v":""},{"$f":"IF(B47=\"\",\"\",IF(D47=\"\",\"\",SUM(INDIRECT(\"MAINLINE!Q\"&$B47+1):INDIRECT(\"MAINLINE!Q\"&$D47))))","v":""},{"$f":"IF(B47=\"\",\"\",IF(D47=\"\",\"\",SUM(INDIRECT(\"MAINLINE!R\"&$B47+1):INDIRECT(\"MAINLINE!R\"&$D47))))","v":""},{"$f":"IF(B47=\"\",\"\",IF(D47=\"\",\"\",SUM(INDIRECT(\"MAINLINE!S\"&$B47+1):INDIRECT(\"MAINLINE!S\"&$D47))))","v":""},{"$f":"IF(B47=\"\",\"\",IF(D47=\"\",\"\",SUM(INDIRECT(\"MAINLINE!T\"&$B47+1):INDIRECT(\"MAINLINE!T\"&$D47))))","v":""},{"$f":"IF(B47=\"\",\"\",IF(D47=\"\",\"\",SUM(INDIRECT(\"MAINLINE!U\"&$B47+1):INDIRECT(\"MAINLINE!U\"&$D47))))","v":""},{"$f":"IF(B47=\"\",\"\",IF(D47=\"\",\"\",SUM(INDIRECT(\"MAINLINE!V\"&$B47+1):INDIRECT(\"MAINLINE!V\"&$D47))))","v":""}]
["",{"$f":"_xlfn.IFNA(MATCH(A48,MAINLINE!$A$1:$A$586,0),\"\")","v":""},null,{"$f":"_xlfn.IFNA(MATCH(C48,MAINLINE!$A$1:$A$586,0),\"\")","v":""},null,{"$f":"IF(B48=\"\",\"\",IF(D48=\"\",\"\",SUM(INDIRECT(\"MAINLINE!M\"&$B48+1):INDIRECT(\"MAINLINE!M\"&$D48))))","v":""},{"$f":"IF(B48=\"\",\"\",IF(D48=\"\",\"\",SUM(INDIRECT(\"MAINLINE!N\"&$B48+1):INDIRECT(\"MAINLINE!N\"&$D48))))","v":""},{"$f":"IF(B48=\"\",\"\",IF(D48=\"\",\"\",SUM(INDIRECT(\"MAINLINE!O\"&$B48+1):INDIRECT(\"MAINLINE!O\"&$D48))))","v":""},{"$f":"IF(B48=\"\",\"\",IF(D48=\"\",\"\",SUM(INDIRECT(\"MAINLINE!P\"&$B48+1):INDIRECT(\"MAINLINE!P\"&$D48))))","v":""},{"$f":"IF(B48=\"\",\"\",IF(D48=\"\",\"\",SUM(INDIRECT(\"MAINLINE!Q\"&$B48+1):INDIRECT(\"MAINLINE!Q\"&$D48))))","v":""},{"$f":"IF(B48=\"\",\"\",IF(D48=\"\",\"\",SUM(INDIRECT(\"MAINLINE!R\"&$B48+1):INDIRECT(\"MAINLINE!R\"&$D48))))","v":""},{"$f":"IF(B48=\"\",\"\",IF(D48=\"\",\"\",SUM(INDIRECT(\"MAINLINE!S\"&$B48+1):INDIRECT(\"MAINLINE!S\"&$D48))))","v":""},{"$f":"IF(B48=\"\",\"\",IF(D48=\"\",\"\",SUM(INDIRECT(\"MAINLINE!T\"&$B48+1):INDIRECT(\"MAINLINE!T\"&$D48))))","v":""},{"$f":"IF(B48=\"\",\"\",IF(D48=\"\",\"\",SUM(INDIRECT(\"MAINLINE!U\"&$B48+1):INDIRECT(\"MAINLINE!U\"&$D48))))","v":""},{"$f":"IF(B48=\"\",\"\",IF(D48=\"\",\"\",SUM(INDIRECT(\"MAINLINE!V\"&$B48+1):INDIRECT(\"MAINLINE!V\"&$D48))))","v":""}]
["",{"$f":"_xlfn.IFNA(MATCH(A49,MAINLINE!$A$1:$A$586,0),\"\")","v":""},null,{"$f":"_xlfn.IFNA(MATCH(C49,MAINLINE!$A$1:$A$586,0),\"\")","v":""},null,{"$f":"IF(B49=\"\",\"\",IF(D49=\"\",\"\",SUM(INDIRECT(\"MAINLINE!M\"&$B49+1):INDIRECT(\"MAINLINE!M\"&$D49))))","v":""},{"$f":"IF(B49=\"\",\"\",IF(D49=\"\",\"\",SUM(INDIRECT(\"MAINLINE!N\"&$B49+1):INDIRECT(\"MAINLINE!N\"&$D49))))","v":""},{"$f":"IF(B49=\"\",\"\",IF(D49=\"\",\"\",SUM(INDIRECT(\"MAINLINE!O\"&$B49+1):INDIRECT(\"MAINLINE!O\"&$D49))))","v":""},{"$f":"IF(B49=\"\",\"\",IF(D49=\"\",\"\",SUM(INDIRECT(\"MAINLINE!P\"&$B49+1):INDIRECT(\"MAINLINE!P\"&$D49))))","v":""},{"$f":"IF(B49=\"\",\"\",IF(D49=\"\",\"\",SUM(INDIRECT(\"MAINLINE!Q\"&$B49+1):INDIRECT(\"MAINLINE!Q\"&$D49))))","v":""},{"$f":"IF(B49=\"\",\"\",IF(D49=\"\",\"\",SUM(INDIRECT(\"MAINLINE!R\"&$B49+1):INDIRECT(\"MAINLINE!R\"&$D49))))","v":""},{"$f":"IF(B49=\"\",\"\",IF(D49=\"\",\"\",SUM(INDIRECT(\"MAINLINE!S\"&$B49+1):INDIRECT(\"MAINLINE!S\"&$D49))))","v":""},{"$f":"IF(B49=\"\",\"\",IF(D49=\"\",\"\",SUM(INDIRECT(\"MAINLINE!T\"&$B49+1):INDIRECT(\"MAINLINE!T\"&$D49))))","v":""},{"$f":"IF(B49=\"\",\"\",IF(D49=\"\",\"\",SUM(INDIRECT(\"MAINLINE!U\"&$B49+1):INDIRECT(\"MAINLINE!U\"&$D49))))","v":""},{"$f":"IF(B49=\"\",\"\",IF(D49=\"\",\"\",SUM(INDIRECT(\"MAINLINE!V\"&$B49+1):INDIRECT(\"MAINLINE!V\"&$D49))))","v":""}]
["",{"$f":"_xlfn.IFNA(MATCH(A50,MAINLINE!$A$1:$A$586,0),\"\")","v":""},null,{"$f":"_xlfn.IFNA(MATCH(C50,MAINLINE!$A$1:$A$586,0),\"\")","v":""},null,{"$f":"IF(B50=\"\",\"\",IF(D50=\"\",\"\",SUM(INDIRECT(\"MAINLINE!M\"&$B50+1):INDIRECT(\"MAINLINE!M\"&$D50))))","v":""},{"$f":"IF(B50=\"\",\"\",IF(D50=\"\",\"\",SUM(INDIRECT(\"MAINLINE!N\"&$B50+1):INDIRECT(\"MAINLINE!N\"&$D50))))","v":""},{"$f":"IF(B50=\"\",\"\",IF(D50=\"\",\"\",SUM(INDIRECT(\"MAINLINE!O\"&$B50+1):INDIRECT(\"MAINLINE!O\"&$D50))))","v":""},{"$f":"IF(B50=\"\",\"\",IF(D50=\"\",\"\",SUM(INDIRECT(\"MAINLINE!P\"&$B50+1):INDIRECT(\"MAINLINE!P\"&$D50))))","v":""},{"$f":"IF(B50=\"\",\"\",IF(D50=\"\",\"\",SUM(INDIRECT(\"MAINLINE!Q\"&$B50+1):INDIRECT(\"MAINLINE!Q\"&$D50))))","v":""},{"$f":"IF(B50=\"\",\"\",IF(D50=\"\",\"\",SUM(INDIRECT(\"MAINLINE!R\"&$B50+1):INDIRECT(\"MAINLINE!R\"&$D50))))","v":""},{"$f":"IF(B50=\"\",\"\",IF(D50=\"\",\"\",SUM(INDIRECT(\"MAINLINE!S\"&$B50+1):INDIRECT(\"MAINLINE!S\"&$D50))))","v":""},{"$f":"IF(B50=\"\",\"\",IF(D50=\"\",\"\",SUM(INDIRECT(\"MAINLINE!T\"&$B50+1):INDIRECT(\"MAINLINE!T\"&$D50))))","v":""},{"$f":"IF(B50=\"\",\"\",IF(D50=\"\",\"\",SUM(INDIRECT(\"MAINLINE!U\"&$B50+1):INDIRECT(\"MAINLINE!U\"&$D50))))","v":""},{"$f":"IF(B50=\"\",\"\",IF(D50=\"\",\"\",SUM(INDIRECT(\"MAINLINE!V\"&$B50+1):INDIRECT(\"MAINLINE!V\"&$D50))))","v":""}]
["",{"$f":"_xlfn.IFNA(MATCH(A51,MAINLINE!$A$1:$A$586,0),\"\")","v":""},null,{"$f":"_xlfn.IFNA(MATCH(C51,MAINLINE!$A$1:$A$586,0),\"\")","v":""},null,{"$f":"IF(B51=\"\",\"\",IF(D51=\"\",\"\",SUM(INDIRECT(\"MAINLINE!M\"&$B51+1):INDIRECT(\"MAINLINE!M\"&$D51))))","v":""},{"$f":"IF(B51=\"\",\"\",IF(D51=\"\",\"\",SUM(INDIRECT(\"MAINLINE!N\"&$B51+1):INDIRECT(\"MAINLINE!N\"&$D51))))","v":""},{"$f":"IF(B51=\"\",\"\",IF(D51=\"\",\"\",SUM(INDIRECT(\"MAINLINE!O\"&$B51+1):INDIRECT(\"MAINLINE!O\"&$D51))))","v":""},{"$f":"IF(B51=\"\",\"\",IF(D51=\"\",\"\",SUM(INDIRECT(\"MAINLINE!P\"&$B51+1):INDIRECT(\"MAINLINE!P\"&$D51))))","v":""},{"$f":"IF(B51=\"\",\"\",IF(D51=\"\",\"\",SUM(INDIRECT(\"MAINLINE!Q\"&$B51+1):INDIRECT(\"MAINLINE!Q\"&$D51))))","v":""},{"$f":"IF(B51=\"\",\"\",IF(D51=\"\",\"\",SUM(INDIRECT(\"MAINLINE!R\"&$B51+1):INDIRECT(\"MAINLINE!R\"&$D51))))","v":""},{"$f":"IF(B51=\"\",\"\",IF(D51=\"\",\"\",SUM(INDIRECT(\"MAINLINE!S\"&$B51+1):INDIRECT(\"MAINLINE!S\"&$D51))))","v":""},{"$f":"IF(B51=\"\",\"\",IF(D51=\"\",\"\",SUM(INDIRECT(\"MAINLINE!T\"&$B51+1):INDIRECT(\"MAINLINE!T\"&$D51))))","v":""},{"$f":"IF(B51=\"\",\"\",IF(D51=\"\",\"\",SUM(INDIRECT(\"MAINLINE!U\"&$B51+1):INDIRECT(\"MAINLINE!U\"&$D51))))","v":""},{"$f":"IF(B51=\"\",\"\",IF(D51=\"\",\"\",SUM(INDIRECT(\"MAINLINE!V\"&$B51+1):INDIRECT(\"MAINLINE!V\"&$D51))))","v":""}]
["",{"$f":"_xlfn.IFNA(MATCH(A52,MAINLINE!$A$1:$A$586,0),\"\")","v":""},null,{"$f":"_xlfn.IFNA(MATCH(C52,MAINLINE!$A$1:$A$586,0),\"\")","v":""},null,{"$f":"IF(B52=\"\",\"\",IF(D52=\"\",\"\",SUM(INDIRECT(\"MAINLINE!M\"&$B52+1):INDIRECT(\"MAINLINE!M\"&$D52))))","v":""},{"$f":"IF(B52=\"\",\"\",IF(D52=\"\",\"\",SUM(INDIRECT(\"MAINLINE!N\"&$B52+1):INDIRECT(\"MAINLINE!N\"&$D52))))","v":""},{"$f":"IF(B52=\"\",\"\",IF(D52=\"\",\"\",SUM(INDIRECT(\"MAINLINE!O\"&$B52+1):INDIRECT(\"MAINLINE!O\"&$D52))))","v":""},{"$f":"IF(B52=\"\",\"\",IF(D52=\"\",\"\",SUM(INDIRECT(\"MAINLINE!P\"&$B52+1):INDIRECT(\"MAINLINE!P\"&$D52))))","v":""},{"$f":"IF(B52=\"\",\"\",IF(D52=\"\",\"\",SUM(INDIRECT(\"MAINLINE!Q\"&$B52+1):INDIRECT(\"MAINLINE!Q\"&$D52))))","v":""},{"$f":"IF(B52=\"\",\"\",IF(D52=\"\",\"\",SUM(INDIRECT(\"MAINLINE!R\"&$B52+1):INDIRECT(\"MAINLINE!R\"&$D52))))","v":""},{"$f":"IF(B52=\"\",\"\",IF(D52=\"\",\"\",SUM(INDIRECT(\"MAINLINE!S\"&$B52+1):INDIRECT(\"MAINLINE!S\"&$D52))))","v":""},{"$f":"IF(B52=\"\",\"\",IF(D52=\"\",\"\",SUM(INDIRECT(\"MAINLINE!T\"&$B52+1):INDIRECT(\"MAINLINE!T\"&$D52))))","v":""},{"$f":"IF(B52=\"\",\"\",IF(D52=\"\",\"\",SUM(INDIRECT(\"MAINLINE!U\"&$B52+1):INDIRECT(\"MAINLINE!U\"&$D52))))","v":""},{"$f":"IF(B52=\"\",\"\",IF(D52=\"\",\"\",SUM(INDIRECT(\"MAINLINE!V\"&$B52+1):INDIRECT(\"MAINLINE!V\"&$D52))))","v":""}]
["",{"$f":"_xlfn.IFNA(MATCH(A53,MAINLINE!$A$1:$A$586,0),\"\")","v":""},null,{"$f":"_xlfn.IFNA(MATCH(C53,MAINLINE!$A$1:$A$586,0),\"\")","v":""},null,{"$f":"IF(B53=\"\",\"\",IF(D53=\"\",\"\",SUM(INDIRECT(\"MAINLINE!M\"&$B53+1):INDIRECT(\"MAINLINE!M\"&$D53))))","v":""},{"$f":"IF(B53=\"\",\"\",IF(D53=\"\",\"\",SUM(INDIRECT(\"MAINLINE!N\"&$B53+1):INDIRECT(\"MAINLINE!N\"&$D53))))","v":""},{"$f":"IF(B53=\"\",\"\",IF(D53=\"\",\"\",SUM(INDIRECT(\"MAINLINE!O\"&$B53+1):INDIRECT(\"MAINLINE!O\"&$D53))))","v":""},{"$f":"IF(B53=\"\",\"\",IF(D53=\"\",\"\",SUM(INDIRECT(\"MAINLINE!P\"&$B53+1):INDIRECT(\"MAINLINE!P\"&$D53))))","v":""},{"$f":"IF(B53=\"\",\"\",IF(D53=\"\",\"\",SUM(INDIRECT(\"MAINLINE!Q\"&$B53+1):INDIRECT(\"MAINLINE!Q\"&$D53))))","v":""},{"$f":"IF(B53=\"\",\"\",IF(D53=\"\",\"\",SUM(INDIRECT(\"MAINLINE!R\"&$B53+1):INDIRECT(\"MAINLINE!R\"&$D53))))","v":""},{"$f":"IF(B53=\"\",\"\",IF(D53=\"\",\"\",SUM(INDIRECT(\"MAINLINE!S\"&$B53+1):INDIRECT(\"MAINLINE!S\"&$D53))))","v":""},{"$f":"IF(B53=\"\",\"\",IF(D53=\"\",\"\",SUM(INDIRECT(\"MAINLINE!T\"&$B53+1):INDIRECT(\"MAINLINE!T\"&$D53))))","v":""},{"$f":"IF(B53=\"\",\"\",IF(D53=\"\",\"\",SUM(INDIRECT(\"MAINLINE!U\"&$B53+1):INDIRECT(\"MAINLINE!U\"&$D53))))","v":""},{"$f":"IF(B53=\"\",\"\",IF(D53=\"\",\"\",SUM(INDIRECT(\"MAINLINE!V\"&$B53+1):INDIRECT(\"MAINLINE!V\"&$D53))))","v":""}]
["",{"$f":"_xlfn.IFNA(MATCH(A54,MAINLINE!$A$1:$A$586,0),\"\")","v":""},null,{"$f":"_xlfn.IFNA(MATCH(C54,MAINLINE!$A$1:$A$586,0),\"\")","v":""},null,{"$f":"IF(B54=\"\",\"\",IF(D54=\"\",\"\",SUM(INDIRECT(\"MAINLINE!M\"&$B54+1):INDIRECT(\"MAINLINE!M\"&$D54))))","v":""},{"$f":"IF(B54=\"\",\"\",IF(D54=\"\",\"\",SUM(INDIRECT(\"MAINLINE!N\"&$B54+1):INDIRECT(\"MAINLINE!N\"&$D54))))","v":""},{"$f":"IF(B54=\"\",\"\",IF(D54=\"\",\"\",SUM(INDIRECT(\"MAINLINE!O\"&$B54+1):INDIRECT(\"MAINLINE!O\"&$D54))))","v":""},{"$f":"IF(B54=\"\",\"\",IF(D54=\"\",\"\",SUM(INDIRECT(\"MAINLINE!P\"&$B54+1):INDIRECT(\"MAINLINE!P\"&$D54))))","v":""},{"$f":"IF(B54=\"\",\"\",IF(D54=\"\",\"\",SUM(INDIRECT(\"MAINLINE!Q\"&$B54+1):INDIRECT(\"MAINLINE!Q\"&$D54))))","v":""},{"$f":"IF(B54=\"\",\"\",IF(D54=\"\",\"\",SUM(INDIRECT(\"MAINLINE!R\"&$B54+1):INDIRECT(\"MAINLINE!R\"&$D54))))","v":""},{"$f":"IF(B54=\"\",\"\",IF(D54=\"\",\"\",SUM(INDIRECT(\"MAINLINE!S\"&$B54+1):INDIRECT(\"MAINLINE!S\"&$D54))))","v":""},{"$f":"IF(B54=\"\",\"\",IF(D54=\"\",\"\",SUM(INDIRECT(\"MAINLINE!T\"&$B54+1):INDIRECT(\"MAINLINE!T\"&$D54))))","v":""},{"$f":"IF(B54=\"\",\"\",IF(D54=\"\",\"\",SUM(INDIRECT(\"MAINLINE!U\"&$B54+1):INDIRECT(\"MAINLINE!U\"&$D54))))","v":""},{"$f":"IF(B54=\"\",\"\",IF(D54=\"\",\"\",SUM(INDIRECT(\"MAINLINE!V\"&$B54+1):INDIRECT(\"MAINLINE!V\"&$D54))))","v":""}]
["",{"$f":"_xlfn.IFNA(MATCH(A55,MAINLINE!$A$1:$A$586,0),\"\")","v":""},null,{"$f":"_xlfn.IFNA(MATCH(C55,MAINLINE!$A$1:$A$586,0),\"\")","v":""},null,{"$f":"IF(B55=\"\",\"\",IF(D55=\"\",\"\",SUM(INDIRECT(\"MAINLINE!M\"&$B55+1):INDIRECT(\"MAINLINE!M\"&$D55))))","v":""},{"$f":"IF(B55=\"\",\"\",IF(D55=\"\",\"\",SUM(INDIRECT(\"MAINLINE!N\"&$B55+1):INDIRECT(\"MAINLINE!N\"&$D55))))","v":""},{"$f":"IF(B55=\"\",\"\",IF(D55=\"\",\"\",SUM(INDIRECT(\"MAINLINE!O\"&$B55+1):INDIRECT(\"MAINLINE!O\"&$D55))))","v":""},{"$f":"IF(B55=\"\",\"\",IF(D55=\"\",\"\",SUM(INDIRECT(\"MAINLINE!P\"&$B55+1):INDIRECT(\"MAINLINE!P\"&$D55))))","v":""},{"$f":"IF(B55=\"\",\"\",IF(D55=\"\",\"\",SUM(INDIRECT(\"MAINLINE!Q\"&$B55+1):INDIRECT(\"MAINLINE!Q\"&$D55))))","v":""},{"$f":"IF(B55=\"\",\"\",IF(D55=\"\",\"\",SUM(INDIRECT(\"MAINLINE!R\"&$B55+1):INDIRECT(\"MAINLINE!R\"&$D55))))","v":""},{"$f":"IF(B55=\"\",\"\",IF(D55=\"\",\"\",SUM(INDIRECT(\"MAINLINE!S\"&$B55+1):INDIRECT(\"MAINLINE!S\"&$D55))))","v":""},{"$f":"IF(B55=\"\",\"\",IF(D55=\"\",\"\",SUM(INDIRECT(\"MAINLINE!T\"&$B55+1):INDIRECT(\"MAINLINE!T\"&$D55))))","v":""},{"$f":"IF(B55=\"\",\"\",IF(D55=\"\",\"\",SUM(INDIRECT(\"MAINLINE!U\"&$B55+1):INDIRECT(\"MAINLINE!U\"&$D55))))","v":""},{"$f":"IF(B55=\"\",\"\",IF(D55=\"\",\"\",SUM(INDIRECT(\"MAINLINE!V\"&$B55+1):INDIRECT(\"MAINLINE!V\"&$D55))))","v":""}]
["",{"$f":"_xlfn.IFNA(MATCH(A56,MAINLINE!$A$1:$A$586,0),\"\")","v":""},null,{"$f":"_xlfn.IFNA(MATCH(C56,MAINLINE!$A$1:$A$586,0),\"\")","v":""},null,{"$f":"IF(B56=\"\",\"\",IF(D56=\"\",\"\",SUM(INDIRECT(\"MAINLINE!M\"&$B56+1):INDIRECT(\"MAINLINE!M\"&$D56))))","v":""},{"$f":"IF(B56=\"\",\"\",IF(D56=\"\",\"\",SUM(INDIRECT(\"MAINLINE!N\"&$B56+1):INDIRECT(\"MAINLINE!N\"&$D56))))","v":""},{"$f":"IF(B56=\"\",\"\",IF(D56=\"\",\"\",SUM(INDIRECT(\"MAINLINE!O\"&$B56+1):INDIRECT(\"MAINLINE!O\"&$D56))))","v":""},{"$f":"IF(B56=\"\",\"\",IF(D56=\"\",\"\",SUM(INDIRECT(\"MAINLINE!P\"&$B56+1):INDIRECT(\"MAINLINE!P\"&$D56))))","v":""},{"$f":"IF(B56=\"\",\"\",IF(D56=\"\",\"\",SUM(INDIRECT(\"MAINLINE!Q\"&$B56+1):INDIRECT(\"MAINLINE!Q\"&$D56))))","v":""},{"$f":"IF(B56=\"\",\"\",IF(D56=\"\",\"\",SUM(INDIRECT(\"MAINLINE!R\"&$B56+1):INDIRECT(\"MAINLINE!R\"&$D56))))","v":""},{"$f":"IF(B56=\"\",\"\",IF(D56=\"\",\"\",SUM(INDIRECT(\"MAINLINE!S\"&$B56+1):INDIRECT(\"MAINLINE!S\"&$D56))))","v":""},{"$f":"IF(B56=\"\",\"\",IF(D56=\"\",\"\",SUM(INDIRECT(\"MAINLINE!T\"&$B56+1):INDIRECT(\"MAINLINE!T\"&$D56))))","v":""},{"$f":"IF(B56=\"\",\"\",IF(D56=\"\",\"\",SUM(INDIRECT(\"MAINLINE!U\"&$B56+1):INDIRECT(\"MAINLINE!U\"&$D56))))","v":""},{"$f":"IF(B56=\"\",\"\",IF(D56=\"\",\"\",SUM(INDIRECT(\"MAINLINE!V\"&$B56+1):INDIRECT(\"MAINLINE!V\"&$D56))))","v":""}]
["",{"$f":"_xlfn.IFNA(MATCH(A57,MAINLINE!$A$1:$A$586,0),\"\")","v":""},null,{"$f":"_xlfn.IFNA(MATCH(C57,MAINLINE!$A$1:$A$586,0),\"\")","v":""},null,{"$f":"IF(B57=\"\",\"\",IF(D57=\"\",\"\",SUM(INDIRECT(\"MAINLINE!M\"&$B57+1):INDIRECT(\"MAINLINE!M\"&$D57))))","v":""},{"$f":"IF(B57=\"\",\"\",IF(D57=\"\",\"\",SUM(INDIRECT(\"MAINLINE!N\"&$B57+1):INDIRECT(\"MAINLINE!N\"&$D57))))","v":""},{"$f":"IF(B57=\"\",\"\",IF(D57=\"\",\"\",SUM(INDIRECT(\"MAINLINE!O\"&$B57+1):INDIRECT(\"MAINLINE!O\"&$D57))))","v":""},{"$f":"IF(B57=\"\",\"\",IF(D57=\"\",\"\",SUM(INDIRECT(\"MAINLINE!P\"&$B57+1):INDIRECT(\"MAINLINE!P\"&$D57))))","v":""},{"$f":"IF(B57=\"\",\"\",IF(D57=\"\",\"\",SUM(INDIRECT(\"MAINLINE!Q\"&$B57+1):INDIRECT(\"MAINLINE!Q\"&$D57))))","v":""},{"$f":"IF(B57=\"\",\"\",IF(D57=\"\",\"\",SUM(INDIRECT(\"MAINLINE!R\"&$B57+1):INDIRECT(\"MAINLINE!R\"&$D57))))","v":""},{"$f":"IF(B57=\"\",\"\",IF(D57=\"\",\"\",SUM(INDIRECT(\"MAINLINE!S\"&$B57+1):INDIRECT(\"MAINLINE!S\"&$D57))))","v":""},{"$f":"IF(B57=\"\",\"\",IF(D57=\"\",\"\",SUM(INDIRECT(\"MAINLINE!T\"&$B57+1):INDIRECT(\"MAINLINE!T\"&$D57))))","v":""},{"$f":"IF(B57=\"\",\"\",IF(D57=\"\",\"\",SUM(INDIRECT(\"MAINLINE!U\"&$B57+1):INDIRECT(\"MAINLINE!U\"&$D57))))","v":""},{"$f":"IF(B57=\"\",\"\",IF(D57=\"\",\"\",SUM(INDIRECT(\"MAINLINE!V\"&$B57+1):INDIRECT(\"MAINLINE!V\"&$D57))))","v":""}]
["",{"$f":"_xlfn.IFNA(MATCH(A58,MAINLINE!$A$1:$A$586,0),\"\")","v":""},null,{"$f":"_xlfn.IFNA(MATCH(C58,MAINLINE!$A$1:$A$586,0),\"\")","v":""},null,{"$f":"IF(B58=\"\",\"\",IF(D58=\"\",\"\",SUM(INDIRECT(\"MAINLINE!M\"&$B58+1):INDIRECT(\"MAINLINE!M\"&$D58))))","v":""},{"$f":"IF(B58=\"\",\"\",IF(D58=\"\",\"\",SUM(INDIRECT(\"MAINLINE!N\"&$B58+1):INDIRECT(\"MAINLINE!N\"&$D58))))","v":""},{"$f":"IF(B58=\"\",\"\",IF(D58=\"\",\"\",SUM(INDIRECT(\"MAINLINE!O\"&$B58+1):INDIRECT(\"MAINLINE!O\"&$D58))))","v":""},{"$f":"IF(B58=\"\",\"\",IF(D58=\"\",\"\",SUM(INDIRECT(\"MAINLINE!P\"&$B58+1):INDIRECT(\"MAINLINE!P\"&$D58))))","v":""},{"$f":"IF(B58=\"\",\"\",IF(D58=\"\",\"\",SUM(INDIRECT(\"MAINLINE!Q\"&$B58+1):INDIRECT(\"MAINLINE!Q\"&$D58))))","v":""},{"$f":"IF(B58=\"\",\"\",IF(D58=\"\",\"\",SUM(INDIRECT(\"MAINLINE!R\"&$B58+1):INDIRECT(\"MAINLINE!R\"&$D58))))","v":""},{"$f":"IF(B58=\"\",\"\",IF(D58=\"\",\"\",SUM(INDIRECT(\"MAINLINE!S\"&$B58+1):INDIRECT(\"MAINLINE!S\"&$D58))))","v":""},{"$f":"IF(B58=\"\",\"\",IF(D58=\"\",\"\",SUM(INDIRECT(\"MAINLINE!T\"&$B58+1):INDIRECT(\"MAINLINE!T\"&$D58))))","v":""},{"$f":"IF(B58=\"\",\"\",IF(D58=\"\",\"\",SUM(INDIRECT(\"MAINLINE!U\"&$B58+1):INDIRECT(\"MAINLINE!U\"&$D58))))","v":""},{"$f":"IF(B58=\"\",\"\",IF(D58=\"\",\"\",SUM(INDIRECT(\"MAINLINE!V\"&$B58+1):INDIRECT(\"MAINLINE!V\"&$D58))))","v":""}]
["",{"$f":"_xlfn.IFNA(MATCH(A59,MAINLINE!$A$1:$A$586,0),\"\")","v":""},null,{"$f":"_xlfn.IFNA(MATCH(C59,MAINLINE!$A$1:$A$586,0),\"\")","v":""},null,{"$f":"IF(B59=\"\",\"\",IF(D59=\"\",\"\",SUM(INDIRECT(\"MAINLINE!M\"&$B59+1):INDIRECT(\"MAINLINE!M\"&$D59))))","v":""},{"$f":"IF(B59=\"\",\"\",IF(D59=\"\",\"\",SUM(INDIRECT(\"MAINLINE!N\"&$B59+1):INDIRECT(\"MAINLINE!N\"&$D59))))","v":""},{"$f":"IF(B59=\"\",\"\",IF(D59=\"\",\"\",SUM(INDIRECT(\"MAINLINE!O\"&$B59+1):INDIRECT(\"MAINLINE!O\"&$D59))))","v":""},{"$f":"IF(B59=\"\",\"\",IF(D59=\"\",\"\",SUM(INDIRECT(\"MAINLINE!P\"&$B59+1):INDIRECT(\"MAINLINE!P\"&$D59))))","v":""},{"$f":"IF(B59=\"\",\"\",IF(D59=\"\",\"\",SUM(INDIRECT(\"MAINLINE!Q\"&$B59+1):INDIRECT(\"MAINLINE!Q\"&$D59))))","v":""},{"$f":"IF(B59=\"\",\"\",IF(D59=\"\",\"\",SUM(INDIRECT(\"MAINLINE!R\"&$B59+1):INDIRECT(\"MAINLINE!R\"&$D59))))","v":""},{"$f":"IF(B59=\"\",\"\",IF(D59=\"\",\"\",SUM(INDIRECT(\"MAINLINE!S\"&$B59+1):INDIRECT(\"MAINLINE!S\"&$D59))))","v":""},{"$f":"IF(B59=\"\",\"\",IF(D59=\"\",\"\",SUM(INDIRECT(\"MAINLINE!T\"&$B59+1):INDIRECT(\"MAINLINE!T\"&$D59))))","v":""},{"$f":"IF(B59=\"\",\"\",IF(D59=\"\",\"\",SUM(INDIRECT(\"MAINLINE!U\"&$B59+1):INDIRECT(\"MAINLINE!U\"&$D59))))","v":""},{"$f":"IF(B59=\"\",\"\",IF(D59=\"\",\"\",SUM(INDIRECT(\"MAINLINE!V\"&$B59+1):INDIRECT(\"MAINLINE!V\"&$D59))))","v":""}]
["",{"$f":"_xlfn.IFNA(MATCH(A60,MAINLINE!$A$1:$A$586,0),\"\")","v":""},null,{"$f":"_xlfn.IFNA(MATCH(C60,MAINLINE!$A$1:$A$586,0),\"\")","v":""},null,{"$f":"IF(B60=\"\",\"\",IF(D60=\"\",\"\",SUM(INDIRECT(\"MAINLINE!M\"&$B60+1):INDIRECT(\"MAINLINE!M\"&$D60))))","v":""},{"$f":"IF(B60=\"\",\"\",IF(D60=\"\",\"\",SUM(INDIRECT(\"MAINLINE!N\"&$B60+1):INDIRECT(\"MAINLINE!N\"&$D60))))","v":""},{"$f":"IF(B60=\"\",\"\",IF(D60=\"\",\"\",SUM(INDIRECT(\"MAINLINE!O\"&$B60+1):INDIRECT(\"MAINLINE!O\"&$D60))))","v":""},{"$f":"IF(B60=\"\",\"\",IF(D60=\"\",\"\",SUM(INDIRECT(\"MAINLINE!P\"&$B60+1):INDIRECT(\"MAINLINE!P\"&$D60))))","v":""},{"$f":"IF(B60=\"\",\"\",IF(D60=\"\",\"\",SUM(INDIRECT(\"MAINLINE!Q\"&$B60+1):INDIRECT(\"MAINLINE!Q\"&$D60))))","v":""},{"$f":"IF(B60=\"\",\"\",IF(D60=\"\",\"\",SUM(INDIRECT(\"MAINLINE!R\"&$B60+1):INDIRECT(\"MAINLINE!R\"&$D60))))","v":""},{"$f":"IF(B60=\"\",\"\",IF(D60=\"\",\"\",SUM(INDIRECT(\"MAINLINE!S\"&$B60+1):INDIRECT(\"MAINLINE!S\"&$D60))))","v":""},{"$f":"IF(B60=\"\",\"\",IF(D60=\"\",\"\",SUM(INDIRECT(\"MAINLINE!T\"&$B60+1):INDIRECT(\"MAINLINE!T\"&$D60))))","v":""},{"$f":"IF(B60=\"\",\"\",IF(D60=\"\",\"\",SUM(INDIRECT(\"MAINLINE!U\"&$B60+1):INDIRECT(\"MAINLINE!U\"&$D60))))","v":""},{"$f":"IF(B60=\"\",\"\",IF(D60=\"\",\"\",SUM(INDIRECT(\"MAINLINE!V\"&$B60+1):INDIRECT(\"MAINLINE!V\"&$D60))))","v":""}]
["",{"$f":"_xlfn.IFNA(MATCH(A61,MAINLINE!$A$1:$A$586,0),\"\")","v":""},null,{"$f":"_xlfn.IFNA(MATCH(C61,MAINLINE!$A$1:$A$586,0),\"\")","v":""},null,{"$f":"IF(B61=\"\",\"\",IF(D61=\"\",\"\",SUM(INDIRECT(\"MAINLINE!M\"&$B61+1):INDIRECT(\"MAINLINE!M\"&$D61))))","v":""},{"$f":"IF(B61=\"\",\"\",IF(D61=\"\",\"\",SUM(INDIRECT(\"MAINLINE!N\"&$B61+1):INDIRECT(\"MAINLINE!N\"&$D61))))","v":""},{"$f":"IF(B61=\"\",\"\",IF(D61=\"\",\"\",SUM(INDIRECT(\"MAINLINE!O\"&$B61+1):INDIRECT(\"MAINLINE!O\"&$D61))))","v":""},{"$f":"IF(B61=\"\",\"\",IF(D61=\"\",\"\",SUM(INDIRECT(\"MAINLINE!P\"&$B61+1):INDIRECT(\"MAINLINE!P\"&$D61))))","v":""},{"$f":"IF(B61=\"\",\"\",IF(D61=\"\",\"\",SUM(INDIRECT(\"MAINLINE!Q\"&$B61+1):INDIRECT(\"MAINLINE!Q\"&$D61))))","v":""},{"$f":"IF(B61=\"\",\"\",IF(D61=\"\",\"\",SUM(INDIRECT(\"MAINLINE!R\"&$B61+1):INDIRECT(\"MAINLINE!R\"&$D61))))","v":""},{"$f":"IF(B61=\"\",\"\",IF(D61=\"\",\"\",SUM(INDIRECT(\"MAINLINE!S\"&$B61+1):INDIRECT(\"MAINLINE!S\"&$D61))))","v":""},{"$f":"IF(B61=\"\",\"\",IF(D61=\"\",\"\",SUM(INDIRECT(\"MAINLINE!T\"&$B61+1):INDIRECT(\"MAINLINE!T\"&$D61))))","v":""},{"$f":"IF(B61=\"\",\"\",IF(D61=\"\",\"\",SUM(INDIRECT(\"MAINLINE!U\"&$B61+1):INDIRECT(\"MAINLINE!U\"&$D61))))","v":""},{"$f":"IF(B61=\"\",\"\",IF(D61=\"\",\"\",SUM(INDIRECT(\"MAINLINE!V\"&$B61+1):INDIRECT(\"MAINLINE!V\"&$D61))))","v":""}]
["",{"$f":"_xlfn.IFNA(MATCH(A62,MAINLINE!$A$1:$A$586,0),\"\")","v":""},null,{"$f":"_xlfn.IFNA(MATCH(C62,MAINLINE!$A$1:$A$586,0),\"\")","v":""},null,{"$f":"IF(B62=\"\",\"\",IF(D62=\"\",\"\",SUM(INDIRECT(\"MAINLINE!M\"&$B62+1):INDIRECT(\"MAINLINE!M\"&$D62))))","v":""},{"$f":"IF(B62=\"\",\"\",IF(D62=\"\",\"\",SUM(INDIRECT(\"MAINLINE!N\"&$B62+1):INDIRECT(\"MAINLINE!N\"&$D62))))","v":""},{"$f":"IF(B62=\"\",\"\",IF(D62=\"\",\"\",SUM(INDIRECT(\"MAINLINE!O\"&$B62+1):INDIRECT(\"MAINLINE!O\"&$D62))))","v":""},{"$f":"IF(B62=\"\",\"\",IF(D62=\"\",\"\",SUM(INDIRECT(\"MAINLINE!P\"&$B62+1):INDIRECT(\"MAINLINE!P\"&$D62))))","v":""},{"$f":"IF(B62=\"\",\"\",IF(D62=\"\",\"\",SUM(INDIRECT(\"MAINLINE!Q\"&$B62+1):INDIRECT(\"MAINLINE!Q\"&$D62))))","v":""},{"$f":"IF(B62=\"\",\"\",IF(D62=\"\",\"\",SUM(INDIRECT(\"MAINLINE!R\"&$B62+1):INDIRECT(\"MAINLINE!R\"&$D62))))","v":""},{"$f":"IF(B62=\"\",\"\",IF(D62=\"\",\"\",SUM(INDIRECT(\"MAINLINE!S\"&$B62+1):INDIRECT(\"MAINLINE!S\"&$D62))))","v":""},{"$f":"IF(B62=\"\",\"\",IF(D62=\"\",\"\",SUM(INDIRECT(\"MAINLINE!T\"&$B62+1):INDIRECT(\"MAINLINE!T\"&$D62))))","v":""},{"$f":"IF(B62=\"\",\"\",IF(D62=\"\",\"\",SUM(INDIRECT(\"MAINLINE!U\"&$B62+1):INDIRECT(\"MAINLINE!U\"&$D62))))","v":""},{"$f":"IF(B62=\"\",\"\",IF(D62=\"\",\"\",SUM(INDIRECT(\"MAINLINE!V\"&$B62+1):INDIRECT(\"MAINLINE!V\"&$D62))))","v":""}]
["",{"$f":"_xlfn.IFNA(MATCH(A63,MAINLINE!$A$1:$A$586,0),\"\")","v":""},null,{"$f":"_xlfn.IFNA(MATCH(C63,MAINLINE!$A$1:$A$586,0),\"\")","v":""},null,{"$f":"IF(B63=\"\",\"\",IF(D63=\"\",\"\",SUM(INDIRECT(\"MAINLINE!M\"&$B63+1):INDIRECT(\"MAINLINE!M\"&$D63))))","v":""},{"$f":"IF(B63=\"\",\"\",IF(D63=\"\",\"\",SUM(INDIRECT(\"MAINLINE!N\"&$B63+1):INDIRECT(\"MAINLINE!N\"&$D63))))","v":""},{"$f":"IF(B63=\"\",\"\",IF(D63=\"\",\"\",SUM(INDIRECT(\"MAINLINE!O\"&$B63+1):INDIRECT(\"MAINLINE!O\"&$D63))))","v":""},{"$f":"IF(B63=\"\",\"\",IF(D63=\"\",\"\",SUM(INDIRECT(\"MAINLINE!P\"&$B63+1):INDIRECT(\"MAINLINE!P\"&$D63))))","v":""},{"$f":"IF(B63=\"\",\"\",IF(D63=\"\",\"\",SUM(INDIRECT(\"MAINLINE!Q\"&$B63+1):INDIRECT(\"MAINLINE!Q\"&$D63))))","v":""},{"$f":"IF(B63=\"\",\"\",IF(D63=\"\",\"\",SUM(INDIRECT(\"MAINLINE!R\"&$B63+1):INDIRECT(\"MAINLINE!R\"&$D63))))","v":""},{"$f":"IF(B63=\"\",\"\",IF(D63=\"\",\"\",SUM(INDIRECT(\"MAINLINE!S\"&$B63+1):INDIRECT(\"MAINLINE!S\"&$D63))))","v":""},{"$f":"IF(B63=\"\",\"\",IF(D63=\"\",\"\",SUM(INDIRECT(\"MAINLINE!T\"&$B63+1):INDIRECT(\"MAINLINE!T\"&$D63))))","v":""},{"$f":"IF(B63=\"\",\"\",IF(D63=\"\",\"\",SUM(INDIRECT(\"MAINLINE!U\"&$B63+1):INDIRECT(\"MAINLINE!U\"&$D63))))","v":""},{"$f":"IF(B63=\"\",\"\",IF(D63=\"\",\"\",SUM(INDIRECT(\"MAINLINE!V\"&$B63+1):INDIRECT(\"MAINLINE!V\"&$D63))))","v":""}]
["",{"$f":"_xlfn.IFNA(MATCH(A64,MAINLINE!$A$1:$A$586,0),\"\")","v":""},null,{"$f":"_xlfn.IFNA(MATCH(C64,MAINLINE!$A$1:$A$586,0),\"\")","v":""},null,{"$f":"IF(B64=\"\",\"\",IF(D64=\"\",\"\",SUM(INDIRECT(\"MAINLINE!M\"&$B64+1):INDIRECT(\"MAINLINE!M\"&$D64))))","v":""},{"$f":"IF(B64=\"\",\"\",IF(D64=\"\",\"\",SUM(INDIRECT(\"MAINLINE!N\"&$B64+1):INDIRECT(\"MAINLINE!N\"&$D64))))","v":""},{"$f":"IF(B64=\"\",\"\",IF(D64=\"\",\"\",SUM(INDIRECT(\"MAINLINE!O\"&$B64+1):INDIRECT(\"MAINLINE!O\"&$D64))))","v":""},{"$f":"IF(B64=\"\",\"\",IF(D64=\"\",\"\",SUM(INDIRECT(\"MAINLINE!P\"&$B64+1):INDIRECT(\"MAINLINE!P\"&$D64))))","v":""},{"$f":"IF(B64=\"\",\"\",IF(D64=\"\",\"\",SUM(INDIRECT(\"MAINLINE!Q\"&$B64+1):INDIRECT(\"MAINLINE!Q\"&$D64))))","v":""},{"$f":"IF(B64=\"\",\"\",IF(D64=\"\",\"\",SUM(INDIRECT(\"MAINLINE!R\"&$B64+1):INDIRECT(\"MAINLINE!R\"&$D64))))","v":""},{"$f":"IF(B64=\"\",\"\",IF(D64=\"\",\"\",SUM(INDIRECT(\"MAINLINE!S\"&$B64+1):INDIRECT(\"MAINLINE!S\"&$D64))))","v":""},{"$f":"IF(B64=\"\",\"\",IF(D64=\"\",\"\",SUM(INDIRECT(\"MAINLINE!T\"&$B64+1):INDIRECT(\"MAINLINE!T\"&$D64))))","v":""},{"$f":"IF(B64=\"\",\"\",IF(D64=\"\",\"\",SUM(INDIRECT(\"MAINLINE!U\"&$B64+1):INDIRECT(\"MAINLINE!U\"&$D64))))","v":""},{"$f":"IF(B64=\"\",\"\",IF(D64=\"\",\"\",SUM(INDIRECT(\"MAINLINE!V\"&$B64+1):INDIRECT(\"MAINLINE!V\"&$D64))))","v":""}]
["",{"$f":"_xlfn.IFNA(MATCH(A65,MAINLINE!$A$1:$A$586,0),\"\")","v":""},null,{"$f":"_xlfn.IFNA(MATCH(C65,MAINLINE!$A$1:$A$586,0),\"\")","v":""},null,{"$f":"IF(B65=\"\",\"\",IF(D65=\"\",\"\",SUM(INDIRECT(\"MAINLINE!M\"&$B65+1):INDIRECT(\"MAINLINE!M\"&$D65))))","v":""},{"$f":"IF(B65=\"\",\"\",IF(D65=\"\",\"\",SUM(INDIRECT(\"MAINLINE!N\"&$B65+1):INDIRECT(\"MAINLINE!N\"&$D65))))","v":""},{"$f":"IF(B65=\"\",\"\",IF(D65=\"\",\"\",SUM(INDIRECT(\"MAINLINE!O\"&$B65+1):INDIRECT(\"MAINLINE!O\"&$D65))))","v":""},{"$f":"IF(B65=\"\",\"\",IF(D65=\"\",\"\",SUM(INDIRECT(\"MAINLINE!P\"&$B65+1):INDIRECT(\"MAINLINE!P\"&$D65))))","v":""},{"$f":"IF(B65=\"\",\"\",IF(D65=\"\",\"\",SUM(INDIRECT(\"MAINLINE!Q\"&$B65+1):INDIRECT(\"MAINLINE!Q\"&$D65))))","v":""},{"$f":"IF(B65=\"\",\"\",IF(D65=\"\",\"\",SUM(INDIRECT(\"MAINLINE!R\"&$B65+1):INDIRECT(\"MAINLINE!R\"&$D65))))","v":""},{"$f":"IF(B65=\"\",\"\",IF(D65=\"\",\"\",SUM(INDIRECT(\"MAINLINE!S\"&$B65+1):INDIRECT(\"MAINLINE!S\"&$D65))))","v":""},{"$f":"IF(B65=\"\",\"\",IF(D65=\"\",\"\",SUM(INDIRECT(\"MAINLINE!T\"&$B65+1):INDIRECT(\"MAINLINE!T\"&$D65))))","v":""},{"$f":"IF(B65=\"\",\"\",IF(D65=\"\",\"\",SUM(INDIRECT(\"MAINLINE!U\"&$B65+1):INDIRECT(\"MAINLINE!U\"&$D65))))","v":""},{"$f":"IF(B65=\"\",\"\",IF(D65=\"\",\"\",SUM(INDIRECT(\"MAINLINE!V\"&$B65+1):INDIRECT(\"MAINLINE!V\"&$D65))))","v":""}]
["",{"$f":"_xlfn.IFNA(MATCH(A66,MAINLINE!$A$1:$A$586,0),\"\")","v":""},null,{"$f":"_xlfn.IFNA(MATCH(C66,MAINLINE!$A$1:$A$586,0),\"\")","v":""},null,{"$f":"IF(B66=\"\",\"\",IF(D66=\"\",\"\",SUM(INDIRECT(\"MAINLINE!M\"&$B66+1):INDIRECT(\"MAINLINE!M\"&$D66))))","v":""},{"$f":"IF(B66=\"\",\"\",IF(D66=\"\",\"\",SUM(INDIRECT(\"MAINLINE!N\"&$B66+1):INDIRECT(\"MAINLINE!N\"&$D66))))","v":""},{"$f":"IF(B66=\"\",\"\",IF(D66=\"\",\"\",SUM(INDIRECT(\"MAINLINE!O\"&$B66+1):INDIRECT(\"MAINLINE!O\"&$D66))))","v":""},{"$f":"IF(B66=\"\",\"\",IF(D66=\"\",\"\",SUM(INDIRECT(\"MAINLINE!P\"&$B66+1):INDIRECT(\"MAINLINE!P\"&$D66))))","v":""},{"$f":"IF(B66=\"\",\"\",IF(D66=\"\",\"\",SUM(INDIRECT(\"MAINLINE!Q\"&$B66+1):INDIRECT(\"MAINLINE!Q\"&$D66))))","v":""},{"$f":"IF(B66=\"\",\"\",IF(D66=\"\",\"\",SUM(INDIRECT(\"MAINLINE!R\"&$B66+1):INDIRECT(\"MAINLINE!R\"&$D66))))","v":""},{"$f":"IF(B66=\"\",\"\",IF(D66=\"\",\"\",SUM(INDIRECT(\"MAINLINE!S\"&$B66+1):INDIRECT(\"MAINLINE!S\"&$D66))))","v":""},{"$f":"IF(B66=\"\",\"\",IF(D66=\"\",\"\",SUM(INDIRECT(\"MAINLINE!T\"&$B66+1):INDIRECT(\"MAINLINE!T\"&$D66))))","v":""},{"$f":"IF(B66=\"\",\"\",IF(D66=\"\",\"\",SUM(INDIRECT(\"MAINLINE!U\"&$B66+1):INDIRECT(\"MAINLINE!U\"&$D66))))","v":""},{"$f":"IF(B66=\"\",\"\",IF(D66=\"\",\"\",SUM(INDIRECT(\"MAINLINE!V\"&$B66+1):INDIRECT(\"MAINLINE!V\"&$D66))))","v":""}]
["",{"$f":"_xlfn.IFNA(MATCH(A67,MAINLINE!$A$1:$A$586,0),\"\")","v":""},null,{"$f":"_xlfn.IFNA(MATCH(C67,MAINLINE!$A$1:$A$586,0),\"\")","v":""},null,{"$f":"IF(B67=\"\",\"\",IF(D67=\"\",\"\",SUM(INDIRECT(\"MAINLINE!M\"&$B67+1):INDIRECT(\"MAINLINE!M\"&$D67))))","v":""},{"$f":"IF(B67=\"\",\"\",IF(D67=\"\",\"\",SUM(INDIRECT(\"MAINLINE!N\"&$B67+1):INDIRECT(\"MAINLINE!N\"&$D67))))","v":""},{"$f":"IF(B67=\"\",\"\",IF(D67=\"\",\"\",SUM(INDIRECT(\"MAINLINE!O\"&$B67+1):INDIRECT(\"MAINLINE!O\"&$D67))))","v":""},{"$f":"IF(B67=\"\",\"\",IF(D67=\"\",\"\",SUM(INDIRECT(\"MAINLINE!P\"&$B67+1):INDIRECT(\"MAINLINE!P\"&$D67))))","v":""},{"$f":"IF(B67=\"\",\"\",IF(D67=\"\",\"\",SUM(INDIRECT(\"MAINLINE!Q\"&$B67+1):INDIRECT(\"MAINLINE!Q\"&$D67))))","v":""},{"$f":"IF(B67=\"\",\"\",IF(D67=\"\",\"\",SUM(INDIRECT(\"MAINLINE!R\"&$B67+1):INDIRECT(\"MAINLINE!R\"&$D67))))","v":""},{"$f":"IF(B67=\"\",\"\",IF(D67=\"\",\"\",SUM(INDIRECT(\"MAINLINE!S\"&$B67+1):INDIRECT(\"MAINLINE!S\"&$D67))))","v":""},{"$f":"IF(B67=\"\",\"\",IF(D67=\"\",\"\",SUM(INDIRECT(\"MAINLINE!T\"&$B67+1):INDIRECT(\"MAINLINE!T\"&$D67))))","v":""},{"$f":"IF(B67=\"\",\"\",IF(D67=\"\",\"\",SUM(INDIRECT(\"MAINLINE!U\"&$B67+1):INDIRECT(\"MAINLINE!U\"&$D67))))","v":""},{"$f":"IF(B67=\"\",\"\",IF(D67=\"\",\"\",SUM(INDIRECT(\"MAINLINE!V\"&$B67+1):INDIRECT(\"MAINLINE!V\"&$D67))))","v":""}]
[{"$f":"IF(C67=\"\",\"\",C67)","v":""},{"$f":"_xlfn.IFNA(MATCH(A68,MAINLINE!$A$1:$A$586,0),\"\")","v":""},null,{"$f":"_xlfn.IFNA(MATCH(C68,MAINLINE!$A$1:$A$586,0),\"\")","v":""},null,{"$f":"IF(B68=\"\",\"\",IF(D68=\"\",\"\",SUM(INDIRECT(\"MAINLINE!M\"&$B68+1):INDIRECT(\"MAINLINE!M\"&$D68))))","v":""},{"$f":"IF(B68=\"\",\"\",IF(D68=\"\",\"\",SUM(INDIRECT(\"MAINLINE!N\"&$B68+1):INDIRECT(\"MAINLINE!N\"&$D68))))","v":""},{"$f":"IF(B68=\"\",\"\",IF(D68=\"\",\"\",SUM(INDIRECT(\"MAINLINE!O\"&$B68+1):INDIRECT(\"MAINLINE!O\"&$D68))))","v":""},{"$f":"IF(B68=\"\",\"\",IF(D68=\"\",\"\",SUM(INDIRECT(\"MAINLINE!P\"&$B68+1):INDIRECT(\"MAINLINE!P\"&$D68))))","v":""},{"$f":"IF(B68=\"\",\"\",IF(D68=\"\",\"\",SUM(INDIRECT(\"MAINLINE!Q\"&$B68+1):INDIRECT(\"MAINLINE!Q\"&$D68))))","v":""},{"$f":"IF(B68=\"\",\"\",IF(D68=\"\",\"\",SUM(INDIRECT(\"MAINLINE!R\"&$B68+1):INDIRECT(\"MAINLINE!R\"&$D68))))","v":""},{"$f":"IF(B68=\"\",\"\",IF(D68=\"\",\"\",SUM(INDIRECT(\"MAINLINE!S\"&$B68+1):INDIRECT(\"MAINLINE!S\"&$D68))))","v":""},{"$f":"IF(B68=\"\",\"\",IF(D68=\"\",\"\",SUM(INDIRECT(\"MAINLINE!T\"&$B68+1):INDIRECT(\"MAINLINE!T\"&$D68))))","v":""},{"$f":"IF(B68=\"\",\"\",IF(D68=\"\",\"\",SUM(INDIRECT(\"MAINLINE!U\"&$B68+1):INDIRECT(\"MAINLINE!U\"&$D68))))","v":""},{"$f":"IF(B68=\"\",\"\",IF(D68=\"\",\"\",SUM(INDIRECT(\"MAINLINE!V\"&$B68+1):INDIRECT(\"MAINLINE!V\"&$D68))))","v":""}]
["",{"$f":"_xlfn.IFNA(MATCH(A69,MAINLINE!$A$1:$A$586,0),\"\")","v":""},null,{"$f":"_xlfn.IFNA(MATCH(C69,MAINLINE!$A$1:$A$586,0),\"\")","v":""},null,{"$f":"IF(B69=\"\",\"\",IF(D69=\"\",\"\",SUM(INDIRECT(\"MAINLINE!M\"&$B69+1):INDIRECT(\"MAINLINE!M\"&$D69))))","v":""},{"$f":"IF(B69=\"\",\"\",IF(D69=\"\",\"\",SUM(INDIRECT(\"MAINLINE!N\"&$B69+1):INDIRECT(\"MAINLINE!N\"&$D69))))","v":""},{"$f":"IF(B69=\"\",\"\",IF(D69=\"\",\"\",SUM(INDIRECT(\"MAINLINE!O\"&$B69+1):INDIRECT(\"MAINLINE!O\"&$D69))))","v":""},{"$f":"IF(B69=\"\",\"\",IF(D69=\"\",\"\",SUM(INDIRECT(\"MAINLINE!P\"&$B69+1):INDIRECT(\"MAINLINE!P\"&$D69))))","v":""},{"$f":"IF(B69=\"\",\"\",IF(D69=\"\",\"\",SUM(INDIRECT(\"MAINLINE!Q\"&$B69+1):INDIRECT(\"MAINLINE!Q\"&$D69))))","v":""},{"$f":"IF(B69=\"\",\"\",IF(D69=\"\",\"\",SUM(INDIRECT(\"MAINLINE!R\"&$B69+1):INDIRECT(\"MAINLINE!R\"&$D69))))","v":""},{"$f":"IF(B69=\"\",\"\",IF(D69=\"\",\"\",SUM(INDIRECT(\"MAINLINE!S\"&$B69+1):INDIRECT(\"MAINLINE!S\"&$D69))))","v":""},{"$f":"IF(B69=\"\",\"\",IF(D69=\"\",\"\",SUM(INDIRECT(\"MAINLINE!T\"&$B69+1):INDIRECT(\"MAINLINE!T\"&$D69))))","v":""},{"$f":"IF(B69=\"\",\"\",IF(D69=\"\",\"\",SUM(INDIRECT(\"MAINLINE!U\"&$B69+1):INDIRECT(\"MAINLINE!U\"&$D69))))","v":""},{"$f":"IF(B69=\"\",\"\",IF(D69=\"\",\"\",SUM(INDIRECT(\"MAINLINE!V\"&$B69+1):INDIRECT(\"MAINLINE!V\"&$D69))))","v":""}]
["",{"$f":"_xlfn.IFNA(MATCH(A70,MAINLINE!$A$1:$A$586,0),\"\")","v":""},null,{"$f":"_xlfn.IFNA(MATCH(C70,MAINLINE!$A$1:$A$586,0),\"\")","v":""},null,{"$f":"IF(B70=\"\",\"\",IF(D70=\"\",\"\",SUM(INDIRECT(\"MAINLINE!M\"&$B70+1):INDIRECT(\"MAINLINE!M\"&$D70))))","v":""},{"$f":"IF(B70=\"\",\"\",IF(D70=\"\",\"\",SUM(INDIRECT(\"MAINLINE!N\"&$B70+1):INDIRECT(\"MAINLINE!N\"&$D70))))","v":""},{"$f":"IF(B70=\"\",\"\",IF(D70=\"\",\"\",SUM(INDIRECT(\"MAINLINE!O\"&$B70+1):INDIRECT(\"MAINLINE!O\"&$D70))))","v":""},{"$f":"IF(B70=\"\",\"\",IF(D70=\"\",\"\",SUM(INDIRECT(\"MAINLINE!P\"&$B70+1):INDIRECT(\"MAINLINE!P\"&$D70))))","v":""},{"$f":"IF(B70=\"\",\"\",IF(D70=\"\",\"\",SUM(INDIRECT(\"MAINLINE!Q\"&$B70+1):INDIRECT(\"MAINLINE!Q\"&$D70))))","v":""},{"$f":"IF(B70=\"\",\"\",IF(D70=\"\",\"\",SUM(INDIRECT(\"MAINLINE!R\"&$B70+1):INDIRECT(\"MAINLINE!R\"&$D70))))","v":""},{"$f":"IF(B70=\"\",\"\",IF(D70=\"\",\"\",SUM(INDIRECT(\"MAINLINE!S\"&$B70+1):INDIRECT(\"MAINLINE!S\"&$D70))))","v":""},{"$f":"IF(B70=\"\",\"\",IF(D70=\"\",\"\",SUM(INDIRECT(\"MAINLINE!T\"&$B70+1):INDIRECT(\"MAINLINE!T\"&$D70))))","v":""},{"$f":"IF(B70=\"\",\"\",IF(D70=\"\",\"\",SUM(INDIRECT(\"MAINLINE!U\"&$B70+1):INDIRECT(\"MAINLINE!U\"&$D70))))","v":""},{"$f":"IF(B70=\"\",\"\",IF(D70=\"\",\"\",SUM(INDIRECT(\"MAINLINE!V\"&$B70+1):INDIRECT(\"MAINLINE!V\"&$D70))))","v":""}]
["",{"$f":"_xlfn.IFNA(MATCH(A71,MAINLINE!$A$1:$A$586,0),\"\")","v":""},null,{"$f":"_xlfn.IFNA(MATCH(C71,MAINLINE!$A$1:$A$586,0),\"\")","v":""},null,{"$f":"IF(B71=\"\",\"\",IF(D71=\"\",\"\",SUM(INDIRECT(\"MAINLINE!M\"&$B71+1):INDIRECT(\"MAINLINE!M\"&$D71))))","v":""},{"$f":"IF(B71=\"\",\"\",IF(D71=\"\",\"\",SUM(INDIRECT(\"MAINLINE!N\"&$B71+1):INDIRECT(\"MAINLINE!N\"&$D71))))","v":""},{"$f":"IF(B71=\"\",\"\",IF(D71=\"\",\"\",SUM(INDIRECT(\"MAINLINE!O\"&$B71+1):INDIRECT(\"MAINLINE!O\"&$D71))))","v":""},{"$f":"IF(B71=\"\",\"\",IF(D71=\"\",\"\",SUM(INDIRECT(\"MAINLINE!P\"&$B71+1):INDIRECT(\"MAINLINE!P\"&$D71))))","v":""},{"$f":"IF(B71=\"\",\"\",IF(D71=\"\",\"\",SUM(INDIRECT(\"MAINLINE!Q\"&$B71+1):INDIRECT(\"MAINLINE!Q\"&$D71))))","v":""},{"$f":"IF(B71=\"\",\"\",IF(D71=\"\",\"\",SUM(INDIRECT(\"MAINLINE!R\"&$B71+1):INDIRECT(\"MAINLINE!R\"&$D71))))","v":""},{"$f":"IF(B71=\"\",\"\",IF(D71=\"\",\"\",SUM(INDIRECT(\"MAINLINE!S\"&$B71+1):INDIRECT(\"MAINLINE!S\"&$D71))))","v":""},{"$f":"IF(B71=\"\",\"\",IF(D71=\"\",\"\",SUM(INDIRECT(\"MAINLINE!T\"&$B71+1):INDIRECT(\"MAINLINE!T\"&$D71))))","v":""},{"$f":"IF(B71=\"\",\"\",IF(D71=\"\",\"\",SUM(INDIRECT(\"MAINLINE!U\"&$B71+1):INDIRECT(\"MAINLINE!U\"&$D71))))","v":""},{"$f":"IF(B71=\"\",\"\",IF(D71=\"\",\"\",SUM(INDIRECT(\"MAINLINE!V\"&$B71+1):INDIRECT(\"MAINLINE!V\"&$D71))))","v":""}]
["",{"$f":"_xlfn.IFNA(MATCH(A72,MAINLINE!$A$1:$A$586,0),\"\")","v":""},null,{"$f":"_xlfn.IFNA(MATCH(C72,MAINLINE!$A$1:$A$586,0),\"\")","v":""},null,{"$f":"IF(B72=\"\",\"\",IF(D72=\"\",\"\",SUM(INDIRECT(\"MAINLINE!M\"&$B72+1):INDIRECT(\"MAINLINE!M\"&$D72))))","v":""},{"$f":"IF(B72=\"\",\"\",IF(D72=\"\",\"\",SUM(INDIRECT(\"MAINLINE!N\"&$B72+1):INDIRECT(\"MAINLINE!N\"&$D72))))","v":""},{"$f":"IF(B72=\"\",\"\",IF(D72=\"\",\"\",SUM(INDIRECT(\"MAINLINE!O\"&$B72+1):INDIRECT(\"MAINLINE!O\"&$D72))))","v":""},{"$f":"IF(B72=\"\",\"\",IF(D72=\"\",\"\",SUM(INDIRECT(\"MAINLINE!P\"&$B72+1):INDIRECT(\"MAINLINE!P\"&$D72))))","v":""},{"$f":"IF(B72=\"\",\"\",IF(D72=\"\",\"\",SUM(INDIRECT(\"MAINLINE!Q\"&$B72+1):INDIRECT(\"MAINLINE!Q\"&$D72))))","v":""},{"$f":"IF(B72=\"\",\"\",IF(D72=\"\",\"\",SUM(INDIRECT(\"MAINLINE!R\"&$B72+1):INDIRECT(\"MAINLINE!R\"&$D72))))","v":""},{"$f":"IF(B72=\"\",\"\",IF(D72=\"\",\"\",SUM(INDIRECT(\"MAINLINE!S\"&$B72+1):INDIRECT(\"MAINLINE!S\"&$D72))))","v":""},{"$f":"IF(B72=\"\",\"\",IF(D72=\"\",\"\",SUM(INDIRECT(\"MAINLINE!T\"&$B72+1):INDIRECT(\"MAINLINE!T\"&$D72))))","v":""},{"$f":"IF(B72=\"\",\"\",IF(D72=\"\",\"\",SUM(INDIRECT(\"MAINLINE!U\"&$B72+1):INDIRECT(\"MAINLINE!U\"&$D72))))","v":""},{"$f":"IF(B72=\"\",\"\",IF(D72=\"\",\"\",SUM(INDIRECT(\"MAINLINE!V\"&$B72+1):INDIRECT(\"MAINLINE!V\"&$D72))))","v":""}]
["",{"$f":"_xlfn.IFNA(MATCH(A73,MAINLINE!$A$1:$A$586,0),\"\")","v":""},null,{"$f":"_xlfn.IFNA(MATCH(C73,MAINLINE!$A$1:$A$586,0),\"\")","v":""},null,{"$f":"IF(B73=\"\",\"\",IF(D73=\"\",\"\",SUM(INDIRECT(\"MAINLINE!M\"&$B73+1):INDIRECT(\"MAINLINE!M\"&$D73))))","v":""},{"$f":"IF(B73=\"\",\"\",IF(D73=\"\",\"\",SUM(INDIRECT(\"MAINLINE!N\"&$B73+1):INDIRECT(\"MAINLINE!N\"&$D73))))","v":""},{"$f":"IF(B73=\"\",\"\",IF(D73=\"\",\"\",SUM(INDIRECT(\"MAINLINE!O\"&$B73+1):INDIRECT(\"MAINLINE!O\"&$D73))))","v":""},{"$f":"IF(B73=\"\",\"\",IF(D73=\"\",\"\",SUM(INDIRECT(\"MAINLINE!P\"&$B73+1):INDIRECT(\"MAINLINE!P\"&$D73))))","v":""},{"$f":"IF(B73=\"\",\"\",IF(D73=\"\",\"\",SUM(INDIRECT(\"MAINLINE!Q\"&$B73+1):INDIRECT(\"MAINLINE!Q\"&$D73))))","v":""},{"$f":"IF(B73=\"\",\"\",IF(D73=\"\",\"\",SUM(INDIRECT(\"MAINLINE!R\"&$B73+1):INDIRECT(\"MAINLINE!R\"&$D73))))","v":""},{"$f":"IF(B73=\"\",\"\",IF(D73=\"\",\"\",SUM(INDIRECT(\"MAINLINE!S\"&$B73+1):INDIRECT(\"MAINLINE!S\"&$D73))))","v":""},{"$f":"IF(B73=\"\",\"\",IF(D73=\"\",\"\",SUM(INDIRECT(\"MAINLINE!T\"&$B73+1):INDIRECT(\"MAINLINE!T\"&$D73))))","v":""},{"$f":"IF(B73=\"\",\"\",IF(D73=\"\",\"\",SUM(INDIRECT(\"MAINLINE!U\"&$B73+1):INDIRECT(\"MAINLINE!U\"&$D73))))","v":""},{"$f":"IF(B73=\"\",\"\",IF(D73=\"\",\"\",SUM(INDIRECT(\"MAINLINE!V\"&$B73+1):INDIRECT(\"MAINLINE!V\"&$D73))))","v":""}]
["",{"$f":"_xlfn.IFNA(MATCH(A74,MAINLINE!$A$1:$A$586,0),\"\")","v":""},null,{"$f":"_xlfn.IFNA(MATCH(C74,MAINLINE!$A$1:$A$586,0),\"\")","v":""},null,{"$f":"IF(B74=\"\",\"\",IF(D74=\"\",\"\",SUM(INDIRECT(\"MAINLINE!M\"&$B74+1):INDIRECT(\"MAINLINE!M\"&$D74))))","v":""},{"$f":"IF(B74=\"\",\"\",IF(D74=\"\",\"\",SUM(INDIRECT(\"MAINLINE!N\"&$B74+1):INDIRECT(\"MAINLINE!N\"&$D74))))","v":""},{"$f":"IF(B74=\"\",\"\",IF(D74=\"\",\"\",SUM(INDIRECT(\"MAINLINE!O\"&$B74+1):INDIRECT(\"MAINLINE!O\"&$D74))))","v":""},{"$f":"IF(B74=\"\",\"\",IF(D74=\"\",\"\",SUM(INDIRECT(\"MAINLINE!P\"&$B74+1):INDIRECT(\"MAINLINE!P\"&$D74))))","v":""},{"$f":"IF(B74=\"\",\"\",IF(D74=\"\",\"\",SUM(INDIRECT(\"MAINLINE!Q\"&$B74+1):INDIRECT(\"MAINLINE!Q\"&$D74))))","v":""},{"$f":"IF(B74=\"\",\"\",IF(D74=\"\",\"\",SUM(INDIRECT(\"MAINLINE!R\"&$B74+1):INDIRECT(\"MAINLINE!R\"&$D74))))","v":""},{"$f":"IF(B74=\"\",\"\",IF(D74=\"\",\"\",SUM(INDIRECT(\"MAINLINE!S\"&$B74+1):INDIRECT(\"MAINLINE!S\"&$D74))))","v":""},{"$f":"IF(B74=\"\",\"\",IF(D74=\"\",\"\",SUM(INDIRECT(\"MAINLINE!T\"&$B74+1):INDIRECT(\"MAINLINE!T\"&$D74))))","v":""},{"$f":"IF(B74=\"\",\"\",IF(D74=\"\",\"\",SUM(INDIRECT(\"MAINLINE!U\"&$B74+1):INDIRECT(\"MAINLINE!U\"&$D74))))","v":""},{"$f":"IF(B74=\"\",\"\",IF(D74=\"\",\"\",SUM(INDIRECT(\"MAINLINE!V\"&$B74+1):INDIRECT(\"MAINLINE!V\"&$D74))))","v":""}]
["",{"$f":"_xlfn.IFNA(MATCH(A75,MAINLINE!$A$1:$A$586,0),\"\")","v":""},null,{"$f":"_xlfn.IFNA(MATCH(C75,MAINLINE!$A$1:$A$586,0),\"\")","v":""},null,{"$f":"IF(B75=\"\",\"\",IF(D75=\"\",\"\",SUM(INDIRECT(\"MAINLINE!M\"&$B75+1):INDIRECT(\"MAINLINE!M\"&$D75))))","v":""},{"$f":"IF(B75=\"\",\"\",IF(D75=\"\",\"\",SUM(INDIRECT(\"MAINLINE!N\"&$B75+1):INDIRECT(\"MAINLINE!N\"&$D75))))","v":""},{"$f":"IF(B75=\"\",\"\",IF(D75=\"\",\"\",SUM(INDIRECT(\"MAINLINE!O\"&$B75+1):INDIRECT(\"MAINLINE!O\"&$D75))))","v":""},{"$f":"IF(B75=\"\",\"\",IF(D75=\"\",\"\",SUM(INDIRECT(\"MAINLINE!P\"&$B75+1):INDIRECT(\"MAINLINE!P\"&$D75))))","v":""},{"$f":"IF(B75=\"\",\"\",IF(D75=\"\",\"\",SUM(INDIRECT(\"MAINLINE!Q\"&$B75+1):INDIRECT(\"MAINLINE!Q\"&$D75))))","v":""},{"$f":"IF(B75=\"\",\"\",IF(D75=\"\",\"\",SUM(INDIRECT(\"MAINLINE!R\"&$B75+1):INDIRECT(\"MAINLINE!R\"&$D75))))","v":""},{"$f":"IF(B75=\"\",\"\",IF(D75=\"\",\"\",SUM(INDIRECT(\"MAINLINE!S\"&$B75+1):INDIRECT(\"MAINLINE!S\"&$D75))))","v":""},{"$f":"IF(B75=\"\",\"\",IF(D75=\"\",\"\",SUM(INDIRECT(\"MAINLINE!T\"&$B75+1):INDIRECT(\"MAINLINE!T\"&$D75))))","v":""},{"$f":"IF(B75=\"\",\"\",IF(D75=\"\",\"\",SUM(INDIRECT(\"MAINLINE!U\"&$B75+1):INDIRECT(\"MAINLINE!U\"&$D75))))","v":""},{"$f":"IF(B75=\"\",\"\",IF(D75=\"\",\"\",SUM(INDIRECT(\"MAINLINE!V\"&$B75+1):INDIRECT(\"MAINLINE!V\"&$D75))))","v":""}]
["",{"$f":"_xlfn.IFNA(MATCH(A76,MAINLINE!$A$1:$A$586,0),\"\")","v":""},null,{"$f":"_xlfn.IFNA(MATCH(C76,MAINLINE!$A$1:$A$586,0),\"\")","v":""},null,{"$f":"IF(B76=\"\",\"\",IF(D76=\"\",\"\",SUM(INDIRECT(\"MAINLINE!M\"&$B76+1):INDIRECT(\"MAINLINE!M\"&$D76))))","v":""},{"$f":"IF(B76=\"\",\"\",IF(D76=\"\",\"\",SUM(INDIRECT(\"MAINLINE!N\"&$B76+1):INDIRECT(\"MAINLINE!N\"&$D76))))","v":""},{"$f":"IF(B76=\"\",\"\",IF(D76=\"\",\"\",SUM(INDIRECT(\"MAINLINE!O\"&$B76+1):INDIRECT(\"MAINLINE!O\"&$D76))))","v":""},{"$f":"IF(B76=\"\",\"\",IF(D76=\"\",\"\",SUM(INDIRECT(\"MAINLINE!P\"&$B76+1):INDIRECT(\"MAINLINE!P\"&$D76))))","v":""},{"$f":"IF(B76=\"\",\"\",IF(D76=\"\",\"\",SUM(INDIRECT(\"MAINLINE!Q\"&$B76+1):INDIRECT(\"MAINLINE!Q\"&$D76))))","v":""},{"$f":"IF(B76=\"\",\"\",IF(D76=\"\",\"\",SUM(INDIRECT(\"MAINLINE!R\"&$B76+1):INDIRECT(\"MAINLINE!R\"&$D76))))","v":""},{"$f":"IF(B76=\"\",\"\",IF(D76=\"\",\"\",SUM(INDIRECT(\"MAINLINE!S\"&$B76+1):INDIRECT(\"MAINLINE!S\"&$D76))))","v":""},{"$f":"IF(B76=\"\",\"\",IF(D76=\"\",\"\",SUM(INDIRECT(\"MAINLINE!T\"&$B76+1):INDIRECT(\"MAINLINE!T\"&$D76))))","v":""},{"$f":"IF(B76=\"\",\"\",IF(D76=\"\",\"\",SUM(INDIRECT(\"MAINLINE!U\"&$B76+1):INDIRECT(\"MAINLINE!U\"&$D76))))","v":""},{"$f":"IF(B76=\"\",\"\",IF(D76=\"\",\"\",SUM(INDIRECT(\"MAINLINE!V\"&$B76+1):INDIRECT(\"MAINLINE!V\"&$D76))))","v":""}]
["",{"$f":"_xlfn.IFNA(MATCH(A77,MAINLINE!$A$1:$A$586,0),\"\")","v":""},null,{"$f":"_xlfn.IFNA(MATCH(C77,MAINLINE!$A$1:$A$586,0),\"\")","v":""},null,{"$f":"IF(B77=\"\",\"\",IF(D77=\"\",\"\",SUM(INDIRECT(\"MAINLINE!M\"&$B77+1):INDIRECT(\"MAINLINE!M\"&$D77))))","v":""},{"$f":"IF(B77=\"\",\"\",IF(D77=\"\",\"\",SUM(INDIRECT(\"MAINLINE!N\"&$B77+1):INDIRECT(\"MAINLINE!N\"&$D77))))","v":""},{"$f":"IF(B77=\"\",\"\",IF(D77=\"\",\"\",SUM(INDIRECT(\"MAINLINE!O\"&$B77+1):INDIRECT(\"MAINLINE!O\"&$D77))))","v":""},{"$f":"IF(B77=\"\",\"\",IF(D77=\"\",\"\",SUM(INDIRECT(\"MAINLINE!P\"&$B77+1):INDIRECT(\"MAINLINE!P\"&$D77))))","v":""},{"$f":"IF(B77=\"\",\"\",IF(D77=\"\",\"\",SUM(INDIRECT(\"MAINLINE!Q\"&$B77+1):INDIRECT(\"MAINLINE!Q\"&$D77))))","v":""},{"$f":"IF(B77=\"\",\"\",IF(D77=\"\",\"\",SUM(INDIRECT(\"MAINLINE!R\"&$B77+1):INDIRECT(\"MAINLINE!R\"&$D77))))","v":""},{"$f":"IF(B77=\"\",\"\",IF(D77=\"\",\"\",SUM(INDIRECT(\"MAINLINE!S\"&$B77+1):INDIRECT(\"MAINLINE!S\"&$D77))))","v":""},{"$f":"IF(B77=\"\",\"\",IF(D77=\"\",\"\",SUM(INDIRECT(\"MAINLINE!T\"&$B77+1):INDIRECT(\"MAINLINE!T\"&$D77))))","v":""},{"$f":"IF(B77=\"\",\"\",IF(D77=\"\",\"\",SUM(INDIRECT(\"MAINLINE!U\"&$B77+1):INDIRECT(\"MAINLINE!U\"&$D77))))","v":""},{"$f":"IF(B77=\"\",\"\",IF(D77=\"\",\"\",SUM(INDIRECT(\"MAINLINE!V\"&$B77+1):INDIRECT(\"MAINLINE!V\"&$D77))))","v":""}]
["",{"$f":"_xlfn.IFNA(MATCH(A78,MAINLINE!$A$1:$A$586,0),\"\")","v":""},null,{"$f":"_xlfn.IFNA(MATCH(C78,MAINLINE!$A$1:$A$586,0),\"\")","v":""},null,{"$f":"IF(B78=\"\",\"\",IF(D78=\"\",\"\",SUM(INDIRECT(\"MAINLINE!M\"&$B78+1):INDIRECT(\"MAINLINE!M\"&$D78))))","v":""},{"$f":"IF(B78=\"\",\"\",IF(D78=\"\",\"\",SUM(INDIRECT(\"MAINLINE!N\"&$B78+1):INDIRECT(\"MAINLINE!N\"&$D78))))","v":""},{"$f":"IF(B78=\"\",\"\",IF(D78=\"\",\"\",SUM(INDIRECT(\"MAINLINE!O\"&$B78+1):INDIRECT(\"MAINLINE!O\"&$D78))))","v":""},{"$f":"IF(B78=\"\",\"\",IF(D78=\"\",\"\",SUM(INDIRECT(\"MAINLINE!P\"&$B78+1):INDIRECT(\"MAINLINE!P\"&$D78))))","v":""},{"$f":"IF(B78=\"\",\"\",IF(D78=\"\",\"\",SUM(INDIRECT(\"MAINLINE!Q\"&$B78+1):INDIRECT(\"MAINLINE!Q\"&$D78))))","v":""},{"$f":"IF(B78=\"\",\"\",IF(D78=\"\",\"\",SUM(INDIRECT(\"MAINLINE!R\"&$B78+1):INDIRECT(\"MAINLINE!R\"&$D78))))","v":""},{"$f":"IF(B78=\"\",\"\",IF(D78=\"\",\"\",SUM(INDIRECT(\"MAINLINE!S\"&$B78+1):INDIRECT(\"MAINLINE!S\"&$D78))))","v":""},{"$f":"IF(B78=\"\",\"\",IF(D78=\"\",\"\",SUM(INDIRECT(\"MAINLINE!T\"&$B78+1):INDIRECT(\"MAINLINE!T\"&$D78))))","v":""},{"$f":"IF(B78=\"\",\"\",IF(D78=\"\",\"\",SUM(INDIRECT(\"MAINLINE!U\"&$B78+1):INDIRECT(\"MAINLINE!U\"&$D78))))","v":""},{"$f":"IF(B78=\"\",\"\",IF(D78=\"\",\"\",SUM(INDIRECT(\"MAINLINE!V\"&$B78+1):INDIRECT(\"MAINLINE!V\"&$D78))))","v":""}]
["",{"$f":"_xlfn.IFNA(MATCH(A79,MAINLINE!$A$1:$A$586,0),\"\")","v":""},null,{"$f":"_xlfn.IFNA(MATCH(C79,MAINLINE!$A$1:$A$586,0),\"\")","v":""},null,{"$f":"IF(B79=\"\",\"\",IF(D79=\"\",\"\",SUM(INDIRECT(\"MAINLINE!M\"&$B79+1):INDIRECT(\"MAINLINE!M\"&$D79))))","v":""},{"$f":"IF(B79=\"\",\"\",IF(D79=\"\",\"\",SUM(INDIRECT(\"MAINLINE!N\"&$B79+1):INDIRECT(\"MAINLINE!N\"&$D79))))","v":""},{"$f":"IF(B79=\"\",\"\",IF(D79=\"\",\"\",SUM(INDIRECT(\"MAINLINE!O\"&$B79+1):INDIRECT(\"MAINLINE!O\"&$D79))))","v":""},{"$f":"IF(B79=\"\",\"\",IF(D79=\"\",\"\",SUM(INDIRECT(\"MAINLINE!P\"&$B79+1):INDIRECT(\"MAINLINE!P\"&$D79))))","v":""},{"$f":"IF(B79=\"\",\"\",IF(D79=\"\",\"\",SUM(INDIRECT(\"MAINLINE!Q\"&$B79+1):INDIRECT(\"MAINLINE!Q\"&$D79))))","v":""},{"$f":"IF(B79=\"\",\"\",IF(D79=\"\",\"\",SUM(INDIRECT(\"MAINLINE!R\"&$B79+1):INDIRECT(\"MAINLINE!R\"&$D79))))","v":""},{"$f":"IF(B79=\"\",\"\",IF(D79=\"\",\"\",SUM(INDIRECT(\"MAINLINE!S\"&$B79+1):INDIRECT(\"MAINLINE!S\"&$D79))))","v":""},{"$f":"IF(B79=\"\",\"\",IF(D79=\"\",\"\",SUM(INDIRECT(\"MAINLINE!T\"&$B79+1):INDIRECT(\"MAINLINE!T\"&$D79))))","v":""},{"$f":"IF(B79=\"\",\"\",IF(D79=\"\",\"\",SUM(INDIRECT(\"MAINLINE!U\"&$B79+1):INDIRECT(\"MAINLINE!U\"&$D79))))","v":""},{"$f":"IF(B79=\"\",\"\",IF(D79=\"\",\"\",SUM(INDIRECT(\"MAINLINE!V\"&$B79+1):INDIRECT(\"MAINLINE!V\"&$D79))))","v":""}]
["",{"$f":"_xlfn.IFNA(MATCH(A80,MAINLINE!$A$1:$A$586,0),\"\")","v":""},null,{"$f":"_xlfn.IFNA(MATCH(C80,MAINLINE!$A$1:$A$586,0),\"\")","v":""},null,{"$f":"IF(B80=\"\",\"\",IF(D80=\"\",\"\",SUM(INDIRECT(\"MAINLINE!M\"&$B80+1):INDIRECT(\"MAINLINE!M\"&$D80))))","v":""},{"$f":"IF(B80=\"\",\"\",IF(D80=\"\",\"\",SUM(INDIRECT(\"MAINLINE!N\"&$B80+1):INDIRECT(\"MAINLINE!N\"&$D80))))","v":""},{"$f":"IF(B80=\"\",\"\",IF(D80=\"\",\"\",SUM(INDIRECT(\"MAINLINE!O\"&$B80+1):INDIRECT(\"MAINLINE!O\"&$D80))))","v":""},{"$f":"IF(B80=\"\",\"\",IF(D80=\"\",\"\",SUM(INDIRECT(\"MAINLINE!P\"&$B80+1):INDIRECT(\"MAINLINE!P\"&$D80))))","v":""},{"$f":"IF(B80=\"\",\"\",IF(D80=\"\",\"\",SUM(INDIRECT(\"MAINLINE!Q\"&$B80+1):INDIRECT(\"MAINLINE!Q\"&$D80))))","v":""},{"$f":"IF(B80=\"\",\"\",IF(D80=\"\",\"\",SUM(INDIRECT(\"MAINLINE!R\"&$B80+1):INDIRECT(\"MAINLINE!R\"&$D80))))","v":""},{"$f":"IF(B80=\"\",\"\",IF(D80=\"\",\"\",SUM(INDIRECT(\"MAINLINE!S\"&$B80+1):INDIRECT(\"MAINLINE!S\"&$D80))))","v":""},{"$f":"IF(B80=\"\",\"\",IF(D80=\"\",\"\",SUM(INDIRECT(\"MAINLINE!T\"&$B80+1):INDIRECT(\"MAINLINE!T\"&$D80))))","v":""},{"$f":"IF(B80=\"\",\"\",IF(D80=\"\",\"\",SUM(INDIRECT(\"MAINLINE!U\"&$B80+1):INDIRECT(\"MAINLINE!U\"&$D80))))","v":""},{"$f":"IF(B80=\"\",\"\",IF(D80=\"\",\"\",SUM(INDIRECT(\"MAINLINE!V\"&$B80+1):INDIRECT(\"MAINLINE!V\"&$D80))))","v":""}]
["",{"$f":"_xlfn.IFNA(MATCH(A81,MAINLINE!$A$1:$A$586,0),\"\")","v":""},null,{"$f":"_xlfn.IFNA(MATCH(C81,MAINLINE!$A$1:$A$586,0),\"\")","v":""},null,{"$f":"IF(B81=\"\",\"\",IF(D81=\"\",\"\",SUM(INDIRECT(\"MAINLINE!M\"&$B81+1):INDIRECT(\"MAINLINE!M\"&$D81))))","v":""},{"$f":"IF(B81=\"\",\"\",IF(D81=\"\",\"\",SUM(INDIRECT(\"MAINLINE!N\"&$B81+1):INDIRECT(\"MAINLINE!N\"&$D81))))","v":""},{"$f":"IF(B81=\"\",\"\",IF(D81=\"\",\"\",SUM(INDIRECT(\"MAINLINE!O\"&$B81+1):INDIRECT(\"MAINLINE!O\"&$D81))))","v":""},{"$f":"IF(B81=\"\",\"\",IF(D81=\"\",\"\",SUM(INDIRECT(\"MAINLINE!P\"&$B81+1):INDIRECT(\"MAINLINE!P\"&$D81))))","v":""},{"$f":"IF(B81=\"\",\"\",IF(D81=\"\",\"\",SUM(INDIRECT(\"MAINLINE!Q\"&$B81+1):INDIRECT(\"MAINLINE!Q\"&$D81))))","v":""},{"$f":"IF(B81=\"\",\"\",IF(D81=\"\",\"\",SUM(INDIRECT(\"MAINLINE!R\"&$B81+1):INDIRECT(\"MAINLINE!R\"&$D81))))","v":""},{"$f":"IF(B81=\"\",\"\",IF(D81=\"\",\"\",SUM(INDIRECT(\"MAINLINE!S\"&$B81+1):INDIRECT(\"MAINLINE!S\"&$D81))))","v":""},{"$f":"IF(B81=\"\",\"\",IF(D81=\"\",\"\",SUM(INDIRECT(\"MAINLINE!T\"&$B81+1):INDIRECT(\"MAINLINE!T\"&$D81))))","v":""},{"$f":"IF(B81=\"\",\"\",IF(D81=\"\",\"\",SUM(INDIRECT(\"MAINLINE!U\"&$B81+1):INDIRECT(\"MAINLINE!U\"&$D81))))","v":""},{"$f":"IF(B81=\"\",\"\",IF(D81=\"\",\"\",SUM(INDIRECT(\"MAINLINE!V\"&$B81+1):INDIRECT(\"MAINLINE!V\"&$D81))))","v":""}]
["",{"$f":"_xlfn.IFNA(MATCH(A82,MAINLINE!$A$1:$A$586,0),\"\")","v":""},null,{"$f":"_xlfn.IFNA(MATCH(C82,MAINLINE!$A$1:$A$586,0),\"\")","v":""},null,{"$f":"IF(B82=\"\",\"\",IF(D82=\"\",\"\",SUM(INDIRECT(\"MAINLINE!M\"&$B82+1):INDIRECT(\"MAINLINE!M\"&$D82))))","v":""},{"$f":"IF(B82=\"\",\"\",IF(D82=\"\",\"\",SUM(INDIRECT(\"MAINLINE!N\"&$B82+1):INDIRECT(\"MAINLINE!N\"&$D82))))","v":""},{"$f":"IF(B82=\"\",\"\",IF(D82=\"\",\"\",SUM(INDIRECT(\"MAINLINE!O\"&$B82+1):INDIRECT(\"MAINLINE!O\"&$D82))))","v":""},{"$f":"IF(B82=\"\",\"\",IF(D82=\"\",\"\",SUM(INDIRECT(\"MAINLINE!P\"&$B82+1):INDIRECT(\"MAINLINE!P\"&$D82))))","v":""},{"$f":"IF(B82=\"\",\"\",IF(D82=\"\",\"\",SUM(INDIRECT(\"MAINLINE!Q\"&$B82+1):INDIRECT(\"MAINLINE!Q\"&$D82))))","v":""},{"$f":"IF(B82=\"\",\"\",IF(D82=\"\",\"\",SUM(INDIRECT(\"MAINLINE!R\"&$B82+1):INDIRECT(\"MAINLINE!R\"&$D82))))","v":""},{"$f":"IF(B82=\"\",\"\",IF(D82=\"\",\"\",SUM(INDIRECT(\"MAINLINE!S\"&$B82+1):INDIRECT(\"MAINLINE!S\"&$D82))))","v":""},{"$f":"IF(B82=\"\",\"\",IF(D82=\"\",\"\",SUM(INDIRECT(\"MAINLINE!T\"&$B82+1):INDIRECT(\"MAINLINE!T\"&$D82))))","v":""},{"$f":"IF(B82=\"\",\"\",IF(D82=\"\",\"\",SUM(INDIRECT(\"MAINLINE!U\"&$B82+1):INDIRECT(\"MAINLINE!U\"&$D82))))","v":""},{"$f":"IF(B82=\"\",\"\",IF(D82=\"\",\"\",SUM(INDIRECT(\"MAINLINE!V\"&$B82+1):INDIRECT(\"MAINLINE!V\"&$D82))))","v":""}]
["",{"$f":"_xlfn.IFNA(MATCH(A83,MAINLINE!$A$1:$A$586,0),\"\")","v":""},null,{"$f":"_xlfn.IFNA(MATCH(C83,MAINLINE!$A$1:$A$586,0),\"\")","v":""},null,{"$f":"IF(B83=\"\",\"\",IF(D83=\"\",\"\",SUM(INDIRECT(\"MAINLINE!M\"&$B83+1):INDIRECT(\"MAINLINE!M\"&$D83))))","v":""},{"$f":"IF(B83=\"\",\"\",IF(D83=\"\",\"\",SUM(INDIRECT(\"MAINLINE!N\"&$B83+1):INDIRECT(\"MAINLINE!N\"&$D83))))","v":""},{"$f":"IF(B83=\"\",\"\",IF(D83=\"\",\"\",SUM(INDIRECT(\"MAINLINE!O\"&$B83+1):INDIRECT(\"MAINLINE!O\"&$D83))))","v":""},{"$f":"IF(B83=\"\",\"\",IF(D83=\"\",\"\",SUM(INDIRECT(\"MAINLINE!P\"&$B83+1):INDIRECT(\"MAINLINE!P\"&$D83))))","v":""},{"$f":"IF(B83=\"\",\"\",IF(D83=\"\",\"\",SUM(INDIRECT(\"MAINLINE!Q\"&$B83+1):INDIRECT(\"MAINLINE!Q\"&$D83))))","v":""},{"$f":"IF(B83=\"\",\"\",IF(D83=\"\",\"\",SUM(INDIRECT(\"MAINLINE!R\"&$B83+1):INDIRECT(\"MAINLINE!R\"&$D83))))","v":""},{"$f":"IF(B83=\"\",\"\",IF(D83=\"\",\"\",SUM(INDIRECT(\"MAINLINE!S\"&$B83+1):INDIRECT(\"MAINLINE!S\"&$D83))))","v":""},{"$f":"IF(B83=\"\",\"\",IF(D83=\"\",\"\",SUM(INDIRECT(\"MAINLINE!T\"&$B83+1):INDIRECT(\"MAINLINE!T\"&$D83))))","v":""},{"$f":"IF(B83=\"\",\"\",IF(D83=\"\",\"\",SUM(INDIRECT(\"MAINLINE!U\"&$B83+1):INDIRECT(\"MAINLINE!U\"&$D83))))","v":""},{"$f":"IF(B83=\"\",\"\",IF(D83=\"\",\"\",SUM(INDIRECT(\"MAINLINE!V\"&$B83+1):INDIRECT(\"MAINLINE!V\"&$D83))))","v":""}]
["",{"$f":"_xlfn.IFNA(MATCH(A84,MAINLINE!$A$1:$A$586,0),\"\")","v":""},null,{"$f":"_xlfn.IFNA(MATCH(C84,MAINLINE!$A$1:$A$586,0),\"\")","v":""},null,{"$f":"IF(B84=\"\",\"\",IF(D84=\"\",\"\",SUM(INDIRECT(\"MAINLINE!M\"&$B84+1):INDIRECT(\"MAINLINE!M\"&$D84))))","v":""},{"$f":"IF(B84=\"\",\"\",IF(D84=\"\",\"\",SUM(INDIRECT(\"MAINLINE!N\"&$B84+1):INDIRECT(\"MAINLINE!N\"&$D84))))","v":""},{"$f":"IF(B84=\"\",\"\",IF(D84=\"\",\"\",SUM(INDIRECT(\"MAINLINE!O\"&$B84+1):INDIRECT(\"MAINLINE!O\"&$D84))))","v":""},{"$f":"IF(B84=\"\",\"\",IF(D84=\"\",\"\",SUM(INDIRECT(\"MAINLINE!P\"&$B84+1):INDIRECT(\"MAINLINE!P\"&$D84))))","v":""},{"$f":"IF(B84=\"\",\"\",IF(D84=\"\",\"\",SUM(INDIRECT(\"MAINLINE!Q\"&$B84+1):INDIRECT(\"MAINLINE!Q\"&$D84))))","v":""},{"$f":"IF(B84=\"\",\"\",IF(D84=\"\",\"\",SUM(INDIRECT(\"MAINLINE!R\"&$B84+1):INDIRECT(\"MAINLINE!R\"&$D84))))","v":""},{"$f":"IF(B84=\"\",\"\",IF(D84=\"\",\"\",SUM(INDIRECT(\"MAINLINE!S\"&$B84+1):INDIRECT(\"MAINLINE!S\"&$D84))))","v":""},{"$f":"IF(B84=\"\",\"\",IF(D84=\"\",\"\",SUM(INDIRECT(\"MAINLINE!T\"&$B84+1):INDIRECT(\"MAINLINE!T\"&$D84))))","v":""},{"$f":"IF(B84=\"\",\"\",IF(D84=\"\",\"\",SUM(INDIRECT(\"MAINLINE!U\"&$B84+1):INDIRECT(\"MAINLINE!U\"&$D84))))","v":""},{"$f":"IF(B84=\"\",\"\",IF(D84=\"\",\"\",SUM(INDIRECT(\"MAINLINE!V\"&$B84+1):INDIRECT(\"MAINLINE!V\"&$D84))))","v":""}]
["",{"$f":"_xlfn.IFNA(MATCH(A85,MAINLINE!$A$1:$A$586,0),\"\")","v":""},null,{"$f":"_xlfn.IFNA(MATCH(C85,MAINLINE!$A$1:$A$586,0),\"\")","v":""},null,{"$f":"IF(B85=\"\",\"\",IF(D85=\"\",\"\",SUM(INDIRECT(\"MAINLINE!M\"&$B85+1):INDIRECT(\"MAINLINE!M\"&$D85))))","v":""},{"$f":"IF(B85=\"\",\"\",IF(D85=\"\",\"\",SUM(INDIRECT(\"MAINLINE!N\"&$B85+1):INDIRECT(\"MAINLINE!N\"&$D85))))","v":""},{"$f":"IF(B85=\"\",\"\",IF(D85=\"\",\"\",SUM(INDIRECT(\"MAINLINE!O\"&$B85+1):INDIRECT(\"MAINLINE!O\"&$D85))))","v":""},{"$f":"IF(B85=\"\",\"\",IF(D85=\"\",\"\",SUM(INDIRECT(\"MAINLINE!P\"&$B85+1):INDIRECT(\"MAINLINE!P\"&$D85))))","v":""},{"$f":"IF(B85=\"\",\"\",IF(D85=\"\",\"\",SUM(INDIRECT(\"MAINLINE!Q\"&$B85+1):INDIRECT(\"MAINLINE!Q\"&$D85))))","v":""},{"$f":"IF(B85=\"\",\"\",IF(D85=\"\",\"\",SUM(INDIRECT(\"MAINLINE!R\"&$B85+1):INDIRECT(\"MAINLINE!R\"&$D85))))","v":""},{"$f":"IF(B85=\"\",\"\",IF(D85=\"\",\"\",SUM(INDIRECT(\"MAINLINE!S\"&$B85+1):INDIRECT(\"MAINLINE!S\"&$D85))))","v":""},{"$f":"IF(B85=\"\",\"\",IF(D85=\"\",\"\",SUM(INDIRECT(\"MAINLINE!T\"&$B85+1):INDIRECT(\"MAINLINE!T\"&$D85))))","v":""},{"$f":"IF(B85=\"\",\"\",IF(D85=\"\",\"\",SUM(INDIRECT(\"MAINLINE!U\"&$B85+1):INDIRECT(\"MAINLINE!U\"&$D85))))","v":""},{"$f":"IF(B85=\"\",\"\",IF(D85=\"\",\"\",SUM(INDIRECT(\"MAINLINE!V\"&$B85+1):INDIRECT(\"MAINLINE!V\"&$D85))))","v":""}]
["",{"$f":"_xlfn.IFNA(MATCH(A86,MAINLINE!$A$1:$A$586,0),\"\")","v":""},null,{"$f":"_xlfn.IFNA(MATCH(C86,MAINLINE!$A$1:$A$586,0),\"\")","v":""},null,{"$f":"IF(B86=\"\",\"\",IF(D86=\"\",\"\",SUM(INDIRECT(\"MAINLINE!M\"&$B86+1):INDIRECT(\"MAINLINE!M\"&$D86))))","v":""},{"$f":"IF(B86=\"\",\"\",IF(D86=\"\",\"\",SUM(INDIRECT(\"MAINLINE!N\"&$B86+1):INDIRECT(\"MAINLINE!N\"&$D86))))","v":""},{"$f":"IF(B86=\"\",\"\",IF(D86=\"\",\"\",SUM(INDIRECT(\"MAINLINE!O\"&$B86+1):INDIRECT(\"MAINLINE!O\"&$D86))))","v":""},{"$f":"IF(B86=\"\",\"\",IF(D86=\"\",\"\",SUM(INDIRECT(\"MAINLINE!P\"&$B86+1):INDIRECT(\"MAINLINE!P\"&$D86))))","v":""},{"$f":"IF(B86=\"\",\"\",IF(D86=\"\",\"\",SUM(INDIRECT(\"MAINLINE!Q\"&$B86+1):INDIRECT(\"MAINLINE!Q\"&$D86))))","v":""},{"$f":"IF(B86=\"\",\"\",IF(D86=\"\",\"\",SUM(INDIRECT(\"MAINLINE!R\"&$B86+1):INDIRECT(\"MAINLINE!R\"&$D86))))","v":""},{"$f":"IF(B86=\"\",\"\",IF(D86=\"\",\"\",SUM(INDIRECT(\"MAINLINE!S\"&$B86+1):INDIRECT(\"MAINLINE!S\"&$D86))))","v":""},{"$f":"IF(B86=\"\",\"\",IF(D86=\"\",\"\",SUM(INDIRECT(\"MAINLINE!T\"&$B86+1):INDIRECT(\"MAINLINE!T\"&$D86))))","v":""},{"$f":"IF(B86=\"\",\"\",IF(D86=\"\",\"\",SUM(INDIRECT(\"MAINLINE!U\"&$B86+1):INDIRECT(\"MAINLINE!U\"&$D86))))","v":""},{"$f":"IF(B86=\"\",\"\",IF(D86=\"\",\"\",SUM(INDIRECT(\"MAINLINE!V\"&$B86+1):INDIRECT(\"MAINLINE!V\"&$D86))))","v":""}]
["",{"$f":"_xlfn.IFNA(MATCH(A87,MAINLINE!$A$1:$A$586,0),\"\")","v":""},null,{"$f":"_xlfn.IFNA(MATCH(C87,MAINLINE!$A$1:$A$586,0),\"\")","v":""},null,{"$f":"IF(B87=\"\",\"\",IF(D87=\"\",\"\",SUM(INDIRECT(\"MAINLINE!M\"&$B87+1):INDIRECT(\"MAINLINE!M\"&$D87))))","v":""},{"$f":"IF(B87=\"\",\"\",IF(D87=\"\",\"\",SUM(INDIRECT(\"MAINLINE!N\"&$B87+1):INDIRECT(\"MAINLINE!N\"&$D87))))","v":""},{"$f":"IF(B87=\"\",\"\",IF(D87=\"\",\"\",SUM(INDIRECT(\"MAINLINE!O\"&$B87+1):INDIRECT(\"MAINLINE!O\"&$D87))))","v":""},{"$f":"IF(B87=\"\",\"\",IF(D87=\"\",\"\",SUM(INDIRECT(\"MAINLINE!P\"&$B87+1):INDIRECT(\"MAINLINE!P\"&$D87))))","v":""},{"$f":"IF(B87=\"\",\"\",IF(D87=\"\",\"\",SUM(INDIRECT(\"MAINLINE!Q\"&$B87+1):INDIRECT(\"MAINLINE!Q\"&$D87))))","v":""},{"$f":"IF(B87=\"\",\"\",IF(D87=\"\",\"\",SUM(INDIRECT(\"MAINLINE!R\"&$B87+1):INDIRECT(\"MAINLINE!R\"&$D87))))","v":""},{"$f":"IF(B87=\"\",\"\",IF(D87=\"\",\"\",SUM(INDIRECT(\"MAINLINE!S\"&$B87+1):INDIRECT(\"MAINLINE!S\"&$D87))))","v":""},{"$f":"IF(B87=\"\",\"\",IF(D87=\"\",\"\",SUM(INDIRECT(\"MAINLINE!T\"&$B87+1):INDIRECT(\"MAINLINE!T\"&$D87))))","v":""},{"$f":"IF(B87=\"\",\"\",IF(D87=\"\",\"\",SUM(INDIRECT(\"MAINLINE!U\"&$B87+1):INDIRECT(\"MAINLINE!U\"&$D87))))","v":""},{"$f":"IF(B87=\"\",\"\",IF(D87=\"\",\"\",SUM(INDIRECT(\"MAINLINE!V\"&$B87+1):INDIRECT(\"MAINLINE!V\"&$D87))))","v":""}]
["",{"$f":"_xlfn.IFNA(MATCH(A88,MAINLINE!$A$1:$A$586,0),\"\")","v":""},null,{"$f":"_xlfn.IFNA(MATCH(C88,MAINLINE!$A$1:$A$586,0),\"\")","v":""},null,{"$f":"IF(B88=\"\",\"\",IF(D88=\"\",\"\",SUM(INDIRECT(\"MAINLINE!M\"&$B88+1):INDIRECT(\"MAINLINE!M\"&$D88))))","v":""},{"$f":"IF(B88=\"\",\"\",IF(D88=\"\",\"\",SUM(INDIRECT(\"MAINLINE!N\"&$B88+1):INDIRECT(\"MAINLINE!N\"&$D88))))","v":""},{"$f":"IF(B88=\"\",\"\",IF(D88=\"\",\"\",SUM(INDIRECT(\"MAINLINE!O\"&$B88+1):INDIRECT(\"MAINLINE!O\"&$D88))))","v":""},{"$f":"IF(B88=\"\",\"\",IF(D88=\"\",\"\",SUM(INDIRECT(\"MAINLINE!P\"&$B88+1):INDIRECT(\"MAINLINE!P\"&$D88))))","v":""},{"$f":"IF(B88=\"\",\"\",IF(D88=\"\",\"\",SUM(INDIRECT(\"MAINLINE!Q\"&$B88+1):INDIRECT(\"MAINLINE!Q\"&$D88))))","v":""},{"$f":"IF(B88=\"\",\"\",IF(D88=\"\",\"\",SUM(INDIRECT(\"MAINLINE!R\"&$B88+1):INDIRECT(\"MAINLINE!R\"&$D88))))","v":""},{"$f":"IF(B88=\"\",\"\",IF(D88=\"\",\"\",SUM(INDIRECT(\"MAINLINE!S\"&$B88+1):INDIRECT(\"MAINLINE!S\"&$D88))))","v":""},{"$f":"IF(B88=\"\",\"\",IF(D88=\"\",\"\",SUM(INDIRECT(\"MAINLINE!T\"&$B88+1):INDIRECT(\"MAINLINE!T\"&$D88))))","v":""},{"$f":"IF(B88=\"\",\"\",IF(D88=\"\",\"\",SUM(INDIRECT(\"MAINLINE!U\"&$B88+1):INDIRECT(\"MAINLINE!U\"&$D88))))","v":""},{"$f":"IF(B88=\"\",\"\",IF(D88=\"\",\"\",SUM(INDIRECT(\"MAINLINE!V\"&$B88+1):INDIRECT(\"MAINLINE!V\"&$D88))))","v":""}]
["",{"$f":"_xlfn.IFNA(MATCH(A89,MAINLINE!$A$1:$A$586,0),\"\")","v":""},null,{"$f":"_xlfn.IFNA(MATCH(C89,MAINLINE!$A$1:$A$586,0),\"\")","v":""},null,{"$f":"IF(B89=\"\",\"\",IF(D89=\"\",\"\",SUM(INDIRECT(\"MAINLINE!M\"&$B89+1):INDIRECT(\"MAINLINE!M\"&$D89))))","v":""},{"$f":"IF(B89=\"\",\"\",IF(D89=\"\",\"\",SUM(INDIRECT(\"MAINLINE!N\"&$B89+1):INDIRECT(\"MAINLINE!N\"&$D89))))","v":""},{"$f":"IF(B89=\"\",\"\",IF(D89=\"\",\"\",SUM(INDIRECT(\"MAINLINE!O\"&$B89+1):INDIRECT(\"MAINLINE!O\"&$D89))))","v":""},{"$f":"IF(B89=\"\",\"\",IF(D89=\"\",\"\",SUM(INDIRECT(\"MAINLINE!P\"&$B89+1):INDIRECT(\"MAINLINE!P\"&$D89))))","v":""},{"$f":"IF(B89=\"\",\"\",IF(D89=\"\",\"\",SUM(INDIRECT(\"MAINLINE!Q\"&$B89+1):INDIRECT(\"MAINLINE!Q\"&$D89))))","v":""},{"$f":"IF(B89=\"\",\"\",IF(D89=\"\",\"\",SUM(INDIRECT(\"MAINLINE!R\"&$B89+1):INDIRECT(\"MAINLINE!R\"&$D89))))","v":""},{"$f":"IF(B89=\"\",\"\",IF(D89=\"\",\"\",SUM(INDIRECT(\"MAINLINE!S\"&$B89+1):INDIRECT(\"MAINLINE!S\"&$D89))))","v":""},{"$f":"IF(B89=\"\",\"\",IF(D89=\"\",\"\",SUM(INDIRECT(\"MAINLINE!T\"&$B89+1):INDIRECT(\"MAINLINE!T\"&$D89))))","v":""},{"$f":"IF(B89=\"\",\"\",IF(D89=\"\",\"\",SUM(INDIRECT(\"MAINLINE!U\"&$B89+1):INDIRECT(\"MAINLINE!U\"&$D89))))","v":""},{"$f":"IF(B89=\"\",\"\",IF(D89=\"\",\"\",SUM(INDIRECT(\"MAINLINE!V\"&$B89+1):INDIRECT(\"MAINLINE!V\"&$D89))))","v":""}]

{"sheet":"Bethel Church Rd","index":4,"n_rows":80,"n_cols":22,"rows_kept":80,"cut":false,"hidden":false,"merged":[[0,1,0,9],[0,12,0,20]]}
[{"$f":"MID(CELL(\"filename\",$A$2),FIND(\"]\",CELL(\"filename\",$A$2))+1,256)","v":"Bethel Church Rd"},"AREAS",null,null,null,null,null,null,null,null,null,null,"VOLUMES"]
["STATION","ROCK ROADBED","REFILL","EMB. BENCH","MILLING","COM","EM","ROCK EXC.","DT LT","DT RT","LEVEL-WEDGE",null,"ROCK ROADBED","REFILL","EMB. BENCH","LVL. WEDGE","COM","EM","ROCK EXC.","DT LT","DT RT","LEVEL-WEDGE"]
["TOTALS",null,null,null,null,null,null,null,null,null,null,null,{"$f":"SUM(M7:M2003)","v":0},{"$f":"SUM(N7:N2003)","v":0},0,0,429,390,0,0,0,0]
[4650,null,null,null,null,0,0]
[4700,null,null,null,null,85,0,null,null,null,null,null,{"$f":"IF((B4+B5)>0,MAX(1,ROUNDUP(($A5-$A4)*((B4+B5)/2)/27,0)),ROUNDUP(($A5-$A4)*((B4+B5)/2)/27,0))","v":0},{"$f":"IF((C4+C5)>0,MAX(1,ROUNDUP(($A5-$A4)*((C4+C5)/2)/27,0)),ROUNDUP(($A5-$A4)*((C4+C5)/2)/27,0))","v":0},{"$f":"IF((D4+D5)>0,MAX(1,ROUNDUP(($A5-$A4)*((D4+D5)/2)/27,0)),ROUNDUP(($A5-$A4)*((D4+D5)/2)/27,0))","v":0},{"$f":"IF((E4+E5)>0,MAX(1,ROUNDUP(($A5-$A4)*((E4+E5)/2)/27,0)),ROUNDUP(($A5-$A4)*((E4+E5)/2)/27,0))","v":0},{"$f":"IF((F4+F5)>0,MAX(1,ROUNDUP(($A5-$A4)*((F4+F5)/2)/27,0)),ROUNDUP(($A5-$A4)*((F4+F5)/2)/27,0))","v":79},{"$f":"IF((G4+G5)>0,MAX(1,ROUNDUP(($A5-$A4)*((G4+G5)/2)/27,0)),ROUNDUP(($A5-$A4)*((G4+G5)/2)/27,0))","v":0},{"$f":"IF((H4+H5)>0,MAX(1,ROUNDUP(($A5-$A4)*((H4+H5)/2)/27,0)),ROUNDUP(($A5-$A4)*((H4+H5)/2)/27,0))","v":0},{"$f":"IF((I4+I5)>0,MAX(1,ROUNDUP(($A5-$A4)*((I4+I5)/2)/27,0)),ROUNDUP(($A5-$A4)*((I4+I5)/2)/27,0))","v":0},{"$f":"IF((J4+J5)>0,MAX(1,ROUNDUP(($A5-$A4)*((J4+J5)/2)/27,0)),ROUNDUP(($A5-$A4)*((J4+J5)/2)/27,0))","v":0},{"$f":"IF((K4+K5)>0,MAX(1,ROUNDUP(($A5-$A4)*((K4+K5)/2)/27,0)),ROUNDUP(($A5-$A4)*((K4+K5)/2)/27,0))","v":0}]
[4750,null,null,null,null,135,0,null,null,null,null,null,{"$f":"IF((B5+B6)>0,MAX(1,ROUNDUP(($A6-$A5)*((B5+B6)/2)/27,0)),ROUNDUP(($A6-$A5)*((B5+B6)/2)/27,0))","v":0},0,0,0,204,0,0,0,0,{"$f":"IF((K5+K6)>0,MAX(1,ROUNDUP(($A6-$A5)*((K5+K6)/2)/27,0)),ROUNDUP(($A6-$A5)*((K5+K6)/2)/27,0))","v":0}]
[4800,null,null,null,null,128,0,null,null,null,null,null,{"$f":"IF((B6+B7)>0,MAX(1,ROUNDUP(($A7-$A6)*((B6+B7)/2)/27,0)),ROUNDUP(($A7-$A6)*((B6+B7)/2)/27,0))","v":0},{"$f":"IF((C6+C7)>0,MAX(1,ROUNDUP(($A7-$A6)*((C6+C7)/2)/27,0)),ROUNDUP(($A7-$A6)*((C6+C7)/2)/27,0))","v":0},0,0,244,0,0,0,0,{"$f":"IF((K6+K7)>0,MAX(1,ROUNDUP(($A7-$A6)*((K6+K7)/2)/27,0)),ROUNDUP(($A7-$A6)*((K6+K7)/2)/27,0))","v":0}]
[4850,null,null,null,null,22,1,null,null,null,null,null,{"$f":"IF((B7+B8)>0,MAX(1,ROUNDUP(($A8-$A7)*((B7+B8)/2)/27,0)),ROUNDUP(($A8-$A7)*((B7+B8)/2)/27,0))","v":0},0,0,0,139,1,0,0,0,0]
[4900,null,null,null,null,13,114,null,null,null,null,null,0,0,0,0,33,107,0,0,0,0]
[4950,null,null,null,null,0,95,null,null,null,null,null,0,0,0,0,13,194,0,0,0,0]
[5000,null,null,null,null,0,0,null,null,null,null,null,0,0,0,0,0,88,0,0,0,0]
[null,null,null,null,null,null,null,null,null,null,null,null,0,0,0,0,0,0,0,0,0,0]
[null,null,null,null,null,null,null,null,null,null,null,null,0,0,0,0,0,0,0,0,0,0]
[null,null,null,null,null,null,null,null,null,null,null,null,0,0,0,0,0,0,0,0,0,0]
[null,null,null,null,null,null,null,null,null,null,null,null,0,0,0,0,0,0,0,0,0,0]
[null,null,null,null,null,null,null,null,null,null,null,null,0,0,0,0,0,0,0,0,0,0]
[null,null,null,null,null,null,null,null,null,null,null,null,0,0,0,0,0,0,0,0,0,0]
[null,null,null,null,null,null,null,null,null,null,null,null,0,0,0,0,0,0,0,0,0,0]
[null,null,null,null,null,null,null,null,null,null,null,null,0,0,0,0,0,0,0,0,0,0]
[null,null,null,null,null,null,null,null,null,null,null,null,0,0,0,0,0,0,0,0,0,0]
[null,null,null,null,null,null,null,null,null,null,null,null,0,0,0,0,0,0,0,0,0,0]
[null,null,null,null,null,null,null,null,null,null,null,null,0,0,0,0,0,0,0,0,0,0]
[null,null,null,null,null,null,null,null,null,null,null,null,0,0,0,0,0,0,0,0,0,0]
[null,null,null,null,null,null,null,null,null,null,null,null,{"$f":"IF((B23+B24)>0,MAX(1,ROUNDUP(($A24-$A23)*((B23+B24)/2)/27,0)),ROUNDUP(($A24-$A23)*((B23+B24)/2)/27,0))","v":0},0,0,0,0,0,0,0,0,0]
[null,null,null,null,null,null,null,null,null,null,null,null,0,0,0,0,0,0,0,0,0,0]
[null,null,null,null,null,null,null,null,null,null,null,null,0,0,0,0,0,0,0,0,0,0]
[null,null,null,null,null,null,null,null,null,null,null,null,0,0,0,0,0,0,0,0,0,0]
[null,null,null,null,null,null,null,null,null,null,null,null,0,0,0,0,0,0,0,0,0,0]
[null,null,null,null,null,null,null,null,null,null,null,null,0,0,0,0,0,0,0,0,0,0]
[null,null,null,null,null,null,null,null,null,null,null,null,0,0,0,0,0,0,0,0,0,0]
[null,null,null,null,null,null,null,null,null,null,null,null,0,0,0,0,0,0,0,0,0,0]
[null,null,null,null,null,null,null,null,null,null,null,null,0,0,0,0,0,0,0,0,0,0]
[null,null,null,null,null,null,null,null,null,null,null,null,0,0,0,0,0,0,0,0,0,0]
[null,null,null,null,null,null,null,null,null,null,null,null,0,0,0,0,0,0,0,0,0,0]
[null,null,null,null,null,null,null,null,null,null,null,null,0,0,0,0,0,0,0,0,0,0]
[null,null,null,null,null,null,null,null,null,null,null,null,0,0,0,0,0,0,0,0,0,0]
[null,null,null,null,null,null,null,null,null,null,null,null,0,0,0,0,0,0,0,0,0,0]
[null,null,null,null,null,null,null,null,null,null,null,null,0,0,0,0,0,0,0,0,0,0]
[null,null,null,null,null,null,null,null,null,null,null,null,0,0,0,0,0,0,0,0,0,0]
[null,null,null,null,null,null,null,null,null,null,null,null,{"$f":"IF((B39+B40)>0,MAX(1,ROUNDUP(($A40-$A39)*((B39+B40)/2)/27,0)),ROUNDUP(($A40-$A39)*((B39+B40)/2)/27,0))","v":0},0,0,0,0,0,0,0,0,0]
[null,null,null,null,null,null,null,null,null,null,null,null,0,0,0,0,0,0,0,0,0,0]
[null,null,null,null,null,null,null,null,null,null,null,null,0,0,0,0,0,0,0,0,0,0]
[null,null,null,null,null,null,null,null,null,null,null,null,0,0,0,0,0,0,0,0,0,0]
[null,null,null,null,null,null,null,null,null,null,null,null,0,0,0,0,0,0,0,0,0,0]
[null,null,null,null,null,null,null,null,null,null,null,null,0,0,0,0,0,0,0,0,0,0]
[null,null,null,null,null,null,null,null,null,null,null,null,0,0,0,0,0,0,0,0,0,0]
[null,null,null,null,null,null,null,null,null,null,null,null,0,0,0,0,0,0,0,0,0,0]
[null,null,null,null,null,null,null,null,null,null,null,null,0,0,0,0,0,0,0,0,0,0]
[null,null,null,null,null,null,null,null,null,null,null,null,0,0,0,0,0,0,0,0,0,0]
[null,null,null,null,null,null,null,null,null,null,null,null,0,0,0,0,0,0,0,0,0,0]
[null,null,null,null,null,null,null,null,null,null,null,null,0,0,0,0,0,0,0,0,0,0]
[null,null,null,null,null,null,null,null,null,null,null,null,0,0,0,0,0,0,0,0,0,0]
[null,null,null,null,null,null,null,null,null,null,null,null,0,0,0,0,0,0,0,0,0,0]
[null,null,null,null,null,null,null,null,null,null,null,null,0,0,0,0,0,0,0,0,0,0]
[null,null,null,null,null,null,null,null,null,null,null,null,0,0,0,0,0,0,0,0,0,0]
[null,null,null,null,null,null,null,null,null,null,null,null,{"$f":"IF((B55+B56)>0,MAX(1,ROUNDUP(($A56-$A55)*((B55+B56)/2)/27,0)),ROUNDUP(($A56-$A55)*((B55+B56)/2)/27,0))","v":0},0,0,0,0,0,0,0,0,0]
[null,null,null,null,null,null,null,null,null,null,null,null,0,0,0,0,0,0,0,0,0,0]
[null,null,null,null,null,null,null,null,null,null,null,null,0,0,0,0,0,0,0,0,0,0]
[null,null,null,null,null,null,null,null,null,null,null,null,0,0,0,0,0,0,0,0,0,0]
[null,null,null,null,null,null,null,null,null,null,null,null,0,0,0,0,0,0,0,0,0,0]
[null,null,null,null,null,null,null,null,null,null,null,null,0,0,0,0,0,0,0,0,0,0]
[null,null,null,null,null,null,null,null,null,null,null,null,0,0,0,0,0,0,0,0,0,0]
[null,null,null,null,null,null,null,null,null,null,null,null,0,0,0,0,0,0,0,0,0,0]
[null,null,null,null,null,null,null,null,null,null,null,null,0,0,0,0,0,0,0,0,0,0]
[null,null,null,null,null,null,null,null,null,null,null,null,0,0,0,0,0,0,0,0,0,0]
[null,null,null,null,null,null,null,null,null,null,null,null,0,0,0,0,0,0,0,0,0,0]
[null,null,null,null,null,null,null,null,null,null,null,null,0,0,0,0,0,0,0,0,0,0]
[null,null,null,null,null,null,null,null,null,null,null,null,0,0,0,0,0,0,0,0,0,0]
[null,null,null,null,null,null,null,null,null,null,null,null,0,0,0,0,0,0,0,0,0,0]
[null,null,null,null,null,null,null,null,null,null,null,null,0,0,0,0,0,0,0,0,0,0]
[null,null,null,null,null,null,null,null,null,null,null,null,0,0,0,0,0,0,0,0,0,0]
[null,null,null,null,null,null,null,null,null,null,null,null,{"$f":"IF((B71+B72)>0,MAX(1,ROUNDUP(($A72-$A71)*((B71+B72)/2)/27,0)),ROUNDUP(($A72-$A71)*((B71+B72)/2)/27,0))","v":0},0,0,0,0,0,0,0,0,0]
[null,null,null,null,null,null,null,null,null,null,null,null,0,0,0,0,0,0,0,0,0,0]
[null,null,null,null,null,null,null,null,null,null,null,null,0,0,0,0,0,0,0,0,0,0]
[null,null,null,null,null,null,null,null,null,null,null,null,0,0,0,0,0,0,0,0,0,0]
[null,null,null,null,null,null,null,null,null,null,null,null,0,0,0,0,0,0,0,0,0,0]
[null,null,null,null,null,null,null,null,null,null,null,null,0,0,0,0,0,0,0,0,0,0]
[null,null,null,null,null,null,null,null,null,null,null,null,0,0,0,0,0,0,0,0,0,0]
[null,null,null,null,null,null,null,null,null,null,null,null,0,0,0,0,0,0,0,0,0,0]
[null,null,null,null,null,null,null,null,null,null,null,null,0,0,0,0,0,0,0,0,0,0]

{"sheet":"Wren Rd","index":5,"n_rows":79,"n_cols":22,"rows_kept":79,"cut":false,"hidden":false,"merged":[[0,1,0,9],[0,12,0,20]]}
[{"$f":"MID(CELL(\"filename\",$A$2),FIND(\"]\",CELL(\"filename\",$A$2))+1,256)","v":"Wren Rd"},"AREAS",null,null,null,null,null,null,null,null,null,null,"VOLUMES"]
["STATION","ROCK ROADBED","REFILL","EMB. BENCH","GRAN. EMB.","COM","EM","ROCK EXC.","DT LT","DT RT","LEVEL-WEDGE",null,"ROCK ROADBED","REFILL","EMB. BENCH","GRAN. EMB.","COM","EM","ROCK EXC.","DT LT","DT RT","LEVEL-WEDGE"]
["TOTALS",null,null,null,null,null,null,null,null,null,null,null,{"$f":"SUM(M6:M2002)","v":0},{"$f":"SUM(N6:N2002)","v":0},0,0,825,113,0,0,0,0]
[4760,null,null,null,null,42,1]
[4800,null,null,null,null,3,30]
[4850,null,null,null,null,8,18,null,null,null,null,null,{"$f":"IF((B5+B6)>0,MAX(1,ROUNDUP(($A6-$A5)*((B5+B6)/2)/27,0)),ROUNDUP(($A6-$A5)*((B5+B6)/2)/27,0))","v":0},{"$f":"IF((C5+C6)>0,MAX(1,ROUNDUP(($A6-$A5)*((C5+C6)/2)/27,0)),ROUNDUP(($A6-$A5)*((C5+C6)/2)/27,0))","v":0},0,0,11,45,0,0,0,{"$f":"IF((K5+K6)>0,MAX(1,ROUNDUP(($A6-$A5)*((K5+K6)/2)/27,0)),ROUNDUP(($A6-$A5)*((K5+K6)/2)/27,0))","v":0}]
[4900,null,null,null,null,11,4,null,null,null,null,null,{"$f":"IF((B6+B7)>0,MAX(1,ROUNDUP(($A7-$A6)*((B6+B7)/2)/27,0)),ROUNDUP(($A7-$A6)*((B6+B7)/2)/27,0))","v":0},0,0,0,18,21,0,0,0,0]
[4950,null,null,null,null,25,21,null,null,null,null,null,0,0,0,0,34,24,0,0,0,0]
[5000,null,null,null,null,0,0,null,null,null,null,null,0,0,0,0,24,20,0,0,0,0]
[5050,null,null,null,null,78,0,null,null,null,null,null,0,0,0,0,73,0,0,0,0,0]
[5100,null,null,null,null,88,0,null,null,null,null,null,0,0,0,0,154,0,0,0,0,0]
[5150,null,null,null,null,71,0,null,null,null,null,null,0,0,0,0,148,0,0,0,0,0]
[5200,null,null,null,null,52,0,null,null,null,null,null,0,0,0,0,114,0,0,0,0,0]
[5250,null,null,null,null,40,7.0000000000000001E-3,null,null,null,null,null,0,0,0,0,86,1,0,0,0,0]
[5300,null,null,null,null,33,3.9E-2,null,null,null,null,null,0,0,0,0,68,1,0,0,0,0]
[5350,null,null,null,null,34,0,null,null,null,null,null,0,0,0,0,63,1,0,0,0,0]
[5400,null,null,null,null,0,0,null,null,null,null,null,0,0,0,0,32,0,0,0,0,0]
[5450,null,null,null,null,0,0,null,null,null,null,null,0,0,0,0,0,0,0,0,0,0]
[5499.56,null,null,null,null,0,0,null,null,null,null,null,0,0,0,0,0,0,0,0,0,0]
[null,null,null,null,null,null,null,null,null,null,null,null,0,0,0,0,0,0,0,0,0,0]
[null,null,null,null,null,null,null,null,null,null,null,null,0,0,0,0,0,0,0,0,0,0]
[null,null,null,null,null,null,null,null,null,null,null,null,0,0,0,0,0,0,0,0,0,0]
[null,null,null,null,null,null,null,null,null,null,null,null,{"$f":"IF((B22+B23)>0,MAX(1,ROUNDUP(($A23-$A22)*((B22+B23)/2)/27,0)),ROUNDUP(($A23-$A22)*((B22+B23)/2)/27,0))","v":0},0,0,0,0,0,0,0,0,0]
[null,null,null,null,null,null,null,null,null,null,null,null,0,0,0,0,0,0,0,0,0,0]
[null,null,null,null,null,null,null,null,null,null,null,null,0,0,0,0,0,0,0,0,0,0]
[null,null,null,null,null,null,null,null,null,null,null,null,0,0,0,0,0,0,0,0,0,0]
[null,null,null,null,null,null,null,null,null,null,null,null,0,0,0,0,0,0,0,0,0,0]
[null,null,null,null,null,null,null,null,null,null,null,null,0,0,0,0,0,0,0,0,0,0]
[null,null,null,null,null,null,null,null,null,null,null,null,0,0,0,0,0,0,0,0,0,0]
[null,null,null,null,null,null,null,null,null,null,null,null,0,0,0,0,0,0,0,0,0,0]
[null,null,null,null,null,null,null,null,null,null,null,null,0,0,0,0,0,0,0,0,0,0]
[null,null,null,null,null,null,null,null,null,null,null,null,0,0,0,0,0,0,0,0,0,0]
[null,null,null,null,null,null,null,null,null,null,null,null,0,0,0,0,0,0,0,0,0,0]
[null,null,null,null,null,null,null,null,null,null,null,null,0,0,0,0,0,0,0,0,0,0]
[null,null,null,null,null,null,null,null,null,null,null,null,0,0,0,0,0,0,0,0,0,0]
[null,null,null,null,null,null,null,null,null,null,null,null,0,0,0,0,0,0,0,0,0,0]
[null,null,null,null,null,null,null,null,null,null,null,null,0,0,0,0,0,0,0,0,0,0]
[null,null,null,null,null,null,null,null,null,null,null,null,0,0,0,0,0,0,0,0,0,0]
[null,null,null,null,null,null,null,null,null,null,null,null,{"$f":"IF((B38+B39)>0,MAX(1,ROUNDUP(($A39-$A38)*((B38+B39)/2)/27,0)),ROUNDUP(($A39-$A38)*((B38+B39)/2)/27,0))","v":0},0,0,0,0,0,0,0,0,0]
[null,null,null,null,null,null,null,null,null,null,null,null,0,0,0,0,0,0,0,0,0,0]
[null,null,null,null,null,null,null,null,null,null,null,null,0,0,0,0,0,0,0,0,0,0]
[null,null,null,null,null,null,null,null,null,null,null,null,0,0,0,0,0,0,0,0,0,0]
[null,null,null,null,null,null,null,null,null,null,null,null,0,0,0,0,0,0,0,0,0,0]
[null,null,null,null,null,null,null,null,null,null,null,null,0,0,0,0,0,0,0,0,0,0]
[null,null,null,null,null,null,null,null,null,null,null,null,0,0,0,0,0,0,0,0,0,0]
[null,null,null,null,null,null,null,null,null,null,null,null,0,0,0,0,0,0,0,0,0,0]
[null,null,null,null,null,null,null,null,null,null,null,null,0,0,0,0,0,0,0,0,0,0]
[null,null,null,null,null,null,null,null,null,null,null,null,0,0,0,0,0,0,0,0,0,0]
[null,null,null,null,null,null,null,null,null,null,null,null,0,0,0,0,0,0,0,0,0,0]
[null,null,null,null,null,null,null,null,null,null,null,null,0,0,0,0,0,0,0,0,0,0]
[null,null,null,null,null,null,null,null,null,null,null,null,0,0,0,0,0,0,0,0,0,0]
[null,null,null,null,null,null,null,null,null,null,null,null,0,0,0,0,0,0,0,0,0,0]
[null,null,null,null,null,null,null,null,null,null,null,null,0,0,0,0,0,0,0,0,0,0]
[null,null,null,null,null,null,null,null,null,null,null,null,0,0,0,0,0,0,0,0,0,0]
[null,null,null,null,null,null,null,null,null,null,null,null,{"$f":"IF((B54+B55)>0,MAX(1,ROUNDUP(($A55-$A54)*((B54+B55)/2)/27,0)),ROUNDUP(($A55-$A54)*((B54+B55)/2)/27,0))","v":0},0,0,0,0,0,0,0,0,0]
[null,null,null,null,null,null,null,null,null,null,null,null,0,0,0,0,0,0,0,0,0,0]
[null,null,null,null,null,null,null,null,null,null,null,null,0,0,0,0,0,0,0,0,0,0]
[null,null,null,null,null,null,null,null,null,null,null,null,0,0,0,0,0,0,0,0,0,0]
[null,null,null,null,null,null,null,null,null,null,null,null,0,0,0,0,0,0,0,0,0,0]
[null,null,null,null,null,null,null,null,null,null,null,null,0,0,0,0,0,0,0,0,0,0]
[null,null,null,null,null,null,null,null,null,null,null,null,0,0,0,0,0,0,0,0,0,0]
[null,null,null,null,null,null,null,null,null,null,null,null,0,0,0,0,0,0,0,0,0,0]
[null,null,null,null,null,null,null,null,null,null,null,null,0,0,0,0,0,0,0,0,0,0]
[null,null,null,null,null,null,null,null,null,null,null,null,0,0,0,0,0,0,0,0,0,0]
[null,null,null,null,null,null,null,null,null,null,null,null,0,0,0,0,0,0,0,0,0,0]
[null,null,null,null,null,null,null,null,null,null,null,null,0,0,0,0,0,0,0,0,0,0]
[null,null,null,null,null,null,null,null,null,null,null,null,0,0,0,0,0,0,0,0,0,0]
[null,null,null,null,null,null,null,null,null,null,null,null,0,0,0,0,0,0,0,0,0,0]
[null,null,null,null,null,null,null,null,null,null,null,null,0,0,0,0,0,0,0,0,0,0]
[null,null,null,null,null,null,null,null,null,null,null,null,0,0,0,0,0,0,0,0,0,0]
[null,null,null,null,null,null,null,null,null,null,null,null,{"$f":"IF((B70+B71)>0,MAX(1,ROUNDUP(($A71-$A70)*((B70+B71)/2)/27,0)),ROUNDUP(($A71-$A70)*((B70+B71)/2)/27,0))","v":0},0,0,0,0,0,0,0,0,0]
[null,null,null,null,null,null,null,null,null,null,null,null,0,0,0,0,0,0,0,0,0,0]
[null,null,null,null,null,null,null,null,null,null,null,null,0,0,0,0,0,0,0,0,0,0]
[null,null,null,null,null,null,null,null,null,null,null,null,0,0,0,0,0,0,0,0,0,0]
[null,null,null,null,null,null,null,null,null,null,null,null,0,0,0,0,0,0,0,0,0,0]
[null,null,null,null,null,null,null,null,null,null,null,null,0,0,0,0,0,0,0,0,0,0]
[null,null,null,null,null,null,null,null,null,null,null,null,0,0,0,0,0,0,0,0,0,0]
[null,null,null,null,null,null,null,null,null,null,null,null,0,0,0,0,0,0,0,0,0,0]
[null,null,null,null,null,null,null,null,null,null,null,null,0,0,0,0,0,0,0,0,0,0]

{"sheet":"Ex US 60 CulDeSac","index":6,"n_rows":79,"n_cols":22,"rows_kept":79,"cut":false,"hidden":false,"merged":[[0,1,0,9],[0,12,0,20]]}
[{"$f":"MID(CELL(\"filename\",$A$2),FIND(\"]\",CELL(\"filename\",$A$2))+1,256)","v":"Ex US 60 CulDeSac"},"AREAS",null,null,null,null,null,null,null,null,null,null,"VOLUMES"]
["STATION","ROCK ROADBED","REFILL","EMB. BENCH","GRAN. EMB.","COM","EM","ROCK EXC.","DT LT","DT RT","LEVEL-WEDGE",null,"ROCK ROADBED","REFILL","EMB. BENCH","GRAN. EMB.","COM","EM","ROCK EXC.","DT LT","DT RT","LEVEL-WEDGE"]
["TOTALS",null,null,null,null,null,null,null,null,null,null,null,{"$f":"SUM(M6:M2002)","v":0},{"$f":"SUM(N6:N2002)","v":0},0,0,234,10,0,0,0,0]
[1850,null,null,null,null,0,0]
[1900,null,null,null,null,30,1,null,null,null,null,null,{"$f":"IF((B4+B5)>0,MAX(1,ROUNDUP(($A5-$A4)*((B4+B5)/2)/27,0)),ROUNDUP(($A5-$A4)*((B4+B5)/2)/27,0))","v":0},{"$f":"IF((C4+C5)>0,MAX(1,ROUNDUP(($A5-$A4)*((C4+C5)/2)/27,0)),ROUNDUP(($A5-$A4)*((C4+C5)/2)/27,0))","v":0},{"$f":"IF((D4+D5)>0,MAX(1,ROUNDUP(($A5-$A4)*((D4+D5)/2)/27,0)),ROUNDUP(($A5-$A4)*((D4+D5)/2)/27,0))","v":0},{"$f":"IF((E4+E5)>0,MAX(1,ROUNDUP(($A5-$A4)*((E4+E5)/2)/27,0)),ROUNDUP(($A5-$A4)*((E4+E5)/2)/27,0))","v":0},{"$f":"IF((F4+F5)>0,MAX(1,ROUNDUP(($A5-$A4)*((F4+F5)/2)/27,0)),ROUNDUP(($A5-$A4)*((F4+F5)/2)/27,0))","v":28},{"$f":"IF((G4+G5)>0,MAX(1,ROUNDUP(($A5-$A4)*((G4+G5)/2)/27,0)),ROUNDUP(($A5-$A4)*((G4+G5)/2)/27,0))","v":1},{"$f":"IF((H4+H5)>0,MAX(1,ROUNDUP(($A5-$A4)*((H4+H5)/2)/27,0)),ROUNDUP(($A5-$A4)*((H4+H5)/2)/27,0))","v":0},{"$f":"IF((I4+I5)>0,MAX(1,ROUNDUP(($A5-$A4)*((I4+I5)/2)/27,0)),ROUNDUP(($A5-$A4)*((I4+I5)/2)/27,0))","v":0},{"$f":"IF((J4+J5)>0,MAX(1,ROUNDUP(($A5-$A4)*((J4+J5)/2)/27,0)),ROUNDUP(($A5-$A4)*((J4+J5)/2)/27,0))","v":0},{"$f":"IF((K4+K5)>0,MAX(1,ROUNDUP(($A5-$A4)*((K4+K5)/2)/27,0)),ROUNDUP(($A5-$A4)*((K4+K5)/2)/27,0))","v":0}]
[1950,null,null,null,null,40,4,null,null,null,null,null,{"$f":"IF((B5+B6)>0,MAX(1,ROUNDUP(($A6-$A5)*((B5+B6)/2)/27,0)),ROUNDUP(($A6-$A5)*((B5+B6)/2)/27,0))","v":0},{"$f":"IF((C5+C6)>0,MAX(1,ROUNDUP(($A6-$A5)*((C5+C6)/2)/27,0)),ROUNDUP(($A6-$A5)*((C5+C6)/2)/27,0))","v":0},0,0,65,5,0,0,0,{"$f":"IF((K5+K6)>0,MAX(1,ROUNDUP(($A6-$A5)*((K5+K6)/2)/27,0)),ROUNDUP(($A6-$A5)*((K5+K6)/2)/27,0))","v":0}]
[2000,null,null,null,null,56,0.25900000000000001,null,null,null,null,null,{"$f":"IF((B6+B7)>0,MAX(1,ROUNDUP(($A7-$A6)*((B6+B7)/2)/27,0)),ROUNDUP(($A7-$A6)*((B6+B7)/2)/27,0))","v":0},0,0,0,89,4,0,0,0,0]
[2050,null,null,null,null,20,0,null,null,null,null,null,0,0,0,0,71,1,0,0,0,0]
[2072.21,null,null,null,null,0,0,null,null,null,null,null,0,0,0,0,9,0,0,0,0,0]
[null,null,null,null,null,null,null,null,null,null,null,null,0,0,0,0,0,0,0,0,0,0]
[null,null,null,null,null,null,null,null,null,null,null,null,0,0,0,0,0,0,0,0,0,0]
[null,null,null,null,null,null,null,null,null,null,null,null,0,0,0,0,0,0,0,0,0,0]
[null,null,null,null,null,null,null,null,null,null,null,null,0,0,0,0,0,0,0,0,0,0]
[null,null,null,null,null,null,null,null,null,null,null,null,0,0,0,0,0,0,0,0,0,0]
[null,null,null,null,null,null,null,null,null,null,null,null,0,0,0,0,0,0,0,0,0,0]
[null,null,null,null,null,null,null,null,null,null,null,null,0,0,0,0,0,0,0,0,0,0]
[null,null,null,null,null,null,null,null,null,null,null,null,0,0,0,0,0,0,0,0,0,0]
[null,null,null,null,null,null,null,null,null,null,null,null,0,0,0,0,0,0,0,0,0,0]
[null,null,null,null,null,null,null,null,null,null,null,null,0,0,0,0,0,0,0,0,0,0]
[null,null,null,null,null,null,null,null,null,null,null,null,0,0,0,0,0,0,0,0,0,0]
[null,null,null,null,null,null,null,null,null,null,null,null,0,0,0,0,0,0,0,0,0,0]
[null,null,null,null,null,null,null,null,null,null,null,null,0,0,0,0,0,0,0,0,0,0]
[null,null,null,null,null,null,null,null,null,null,null,null,{"$f":"IF((B22+B23)>0,MAX(1,ROUNDUP(($A23-$A22)*((B22+B23)/2)/27,0)),ROUNDUP(($A23-$A22)*((B22+B23)/2)/27,0))","v":0},0,0,0,0,0,0,0,0,0]
[null,null,null,null,null,null,null,null,null,null,null,null,0,0,0,0,0,0,0,0,0,0]
[null,null,null,null,null,null,null,null,null,null,null,null,0,0,0,0,0,0,0,0,0,0]
[null,null,null,null,null,null,null,null,null,null,null,null,0,0,0,0,0,0,0,0,0,0]
[null,null,null,null,null,null,null,null,null,null,null,null,0,0,0,0,0,0,0,0,0,0]
[null,null,null,null,null,null,null,null,null,null,null,null,0,0,0,0,0,0,0,0,0,0]
[null,null,null,null,null,null,null,null,null,null,null,null,0,0,0,0,0,0,0,0,0,0]
[null,null,null,null,null,null,null,null,null,null,null,null,0,0,0,0,0,0,0,0,0,0]
[null,null,null,null,null,null,null,null,null,null,null,null,0,0,0,0,0,0,0,0,0,0]
[null,null,null,null,null,null,null,null,null,null,null,null,0,0,0,0,0,0,0,0,0,0]
[null,null,null,null,null,null,null,null,null,null,null,null,0,0,0,0,0,0,0,0,0,0]
[null,null,null,null,null,null,null,null,null,null,null,null,0,0,0,0,0,0,0,0,0,0]
[null,null,null,null,null,null,null,null,null,null,null,null,0,0,0,0,0,0,0,0,0,0]
[null,null,null,null,null,null,null,null,null,null,null,null,0,0,0,0,0,0,0,0,0,0]
[null,null,null,null,null,null,null,null,null,null,null,null,0,0,0,0,0,0,0,0,0,0]
[null,null,null,null,null,null,null,null,null,null,null,null,0,0,0,0,0,0,0,0,0,0]
[null,null,null,null,null,null,null,null,null,null,null,null,{"$f":"IF((B38+B39)>0,MAX(1,ROUNDUP(($A39-$A38)*((B38+B39)/2)/27,0)),ROUNDUP(($A39-$A38)*((B38+B39)/2)/27,0))","v":0},0,0,0,0,0,0,0,0,0]
[null,null,null,null,null,null,null,null,null,null,null,null,0,0,0,0,0,0,0,0,0,0]
[null,null,null,null,null,null,null,null,null,null,null,null,0,0,0,0,0,0,0,0,0,0]
[null,null,null,null,null,null,null,null,null,null,null,null,0,0,0,0,0,0,0,0,0,0]
[null,null,null,null,null,null,null,null,null,null,null,null,0,0,0,0,0,0,0,0,0,0]
[null,null,null,null,null,null,null,null,null,null,null,null,0,0,0,0,0,0,0,0,0,0]
[null,null,null,null,null,null,null,null,null,null,null,null,0,0,0,0,0,0,0,0,0,0]
[null,null,null,null,null,null,null,null,null,null,null,null,0,0,0,0,0,0,0,0,0,0]
[null,null,null,null,null,null,null,null,null,null,null,null,0,0,0,0,0,0,0,0,0,0]
[null,null,null,null,null,null,null,null,null,null,null,null,0,0,0,0,0,0,0,0,0,0]
[null,null,null,null,null,null,null,null,null,null,null,null,0,0,0,0,0,0,0,0,0,0]
[null,null,null,null,null,null,null,null,null,null,null,null,0,0,0,0,0,0,0,0,0,0]
[null,null,null,null,null,null,null,null,null,null,null,null,0,0,0,0,0,0,0,0,0,0]
[null,null,null,null,null,null,null,null,null,null,null,null,0,0,0,0,0,0,0,0,0,0]
[null,null,null,null,null,null,null,null,null,null,null,null,0,0,0,0,0,0,0,0,0,0]
[null,null,null,null,null,null,null,null,null,null,null,null,0,0,0,0,0,0,0,0,0,0]
[null,null,null,null,null,null,null,null,null,null,null,null,{"$f":"IF((B54+B55)>0,MAX(1,ROUNDUP(($A55-$A54)*((B54+B55)/2)/27,0)),ROUNDUP(($A55-$A54)*((B54+B55)/2)/27,0))","v":0},0,0,0,0,0,0,0,0,0]
[null,null,null,null,null,null,null,null,null,null,null,null,0,0,0,0,0,0,0,0,0,0]
[null,null,null,null,null,null,null,null,null,null,null,null,0,0,0,0,0,0,0,0,0,0]
[null,null,null,null,null,null,null,null,null,null,null,null,0,0,0,0,0,0,0,0,0,0]
[null,null,null,null,null,null,null,null,null,null,null,null,0,0,0,0,0,0,0,0,0,0]
[null,null,null,null,null,null,null,null,null,null,null,null,0,0,0,0,0,0,0,0,0,0]
[null,null,null,null,null,null,null,null,null,null,null,null,0,0,0,0,0,0,0,0,0,0]
[null,null,null,null,null,null,null,null,null,null,null,null,0,0,0,0,0,0,0,0,0,0]
[null,null,null,null,null,null,null,null,null,null,null,null,0,0,0,0,0,0,0,0,0,0]
[null,null,null,null,null,null,null,null,null,null,null,null,0,0,0,0,0,0,0,0,0,0]
[null,null,null,null,null,null,null,null,null,null,null,null,0,0,0,0,0,0,0,0,0,0]
[null,null,null,null,null,null,null,null,null,null,null,null,0,0,0,0,0,0,0,0,0,0]
[null,null,null,null,null,null,null,null,null,null,null,null,0,0,0,0,0,0,0,0,0,0]
[null,null,null,null,null,null,null,null,null,null,null,null,0,0,0,0,0,0,0,0,0,0]
[null,null,null,null,null,null,null,null,null,null,null,null,0,0,0,0,0,0,0,0,0,0]
[null,null,null,null,null,null,null,null,null,null,null,null,0,0,0,0,0,0,0,0,0,0]
[null,null,null,null,null,null,null,null,null,null,null,null,{"$f":"IF((B70+B71)>0,MAX(1,ROUNDUP(($A71-$A70)*((B70+B71)/2)/27,0)),ROUNDUP(($A71-$A70)*((B70+B71)/2)/27,0))","v":0},0,0,0,0,0,0,0,0,0]
[null,null,null,null,null,null,null,null,null,null,null,null,0,0,0,0,0,0,0,0,0,0]
[null,null,null,null,null,null,null,null,null,null,null,null,0,0,0,0,0,0,0,0,0,0]
[null,null,null,null,null,null,null,null,null,null,null,null,0,0,0,0,0,0,0,0,0,0]
[null,null,null,null,null,null,null,null,null,null,null,null,0,0,0,0,0,0,0,0,0,0]
[null,null,null,null,null,null,null,null,null,null,null,null,0,0,0,0,0,0,0,0,0,0]
[null,null,null,null,null,null,null,null,null,null,null,null,0,0,0,0,0,0,0,0,0,0]
[null,null,null,null,null,null,null,null,null,null,null,null,0,0,0,0,0,0,0,0,0,0]
[null,null,null,null,null,null,null,null,null,null,null,null,0,0,0,0,0,0,0,0,0,0]

{"sheet":"Rice Spring Rd","index":7,"n_rows":79,"n_cols":22,"rows_kept":79,"cut":false,"hidden":false,"merged":[[0,1,0,9],[0,12,0,20]]}
[{"$f":"MID(CELL(\"filename\",$A$2),FIND(\"]\",CELL(\"filename\",$A$2))+1,256)","v":"Rice Spring Rd"},"AREAS",null,null,null,null,null,null,null,null,null,null,"VOLUMES"]
["STATION","ROCK ROADBED","REFILL","EMB. BENCH","GRAN. EMB.","COM","EM","ROCK EXC.","DT LT","DT RT","LEVEL-WEDGE",null,"ROCK ROADBED","REFILL","EMB. BENCH","GRAN. EMB.","COM","EM","ROCK EXC.","DT LT","DT RT","LEVEL-WEDGE"]
["TOTALS",null,null,null,null,null,null,null,null,null,null,null,{"$f":"SUM(M6:M2002)","v":0},{"$f":"SUM(N6:N2002)","v":0},0,0,{"$f":"SUM(Q5:Q2002)","v":298},{"$f":"SUM(R5:R2002)","v":513},0,0,0,0]
[4600,null,null,null,null,0,0]
[4650,null,null,null,null,46,0,null,null,null,null,null,{"$f":"IF((B4+B5)>0,MAX(1,ROUNDUP(($A5-$A4)*((B4+B5)/2)/27,0)),ROUNDUP(($A5-$A4)*((B4+B5)/2)/27,0))","v":0},{"$f":"IF((C4+C5)>0,MAX(1,ROUNDUP(($A5-$A4)*((C4+C5)/2)/27,0)),ROUNDUP(($A5-$A4)*((C4+C5)/2)/27,0))","v":0},{"$f":"IF((D4+D5)>0,MAX(1,ROUNDUP(($A5-$A4)*((D4+D5)/2)/27,0)),ROUNDUP(($A5-$A4)*((D4+D5)/2)/27,0))","v":0},{"$f":"IF((E4+E5)>0,MAX(1,ROUNDUP(($A5-$A4)*((E4+E5)/2)/27,0)),ROUNDUP(($A5-$A4)*((E4+E5)/2)/27,0))","v":0},{"$f":"IF((F4+F5)>0,MAX(1,ROUNDUP(($A5-$A4)*((F4+F5)/2)/27,0)),ROUNDUP(($A5-$A4)*((F4+F5)/2)/27,0))","v":43},{"$f":"IF((G4+G5)>0,MAX(1,ROUNDUP(($A5-$A4)*((G4+G5)/2)/27,0)),ROUNDUP(($A5-$A4)*((G4+G5)/2)/27,0))","v":0},{"$f":"IF((H4+H5)>0,MAX(1,ROUNDUP(($A5-$A4)*((H4+H5)/2)/27,0)),ROUNDUP(($A5-$A4)*((H4+H5)/2)/27,0))","v":0},{"$f":"IF((I4+I5)>0,MAX(1,ROUNDUP(($A5-$A4)*((I4+I5)/2)/27,0)),ROUNDUP(($A5-$A4)*((I4+I5)/2)/27,0))","v":0},{"$f":"IF((J4+J5)>0,MAX(1,ROUNDUP(($A5-$A4)*((J4+J5)/2)/27,0)),ROUNDUP(($A5-$A4)*((J4+J5)/2)/27,0))","v":0},{"$f":"IF((K4+K5)>0,MAX(1,ROUNDUP(($A5-$A4)*((K4+K5)/2)/27,0)),ROUNDUP(($A5-$A4)*((K4+K5)/2)/27,0))","v":0}]
[4700,null,null,null,null,43,0,null,null,null,null,null,{"$f":"IF((B5+B6)>0,MAX(1,ROUNDUP(($A6-$A5)*((B5+B6)/2)/27,0)),ROUNDUP(($A6-$A5)*((B5+B6)/2)/27,0))","v":0},{"$f":"IF((C5+C6)>0,MAX(1,ROUNDUP(($A6-$A5)*((C5+C6)/2)/27,0)),ROUNDUP(($A6-$A5)*((C5+C6)/2)/27,0))","v":0},{"$f":"IF((D5+D6)>0,MAX(1,ROUNDUP(($A6-$A5)*((D5+D6)/2)/27,0)),ROUNDUP(($A6-$A5)*((D5+D6)/2)/27,0))","v":0},{"$f":"IF((E5+E6)>0,MAX(1,ROUNDUP(($A6-$A5)*((E5+E6)/2)/27,0)),ROUNDUP(($A6-$A5)*((E5+E6)/2)/27,0))","v":0},{"$f":"IF((F5+F6)>0,MAX(1,ROUNDUP(($A6-$A5)*((F5+F6)/2)/27,0)),ROUNDUP(($A6-$A5)*((F5+F6)/2)/27,0))","v":83},{"$f":"IF((G5+G6)>0,MAX(1,ROUNDUP(($A6-$A5)*((G5+G6)/2)/27,0)),ROUNDUP(($A6-$A5)*((G5+G6)/2)/27,0))","v":0},{"$f":"IF((H5+H6)>0,MAX(1,ROUNDUP(($A6-$A5)*((H5+H6)/2)/27,0)),ROUNDUP(($A6-$A5)*((H5+H6)/2)/27,0))","v":0},{"$f":"IF((I5+I6)>0,MAX(1,ROUNDUP(($A6-$A5)*((I5+I6)/2)/27,0)),ROUNDUP(($A6-$A5)*((I5+I6)/2)/27,0))","v":0},{"$f":"IF((J5+J6)>0,MAX(1,ROUNDUP(($A6-$A5)*((J5+J6)/2)/27,0)),ROUNDUP(($A6-$A5)*((J5+J6)/2)/27,0))","v":0},{"$f":"IF((K5+K6)>0,MAX(1,ROUNDUP(($A6-$A5)*((K5+K6)/2)/27,0)),ROUNDUP(($A6-$A5)*((K5+K6)/2)/27,0))","v":0}]
[4750,null,null,null,null,19,3,null,null,null,null,null,0,0,0,0,58,3,0,0,0,0]
[4800,null,null,null,null,11,14,null,null,null,null,null,0,0,0,0,28,16,0,0,0,0]
[4850,null,null,null,null,23,27,null,null,null,null,null,0,0,0,0,32,38,0,0,0,0]
[4900,null,null,null,null,17,92,null,null,null,null,null,0,0,0,0,38,111,0,0,0,0]
[4950,null,null,null,null,0,140,null,null,null,null,null,0,0,0,0,16,215,0,0,0,0]
[5000,null,null,null,null,0,0,null,null,null,null,null,0,0,0,0,0,130,0,0,0,0]
[null,null,null,null,null,null,null,null,null,null,null,null,0,0,0,0,0,0,0,0,0,0]
[null,null,null,null,null,null,null,null,null,null,null,null,0,0,0,0,0,0,0,0,0,0]
[null,null,null,null,null,null,null,null,null,null,null,null,0,0,0,0,0,0,0,0,0,0]
[null,null,null,null,null,null,null,null,null,null,null,null,0,0,0,0,0,0,0,0,0,0]
[null,null,null,null,null,null,null,null,null,null,null,null,{"$f":"IF((B16+B17)>0,MAX(1,ROUNDUP(($A17-$A16)*((B16+B17)/2)/27,0)),ROUNDUP(($A17-$A16)*((B16+B17)/2)/27,0))","v":0},{"$f":"IF((C16+C17)>0,MAX(1,ROUNDUP(($A17-$A16)*((C16+C17)/2)/27,0)),ROUNDUP(($A17-$A16)*((C16+C17)/2)/27,0))","v":0},0,0,0,0,0,0,0,0]
[null,null,null,null,null,null,null,null,null,null,null,null,0,0,0,0,0,0,0,0,0,0]
[null,null,null,null,null,null,null,null,null,null,null,null,0,0,0,0,0,0,0,0,0,0]
[null,null,null,null,null,null,null,null,null,null,null,null,{"$f":"IF((B19+B20)>0,MAX(1,ROUNDUP(($A20-$A19)*((B19+B20)/2)/27,0)),ROUNDUP(($A20-$A19)*((B19+B20)/2)/27,0))","v":0},0,0,0,0,0,0,0,0,0]
[null,null,null,null,null,null,null,null,null,null,null,null,0,0,0,0,0,0,0,0,0,0]
[null,null,null,null,null,null,null,null,null,null,null,null,0,0,0,0,0,0,0,0,0,0]
[null,null,null,null,null,null,null,null,null,null,null,null,0,0,0,0,0,0,0,0,0,0]
[null,null,null,null,null,null,null,null,null,null,null,null,0,0,0,0,0,0,0,0,0,0]
[null,null,null,null,null,null,null,null,null,null,null,null,0,0,0,0,0,0,0,0,0,0]
[null,null,null,null,null,null,null,null,null,null,null,null,{"$f":"IF((B25+B26)>0,MAX(1,ROUNDUP(($A26-$A25)*((B25+B26)/2)/27,0)),ROUNDUP(($A26-$A25)*((B25+B26)/2)/27,0))","v":0},0,0,0,0,0,0,0,0,0]
[null,null,null,null,null,null,null,null,null,null,null,null,0,0,0,0,0,0,0,0,0,0]
[null,null,null,null,null,null,null,null,null,null,null,null,0,0,0,0,0,0,0,0,0,0]
[null,null,null,null,null,null,null,null,null,null,null,null,0,0,0,0,0,0,0,0,0,0]
[null,null,null,null,null,null,null,null,null,null,null,null,0,0,0,0,0,0,0,0,0,0]
[null,null,null,null,null,null,null,null,null,null,null,null,0,0,0,0,0,0,0,0,0,0]
[null,null,null,null,null,null,null,null,null,null,null,null,0,0,0,0,0,0,0,0,0,0]
[null,null,null,null,null,null,null,null,null,null,null,null,0,0,0,0,0,0,0,0,0,0]
[null,null,null,null,null,null,null,null,null,null,null,null,0,0,0,0,0,0,0,0,0,0]
[null,null,null,null,null,null,null,null,null,null,null,null,0,0,0,0,0,0,0,0,0,0]
[null,null,null,null,null,null,null,null,null,null,null,null,0,0,0,0,0,0,0,0,0,0]
[null,null,null,null,null,null,null,null,null,null,null,null,0,0,0,0,0,0,0,0,0,0]
[null,null,null,null,null,null,null,null,null,null,null,null,0,0,0,0,0,0,0,0,0,0]
[null,null,null,null,null,null,null,null,null,null,null,null,{"$f":"IF((B38+B39)>0,MAX(1,ROUNDUP(($A39-$A38)*((B38+B39)/2)/27,0)),ROUNDUP(($A39-$A38)*((B38+B39)/2)/27,0))","v":0},0,0,0,0,0,0,0,0,0]
[null,null,null,null,null,null,null,null,null,null,null,null,0,0,0,0,0,0,0,0,0,0]
[null,null,null,null,null,null,null,null,null,null,null,null,0,0,0,0,0,0,0,0,0,0]
[null,null,null,null,null,null,null,null,null,null,null,null,0,0,0,0,0,0,0,0,0,0]
[null,null,null,null,null,null,null,null,null,null,null,null,0,0,0,0,0,0,0,0,0,0]
[null,null,null,null,null,null,null,null,null,null,null,null,0,0,0,0,0,0,0,0,0,0]
[null,null,null,null,null,null,null,null,null,null,null,null,0,0,0,0,0,0,0,0,0,0]
[null,null,null,null,null,null,null,null,null,null,null,null,0,0,0,0,0,0,0,0,0,0]
[null,null,null,null,null,null,null,null,null,null,null,null,0,0,0,0,0,0,0,0,0,0]
[null,null,null,null,null,null,null,null,null,null,null,null,0,0,0,0,0,0,0,0,0,0]
[null,null,null,null,null,null,null,null,null,null,null,null,0,0,0,0,0,0,0,0,0,0]
[null,null,null,null,null,null,null,null,null,null,null,null,0,0,0,0,0,0,0,0,0,0]
[null,null,null,null,null,null,null,null,null,null,null,null,0,0,0,0,0,0,0,0,0,0]
[null,null,null,null,null,null,null,null,null,null,null,null,0,0,0,0,0,0,0,0,0,0]
[null,null,null,null,null,null,null,null,null,null,null,null,0,0,0,0,0,0,0,0,0,0]
[null,null,null,null,null,null,null,null,null,null,null,null,0,0,0,0,0,0,0,0,0,0]
[null,null,null,null,null,null,null,null,null,null,null,null,{"$f":"IF((B54+B55)>0,MAX(1,ROUNDUP(($A55-$A54)*((B54+B55)/2)/27,0)),ROUNDUP(($A55-$A54)*((B54+B55)/2)/27,0))","v":0},0,0,0,0,0,0,0,0,0]
[null,null,null,null,null,null,null,null,null,null,null,null,0,0,0,0,0,0,0,0,0,0]
[null,null,null,null,null,null,null,null,null,null,null,null,0,0,0,0,0,0,0,0,0,0]
[null,null,null,null,null,null,null,null,null,null,null,null,0,0,0,0,0,0,0,0,0,0]
[null,null,null,null,null,null,null,null,null,null,null,null,0,0,0,0,0,0,0,0,0,0]
[null,null,null,null,null,null,null,null,null,null,null,null,0,0,0,0,0,0,0,0,0,0]
[null,null,null,null,null,null,null,null,null,null,null,null,0,0,0,0,0,0,0,0,0,0]
[null,null,null,null,null,null,null,null,null,null,null,null,0,0,0,0,0,0,0,0,0,0]
[null,null,null,null,null,null,null,null,null,null,null,null,0,0,0,0,0,0,0,0,0,0]
[null,null,null,null,null,null,null,null,null,null,null,null,0,0,0,0,0,0,0,0,0,0]
[null,null,null,null,null,null,null,null,null,null,null,null,0,0,0,0,0,0,0,0,0,0]
[null,null,null,null,null,null,null,null,null,null,null,null,0,0,0,0,0,0,0,0,0,0]
[null,null,null,null,null,null,null,null,null,null,null,null,0,0,0,0,0,0,0,0,0,0]
[null,null,null,null,null,null,null,null,null,null,null,null,0,0,0,0,0,0,0,0,0,0]
[null,null,null,null,null,null,null,null,null,null,null,null,0,0,0,0,0,0,0,0,0,0]
[null,null,null,null,null,null,null,null,null,null,null,null,0,0,0,0,0,0,0,0,0,0]
[null,null,null,null,null,null,null,null,null,null,null,null,{"$f":"IF((B70+B71)>0,MAX(1,ROUNDUP(($A71-$A70)*((B70+B71)/2)/27,0)),ROUNDUP(($A71-$A70)*((B70+B71)/2)/27,0))","v":0},0,0,0,0,0,0,0,0,0]
[null,null,null,null,null,null,null,null,null,null,null,null,0,0,0,0,0,0,0,0,0,0]
[null,null,null,null,null,null,null,null,null,null,null,null,0,0,0,0,0,0,0,0,0,0]
[null,null,null,null,null,null,null,null,null,null,null,null,0,0,0,0,0,0,0,0,0,0]
[null,null,null,null,null,null,null,null,null,null,null,null,0,0,0,0,0,0,0,0,0,0]
[null,null,null,null,null,null,null,null,null,null,null,null,0,0,0,0,0,0,0,0,0,0]
[null,null,null,null,null,null,null,null,null,null,null,null,0,0,0,0,0,0,0,0,0,0]
[null,null,null,null,null,null,null,null,null,null,null,null,0,0,0,0,0,0,0,0,0,0]
[null,null,null,null,null,null,null,null,null,null,null,null,0,0,0,0,0,0,0,0,0,0]

{"sheet":"Frontage Rd#1","index":8,"n_rows":79,"n_cols":22,"rows_kept":79,"cut":false,"hidden":false,"merged":[[0,1,0,9],[0,12,0,20]]}
[{"$f":"MID(CELL(\"filename\",$A$2),FIND(\"]\",CELL(\"filename\",$A$2))+1,256)","v":"Frontage Rd#1"},"AREAS",null,null,null,null,null,null,null,null,null,null,"VOLUMES"]
["STATION","ROCK ROADBED","REFILL","EMB. BENCH","GRAN. EMB.","COM","EM","ROCK EXC.","DT LT","DT RT","LEVEL-WEDGE",null,"ROCK ROADBED","REFILL","EMB. BENCH","GRAN. EMB.","COM","EM","ROCK EXC.","DT LT","DT RT","LEVEL-WEDGE"]
["TOTALS",null,null,null,null,null,null,null,null,null,null,null,{"$f":"SUM(M6:M2002)","v":0},{"$f":"SUM(N6:N2002)","v":0},0,0,{"$f":"SUM(Q5:Q2002)","v":200},{"$f":"SUM(R5:R2002)","v":460},0,0,0,0]
[5000,null,null,null,null,0,0]
[5050,null,null,null,null,0,247,null,null,null,null,null,{"$f":"IF((B4+B5)>0,MAX(1,ROUNDUP(($A5-$A4)*((B4+B5)/2)/27,0)),ROUNDUP(($A5-$A4)*((B4+B5)/2)/27,0))","v":0},{"$f":"IF((C4+C5)>0,MAX(1,ROUNDUP(($A5-$A4)*((C4+C5)/2)/27,0)),ROUNDUP(($A5-$A4)*((C4+C5)/2)/27,0))","v":0},{"$f":"IF((D4+D5)>0,MAX(1,ROUNDUP(($A5-$A4)*((D4+D5)/2)/27,0)),ROUNDUP(($A5-$A4)*((D4+D5)/2)/27,0))","v":0},{"$f":"IF((E4+E5)>0,MAX(1,ROUNDUP(($A5-$A4)*((E4+E5)/2)/27,0)),ROUNDUP(($A5-$A4)*((E4+E5)/2)/27,0))","v":0},{"$f":"IF((F4+F5)>0,MAX(1,ROUNDUP(($A5-$A4)*((F4+F5)/2)/27,0)),ROUNDUP(($A5-$A4)*((F4+F5)/2)/27,0))","v":0},{"$f":"IF((G4+G5)>0,MAX(1,ROUNDUP(($A5-$A4)*((G4+G5)/2)/27,0)),ROUNDUP(($A5-$A4)*((G4+G5)/2)/27,0))","v":229},{"$f":"IF((H4+H5)>0,MAX(1,ROUNDUP(($A5-$A4)*((H4+H5)/2)/27,0)),ROUNDUP(($A5-$A4)*((H4+H5)/2)/27,0))","v":0},{"$f":"IF((I4+I5)>0,MAX(1,ROUNDUP(($A5-$A4)*((I4+I5)/2)/27,0)),ROUNDUP(($A5-$A4)*((I4+I5)/2)/27,0))","v":0},{"$f":"IF((J4+J5)>0,MAX(1,ROUNDUP(($A5-$A4)*((J4+J5)/2)/27,0)),ROUNDUP(($A5-$A4)*((J4+J5)/2)/27,0))","v":0},{"$f":"IF((K4+K5)>0,MAX(1,ROUNDUP(($A5-$A4)*((K4+K5)/2)/27,0)),ROUNDUP(($A5-$A4)*((K4+K5)/2)/27,0))","v":0}]
[5100,null,null,null,null,53,1,null,null,null,null,null,{"$f":"IF((B5+B6)>0,MAX(1,ROUNDUP(($A6-$A5)*((B5+B6)/2)/27,0)),ROUNDUP(($A6-$A5)*((B5+B6)/2)/27,0))","v":0},{"$f":"IF((C5+C6)>0,MAX(1,ROUNDUP(($A6-$A5)*((C5+C6)/2)/27,0)),ROUNDUP(($A6-$A5)*((C5+C6)/2)/27,0))","v":0},0,0,50,230,0,0,0,{"$f":"IF((K5+K6)>0,MAX(1,ROUNDUP(($A6-$A5)*((K5+K6)/2)/27,0)),ROUNDUP(($A6-$A5)*((K5+K6)/2)/27,0))","v":0}]
[5150,null,null,null,null,54,0,null,null,null,null,null,{"$f":"IF((B6+B7)>0,MAX(1,ROUNDUP(($A7-$A6)*((B6+B7)/2)/27,0)),ROUNDUP(($A7-$A6)*((B6+B7)/2)/27,0))","v":0},0,0,0,100,1,0,0,0,0]
[5200,null,null,null,null,0,0,null,null,null,null,null,0,0,0,0,50,0,0,0,0,0]
[null,null,null,null,null,null,null,null,null,null,null,null,0,0,0,0,0,0,0,0,0,0]
[null,null,null,null,null,null,null,null,null,null,null,null,0,0,0,0,0,0,0,0,0,0]
[null,null,null,null,null,null,null,null,null,null,null,null,0,0,0,0,0,0,0,0,0,0]
[null,null,null,null,null,null,null,null,null,null,null,null,0,0,0,0,0,0,0,0,0,0]
[null,null,null,null,null,null,null,null,null,null,null,null,0,0,0,0,0,0,0,0,0,0]
[null,null,null,null,null,null,null,null,null,null,null,null,0,0,0,0,0,0,0,0,0,0]
[null,null,null,null,null,null,null,null,null,null,null,null,0,0,0,0,0,0,0,0,0,0]
[null,null,null,null,null,null,null,null,null,null,null,null,0,0,0,0,0,0,0,0,0,0]
[null,null,null,null,null,null,null,null,null,null,null,null,0,0,0,0,0,0,0,0,0,0]
[null,null,null,null,null,null,null,null,null,null,null,null,0,0,0,0,0,0,0,0,0,0]
[null,null,null,null,null,null,null,null,null,null,null,null,0,0,0,0,0,0,0,0,0,0]
[null,null,null,null,null,null,null,null,null,null,null,null,0,0,0,0,0,0,0,0,0,0]
[null,null,null,null,null,null,null,null,null,null,null,null,0,0,0,0,0,0,0,0,0,0]
[null,null,null,null,null,null,null,null,null,null,null,null,0,0,0,0,0,0,0,0,0,0]
[null,null,null,null,null,null,null,null,null,null,null,null,{"$f":"IF((B22+B23)>0,MAX(1,ROUNDUP(($A23-$A22)*((B22+B23)/2)/27,0)),ROUNDUP(($A23-$A22)*((B22+B23)/2)/27,0))","v":0},0,0,0,0,0,0,0,0,0]
[null,null,null,null,null,null,null,null,null,null,null,null,0,0,0,0,0,0,0,0,0,0]
[null,null,null,null,null,null,null,null,null,null,null,null,0,0,0,0,0,0,0,0,0,0]
[null,null,null,null,null,null,null,null,null,null,null,null,0,0,0,0,0,0,0,0,0,0]
[null,null,null,null,null,null,null,null,null,null,null,null,0,0,0,0,0,0,0,0,0,0]
[null,null,null,null,null,null,null,null,null,null,null,null,0,0,0,0,0,0,0,0,0,0]
[null,null,null,null,null,null,null,null,null,null,null,null,0,0,0,0,0,0,0,0,0,0]
[null,null,null,null,null,null,null,null,null,null,null,null,0,0,0,0,0,0,0,0,0,0]
[null,null,null,null,null,null,null,null,null,null,null,null,0,0,0,0,0,0,0,0,0,0]
[null,null,null,null,null,null,null,null,null,null,null,null,0,0,0,0,0,0,0,0,0,0]
[null,null,null,null,null,null,null,null,null,null,null,null,0,0,0,0,0,0,0,0,0,0]
[null,null,null,null,null,null,null,null,null,null,null,null,0,0,0,0,0,0,0,0,0,0]
[null,null,null,null,null,null,null,null,null,null,null,null,0,0,0,0,0,0,0,0,0,0]
[null,null,null,null,null,null,null,null,null,null,null,null,0,0,0,0,0,0,0,0,0,0]
[null,null,null,null,null,null,null,null,null,null,null,null,0,0,0,0,0,0,0,0,0,0]
[null,null,null,null,null,null,null,null,null,null,null,null,0,0,0,0,0,0,0,0,0,0]
[null,null,null,null,null,null,null,null,null,null,null,null,{"$f":"IF((B38+B39)>0,MAX(1,ROUNDUP(($A39-$A38)*((B38+B39)/2)/27,0)),ROUNDUP(($A39-$A38)*((B38+B39)/2)/27,0))","v":0},0,0,0,0,0,0,0,0,0]
[null,null,null,null,null,null,null,null,null,null,null,null,0,0,0,0,0,0,0,0,0,0]
[null,null,null,null,null,null,null,null,null,null,null,null,0,0,0,0,0,0,0,0,0,0]
[null,null,null,null,null,null,null,null,null,null,null,null,0,0,0,0,0,0,0,0,0,0]
[null,null,null,null,null,null,null,null,null,null,null,null,0,0,0,0,0,0,0,0,0,0]
[null,null,null,null,null,null,null,null,null,null,null,null,0,0,0,0,0,0,0,0,0,0]
[null,null,null,null,null,null,null,null,null,null,null,null,0,0,0,0,0,0,0,0,0,0]
[null,null,null,null,null,null,null,null,null,null,null,null,0,0,0,0,0,0,0,0,0,0]
[null,null,null,null,null,null,null,null,null,null,null,null,0,0,0,0,0,0,0,0,0,0]
[null,null,null,null,null,null,null,null,null,null,null,null,0,0,0,0,0,0,0,0,0,0]
[null,null,null,null,null,null,null,null,null,null,null,null,0,0,0,0,0,0,0,0,0,0]
[null,null,null,null,null,null,null,null,null,null,null,null,0,0,0,0,0,0,0,0,0,0]
[null,null,null,null,null,null,null,null,null,null,null,null,0,0,0,0,0,0,0,0,0,0]
[null,null,null,null,null,null,null,null,null,null,null,null,0,0,0,0,0,0,0,0,0,0]
[null,null,null,null,null,null,null,null,null,null,null,null,0,0,0,0,0,0,0,0,0,0]
[null,null,null,null,null,null,null,null,null,null,null,null,0,0,0,0,0,0,0,0,0,0]
[null,null,null,null,null,null,null,null,null,null,null,null,{"$f":"IF((B54+B55)>0,MAX(1,ROUNDUP(($A55-$A54)*((B54+B55)/2)/27,0)),ROUNDUP(($A55-$A54)*((B54+B55)/2)/27,0))","v":0},0,0,0,0,0,0,0,0,0]
[null,null,null,null,null,null,null,null,null,null,null,null,0,0,0,0,0,0,0,0,0,0]
[null,null,null,null,null,null,null,null,null,null,null,null,0,0,0,0,0,0,0,0,0,0]
[null,null,null,null,null,null,null,null,null,null,null,null,0,0,0,0,0,0,0,0,0,0]
[null,null,null,null,null,null,null,null,null,null,null,null,0,0,0,0,0,0,0,0,0,0]
[null,null,null,null,null,null,null,null,null,null,null,null,0,0,0,0,0,0,0,0,0,0]
[null,null,null,null,null,null,null,null,null,null,null,null,0,0,0,0,0,0,0,0,0,0]
[null,null,null,null,null,null,null,null,null,null,null,null,0,0,0,0,0,0,0,0,0,0]
[null,null,null,null,null,null,null,null,null,null,null,null,0,0,0,0,0,0,0,0,0,0]
[null,null,null,null,null,null,null,null,null,null,null,null,0,0,0,0,0,0,0,0,0,0]
[null,null,null,null,null,null,null,null,null,null,null,null,0,0,0,0,0,0,0,0,0,0]
[null,null,null,null,null,null,null,null,null,null,null,null,0,0,0,0,0,0,0,0,0,0]
[null,null,null,null,null,null,null,null,null,null,null,null,0,0,0,0,0,0,0,0,0,0]
[null,null,null,null,null,null,null,null,null,null,null,null,0,0,0,0,0,0,0,0,0,0]
[null,null,null,null,null,null,null,null,null,null,null,null,0,0,0,0,0,0,0,0,0,0]
[null,null,null,null,null,null,null,null,null,null,null,null,0,0,0,0,0,0,0,0,0,0]
[null,null,null,null,null,null,null,null,null,null,null,null,{"$f":"IF((B70+B71)>0,MAX(1,ROUNDUP(($A71-$A70)*((B70+B71)/2)/27,0)),ROUNDUP(($A71-$A70)*((B70+B71)/2)/27,0))","v":0},0,0,0,0,0,0,0,0,0]
[null,null,null,null,null,null,null,null,null,null,null,null,0,0,0,0,0,0,0,0,0,0]
[null,null,null,null,null,null,null,null,null,null,null,null,0,0,0,0,0,0,0,0,0,0]
[null,null,null,null,null,null,null,null,null,null,null,null,0,0,0,0,0,0,0,0,0,0]
[null,null,null,null,null,null,null,null,null,null,null,null,0,0,0,0,0,0,0,0,0,0]
[null,null,null,null,null,null,null,null,null,null,null,null,0,0,0,0,0,0,0,0,0,0]
[null,null,null,null,null,null,null,null,null,null,null,null,0,0,0,0,0,0,0,0,0,0]
[null,null,null,null,null,null,null,null,null,null,null,null,0,0,0,0,0,0,0,0,0,0]
[null,null,null,null,null,null,null,null,null,null,null,null,0,0,0,0,0,0,0,0,0,0]

{"sheet":"Frontage Rd#2","index":9,"n_rows":88,"n_cols":22,"rows_kept":88,"cut":false,"hidden":false,"merged":[[0,1,0,9],[0,12,0,20]]}
[{"$f":"MID(CELL(\"filename\",$A$2),FIND(\"]\",CELL(\"filename\",$A$2))+1,256)","v":"Frontage Rd#2"},"AREAS",null,null,null,null,null,null,null,null,null,null,"VOLUMES"]
["STATION","ROCK ROADBED","REFILL","EMB. BENCH","GRAN. EMB.","COM","EM","ROCK EXC.","DT LT","DT RT","LEVEL-WEDGE",null,"ROCK ROADBED","REFILL","EMB. BENCH","GRAN. EMB.","COM","EM","ROCK EXC.","DT LT","DT RT","LEVEL-WEDGE"]
["TOTALS",null,null,null,null,null,null,null,null,null,null,null,{"$f":"SUM(M15:M2011)","v":0},{"$f":"SUM(N15:N2011)","v":0},0,0,{"$f":"SUM(Q5:Q2011)","v":392},{"$f":"SUM(R5:R2011)","v":403},0,0,0,0]
[3000,null,null,null,null,0,0]
[3050,null,null,null,null,30,4,null,null,null,null,null,{"$f":"IF((B4+B5)>0,MAX(1,ROUNDUP(($A5-$A4)*((B4+B5)/2)/27,0)),ROUNDUP(($A5-$A4)*((B4+B5)/2)/27,0))","v":0},{"$f":"IF((C4+C5)>0,MAX(1,ROUNDUP(($A5-$A4)*((C4+C5)/2)/27,0)),ROUNDUP(($A5-$A4)*((C4+C5)/2)/27,0))","v":0},{"$f":"IF((D4+D5)>0,MAX(1,ROUNDUP(($A5-$A4)*((D4+D5)/2)/27,0)),ROUNDUP(($A5-$A4)*((D4+D5)/2)/27,0))","v":0},{"$f":"IF((E4+E5)>0,MAX(1,ROUNDUP(($A5-$A4)*((E4+E5)/2)/27,0)),ROUNDUP(($A5-$A4)*((E4+E5)/2)/27,0))","v":0},{"$f":"IF((F4+F5)>0,MAX(1,ROUNDUP(($A5-$A4)*((F4+F5)/2)/27,0)),ROUNDUP(($A5-$A4)*((F4+F5)/2)/27,0))","v":28},{"$f":"IF((G4+G5)>0,MAX(1,ROUNDUP(($A5-$A4)*((G4+G5)/2)/27,0)),ROUNDUP(($A5-$A4)*((G4+G5)/2)/27,0))","v":4},{"$f":"IF((H4+H5)>0,MAX(1,ROUNDUP(($A5-$A4)*((H4+H5)/2)/27,0)),ROUNDUP(($A5-$A4)*((H4+H5)/2)/27,0))","v":0},{"$f":"IF((I4+I5)>0,MAX(1,ROUNDUP(($A5-$A4)*((I4+I5)/2)/27,0)),ROUNDUP(($A5-$A4)*((I4+I5)/2)/27,0))","v":0},{"$f":"IF((J4+J5)>0,MAX(1,ROUNDUP(($A5-$A4)*((J4+J5)/2)/27,0)),ROUNDUP(($A5-$A4)*((J4+J5)/2)/27,0))","v":0},{"$f":"IF((K4+K5)>0,MAX(1,ROUNDUP(($A5-$A4)*((K4+K5)/2)/27,0)),ROUNDUP(($A5-$A4)*((K4+K5)/2)/27,0))","v":0}]
[3100,null,null,null,null,12,33,null,null,null,null,null,{"$f":"IF((B5+B6)>0,MAX(1,ROUNDUP(($A6-$A5)*((B5+B6)/2)/27,0)),ROUNDUP(($A6-$A5)*((B5+B6)/2)/27,0))","v":0},{"$f":"IF((C5+C6)>0,MAX(1,ROUNDUP(($A6-$A5)*((C5+C6)/2)/27,0)),ROUNDUP(($A6-$A5)*((C5+C6)/2)/27,0))","v":0},{"$f":"IF((D5+D6)>0,MAX(1,ROUNDUP(($A6-$A5)*((D5+D6)/2)/27,0)),ROUNDUP(($A6-$A5)*((D5+D6)/2)/27,0))","v":0},{"$f":"IF((E5+E6)>0,MAX(1,ROUNDUP(($A6-$A5)*((E5+E6)/2)/27,0)),ROUNDUP(($A6-$A5)*((E5+E6)/2)/27,0))","v":0},{"$f":"IF((F5+F6)>0,MAX(1,ROUNDUP(($A6-$A5)*((F5+F6)/2)/27,0)),ROUNDUP(($A6-$A5)*((F5+F6)/2)/27,0))","v":39},{"$f":"IF((G5+G6)>0,MAX(1,ROUNDUP(($A6-$A5)*((G5+G6)/2)/27,0)),ROUNDUP(($A6-$A5)*((G5+G6)/2)/27,0))","v":35},{"$f":"IF((H5+H6)>0,MAX(1,ROUNDUP(($A6-$A5)*((H5+H6)/2)/27,0)),ROUNDUP(($A6-$A5)*((H5+H6)/2)/27,0))","v":0},{"$f":"IF((I5+I6)>0,MAX(1,ROUNDUP(($A6-$A5)*((I5+I6)/2)/27,0)),ROUNDUP(($A6-$A5)*((I5+I6)/2)/27,0))","v":0},{"$f":"IF((J5+J6)>0,MAX(1,ROUNDUP(($A6-$A5)*((J5+J6)/2)/27,0)),ROUNDUP(($A6-$A5)*((J5+J6)/2)/27,0))","v":0},{"$f":"IF((K5+K6)>0,MAX(1,ROUNDUP(($A6-$A5)*((K5+K6)/2)/27,0)),ROUNDUP(($A6-$A5)*((K5+K6)/2)/27,0))","v":0}]
[3150,null,null,null,null,29,58,null,null,null,null,null,{"$f":"IF((B6+B7)>0,MAX(1,ROUNDUP(($A7-$A6)*((B6+B7)/2)/27,0)),ROUNDUP(($A7-$A6)*((B6+B7)/2)/27,0))","v":0},0,0,0,38,85,0,0,0,0]
[3200,null,null,null,null,23,121,null,null,null,null,null,0,0,0,0,49,166,0,0,0,0]
[3250,null,null,null,null,49,0,null,null,null,null,null,0,0,0,0,67,113,0,0,0,0]
[3300,null,null,null,null,84,0,null,null,null,null,null,0,0,0,0,124,0,0,0,0,0]
[3330.06,null,null,null,null,0,0,null,null,null,null,null,0,0,0,0,47,0,0,0,0,0]
[null,null,null,null,null,null,null,null,null,null,null,null,0,0,0,0,0,0,0,0,0,0]
[null,null,null,null,null,null,null,null,null,null,null,null,0,0,0,0,0,0,0,0,0,0]
[null,null,null,null,null,null,null,null,null,null,null,null,0,0,0,0,0,0,0,0,0,0]
[null,null,null,null,null,null,null,null,null,null,null,null,{"$f":"IF((B14+B15)>0,MAX(1,ROUNDUP(($A15-$A14)*((B14+B15)/2)/27,0)),ROUNDUP(($A15-$A14)*((B14+B15)/2)/27,0))","v":0},{"$f":"IF((C14+C15)>0,MAX(1,ROUNDUP(($A15-$A14)*((C14+C15)/2)/27,0)),ROUNDUP(($A15-$A14)*((C14+C15)/2)/27,0))","v":0},{"$f":"IF((D14+D15)>0,MAX(1,ROUNDUP(($A15-$A14)*((D14+D15)/2)/27,0)),ROUNDUP(($A15-$A14)*((D14+D15)/2)/27,0))","v":0},{"$f":"IF((E14+E15)>0,MAX(1,ROUNDUP(($A15-$A14)*((E14+E15)/2)/27,0)),ROUNDUP(($A15-$A14)*((E14+E15)/2)/27,0))","v":0},{"$f":"IF((F14+F15)>0,MAX(1,ROUNDUP(($A15-$A14)*((F14+F15)/2)/27,0)),ROUNDUP(($A15-$A14)*((F14+F15)/2)/27,0))","v":0},{"$f":"IF((G14+G15)>0,MAX(1,ROUNDUP(($A15-$A14)*((G14+G15)/2)/27,0)),ROUNDUP(($A15-$A14)*((G14+G15)/2)/27,0))","v":0},{"$f":"IF((H14+H15)>0,MAX(1,ROUNDUP(($A15-$A14)*((H14+H15)/2)/27,0)),ROUNDUP(($A15-$A14)*((H14+H15)/2)/27,0))","v":0},{"$f":"IF((I14+I15)>0,MAX(1,ROUNDUP(($A15-$A14)*((I14+I15)/2)/27,0)),ROUNDUP(($A15-$A14)*((I14+I15)/2)/27,0))","v":0},{"$f":"IF((J14+J15)>0,MAX(1,ROUNDUP(($A15-$A14)*((J14+J15)/2)/27,0)),ROUNDUP(($A15-$A14)*((J14+J15)/2)/27,0))","v":0},{"$f":"IF((K14+K15)>0,MAX(1,ROUNDUP(($A15-$A14)*((K14+K15)/2)/27,0)),ROUNDUP(($A15-$A14)*((K14+K15)/2)/27,0))","v":0}]
[null,null,null,null,null,null,null,null,null,null,null,null,0,0,0,0,0,0,0,0,0,0]
[null,null,null,null,null,null,null,null,null,null,null,null,0,0,0,0,0,0,0,0,0,0]
[null,null,null,null,null,null,null,null,null,null,null,null,0,0,0,0,0,0,0,0,0,0]
[null,null,null,null,null,null,null,null,null,null,null,null,0,0,0,0,0,0,0,0,0,0]
[null,null,null,null,null,null,null,null,null,null,null,null,0,0,0,0,0,0,0,0,0,0]
[null,null,null,null,null,null,null,null,null,null,null,null,0,0,0,0,0,0,0,0,0,0]
[null,null,null,null,null,null,null,null,null,null,null,null,0,0,0,0,0,0,0,0,0,0]
[null,null,null,null,null,null,null,null,null,null,null,null,0,0,0,0,0,0,0,0,0,0]
[null,null,null,null,null,null,null,null,null,null,null,null,0,0,0,0,0,0,0,0,0,0]
[null,null,null,null,null,null,null,null,null,null,null,null,0,0,0,0,0,0,0,0,0,0]
[null,null,null,null,null,null,null,null,null,null,null,null,0,0,0,0,0,0,0,0,0,0]
[null,null,null,null,null,null,null,null,null,null,null,null,0,0,0,0,0,0,0,0,0,0]
[null,null,null,null,null,null,null,null,null,null,null,null,0,0,0,0,0,0,0,0,0,0]
[null,null,null,null,null,null,null,null,null,null,null,null,0,0,0,0,0,0,0,0,0,0]
[null,null,null,null,null,null,null,null,null,null,null,null,0,0,0,0,0,0,0,0,0,0]
[null,null,null,null,null,null,null,null,null,null,null,null,0,0,0,0,0,0,0,0,0,0]
[null,null,null,null,null,null,null,null,null,null,null,null,0,0,0,0,0,0,0,0,0,0]
[null,null,null,null,null,null,null,null,null,null,null,null,0,0,0,0,0,0,0,0,0,0]
[null,null,null,null,null,null,null,null,null,null,null,null,0,0,0,0,0,0,0,0,0,0]
[null,null,null,null,null,null,null,null,null,null,null,null,0,0,0,0,0,0,0,0,0,0]
[null,null,null,null,null,null,null,null,null,null,null,null,0,0,0,0,0,0,0,0,0,0]
[null,null,null,null,null,null,null,null,null,null,null,null,0,0,0,0,0,0,0,0,0,0]
[null,null,null,null,null,null,null,null,null,null,null,null,0,0,0,0,0,0,0,0,0,0]
[null,null,null,null,null,null,null,null,null,null,null,null,0,0,0,0,0,0,0,0,0,0]
[null,null,null,null,null,null,null,null,null,null,null,null,0,0,0,0,0,0,0,0,0,0]
[null,null,null,null,null,null,null,null,null,null,null,null,0,0,0,0,0,0,0,0,0,0]
[null,null,null,null,null,null,null,null,null,null,null,null,0,0,0,0,0,0,0,0,0,0]
[null,null,null,null,null,null,null,null,null,null,null,null,0,0,0,0,0,0,0,0,0,0]
[null,null,null,null,null,null,null,null,null,null,null,null,0,0,0,0,0,0,0,0,0,0]
[null,null,null,null,null,null,null,null,null,null,null,null,0,0,0,0,0,0,0,0,0,0]
[null,null,null,null,null,null,null,null,null,null,null,null,0,0,0,0,0,0,0,0,0,0]
[null,null,null,null,null,null,null,null,null,null,null,null,{"$f":"IF((B46+B47)>0,MAX(1,ROUNDUP(($A47-$A46)*((B46+B47)/2)/27,0)),ROUNDUP(($A47-$A46)*((B46+B47)/2)/27,0))","v":0},{"$f":"IF((C46+C47)>0,MAX(1,ROUNDUP(($A47-$A46)*((C46+C47)/2)/27,0)),ROUNDUP(($A47-$A46)*((C46+C47)/2)/27,0))","v":0},{"$f":"IF((D46+D47)>0,MAX(1,ROUNDUP(($A47-$A46)*((D46+D47)/2)/27,0)),ROUNDUP(($A47-$A46)*((D46+D47)/2)/27,0))","v":0},{"$f":"IF((E46+E47)>0,MAX(1,ROUNDUP(($A47-$A46)*((E46+E47)/2)/27,0)),ROUNDUP(($A47-$A46)*((E46+E47)/2)/27,0))","v":0},{"$f":"IF((F46+F47)>0,MAX(1,ROUNDUP(($A47-$A46)*((F46+F47)/2)/27,0)),ROUNDUP(($A47-$A46)*((F46+F47)/2)/27,0))","v":0},{"$f":"IF((G46+G47)>0,MAX(1,ROUNDUP(($A47-$A46)*((G46+G47)/2)/27,0)),ROUNDUP(($A47-$A46)*((G46+G47)/2)/27,0))","v":0},{"$f":"IF((H46+H47)>0,MAX(1,ROUNDUP(($A47-$A46)*((H46+H47)/2)/27,0)),ROUNDUP(($A47-$A46)*((H46+H47)/2)/27,0))","v":0},{"$f":"IF((I46+I47)>0,MAX(1,ROUNDUP(($A47-$A46)*((I46+I47)/2)/27,0)),ROUNDUP(($A47-$A46)*((I46+I47)/2)/27,0))","v":0},{"$f":"IF((J46+J47)>0,MAX(1,ROUNDUP(($A47-$A46)*((J46+J47)/2)/27,0)),ROUNDUP(($A47-$A46)*((J46+J47)/2)/27,0))","v":0},{"$f":"IF((K46+K47)>0,MAX(1,ROUNDUP(($A47-$A46)*((K46+K47)/2)/27,0)),ROUNDUP(($A47-$A46)*((K46+K47)/2)/27,0))","v":0}]
[null,null,null,null,null,null,null,null,null,null,null,null,0,0,0,0,0,0,0,0,0,0]
[null,null,null,null,null,null,null,null,null,null,null,null,0,0,0,0,0,0,0,0,0,0]
[null,null,null,null,null,null,null,null,null,null,null,null,0,0,0,0,0,0,0,0,0,0]
[null,null,null,null,null,null,null,null,null,null,null,null,0,0,0,0,0,0,0,0,0,0]
[null,null,null,null,null,null,null,null,null,null,null,null,0,0,0,0,0,0,0,0,0,0]
[null,null,null,null,null,null,null,null,null,null,null,null,0,0,0,0,0,0,0,0,0,0]
[null,null,null,null,null,null,null,null,null,null,null,null,0,0,0,0,0,0,0,0,0,0]
[null,null,null,null,null,null,null,null,null,null,null,null,0,0,0,0,0,0,0,0,0,0]
[null,null,null,null,null,null,null,null,null,null,null,null,0,0,0,0,0,0,0,0,0,0]
[null,null,null,null,null,null,null,null,null,null,null,null,0,0,0,0,0,0,0,0,0,0]
[null,null,null,null,null,null,null,null,null,null,null,null,0,0,0,0,0,0,0,0,0,0]
[null,null,null,null,null,null,null,null,null,null,null,null,0,0,0,0,0,0,0,0,0,0]
[null,null,null,null,null,null,null,null,null,null,null,null,0,0,0,0,0,0,0,0,0,0]
[null,null,null,null,null,null,null,null,null,null,null,null,0,0,0,0,0,0,0,0,0,0]
[null,null,null,null,null,null,null,null,null,null,null,null,0,0,0,0,0,0,0,0,0,0]
[null,null,null,null,null,null,null,null,null,null,null,null,0,0,0,0,0,0,0,0,0,0]
[null,null,null,null,null,null,null,null,null,null,null,null,0,0,0,0,0,0,0,0,0,0]
[null,null,null,null,null,null,null,null,null,null,null,null,0,0,0,0,0,0,0,0,0,0]
[null,null,null,null,null,null,null,null,null,null,null,null,{"$f":"IF((B65+B66)>0,MAX(1,ROUNDUP(($A66-$A65)*((B65+B66)/2)/27,0)),ROUNDUP(($A66-$A65)*((B65+B66)/2)/27,0))","v":0},0,0,0,0,0,0,0,0,0]
[null,null,null,null,null,null,null,null,null,null,null,null,0,0,0,0,0,0,0,0,0,0]
[null,null,null,null,null,null,null,null,null,null,null,null,0,0,0,0,0,0,0,0,0,0]
[null,null,null,null,null,null,null,null,null,null,null,null,0,0,0,0,0,0,0,0,0,0]
[null,null,null,null,null,null,null,null,null,null,null,null,0,0,0,0,0,0,0,0,0,0]
[null,null,null,null,null,null,null,null,null,null,null,null,0,0,0,0,0,0,0,0,0,0]
[null,null,null,null,null,null,null,null,null,null,null,null,0,0,0,0,0,0,0,0,0,0]
[null,null,null,null,null,null,null,null,null,null,null,null,0,0,0,0,0,0,0,0,0,0]
[null,null,null,null,null,null,null,null,null,null,null,null,0,0,0,0,0,0,0,0,0,0]
[null,null,null,null,null,null,null,null,null,null,null,null,0,0,0,0,0,0,0,0,0,0]
[null,null,null,null,null,null,null,null,null,null,null,null,0,0,0,0,0,0,0,0,0,0]
[null,null,null,null,null,null,null,null,null,null,null,null,0,0,0,0,0,0,0,0,0,0]
[null,null,null,null,null,null,null,null,null,null,null,null,0,0,0,0,0,0,0,0,0,0]
[null,null,null,null,null,null,null,null,null,null,null,null,0,0,0,0,0,0,0,0,0,0]
[null,null,null,null,null,null,null,null,null,null,null,null,{"$f":"IF((B79+B80)>0,MAX(1,ROUNDUP(($A80-$A79)*((B79+B80)/2)/27,0)),ROUNDUP(($A80-$A79)*((B79+B80)/2)/27,0))","v":0},0,0,0,0,0,0,0,0,0]
[null,null,null,null,null,null,null,null,null,null,null,null,0,0,0,0,0,0,0,0,0,0]
[null,null,null,null,null,null,null,null,null,null,null,null,0,0,0,0,0,0,0,0,0,0]
[null,null,null,null,null,null,null,null,null,null,null,null,0,0,0,0,0,0,0,0,0,0]
[null,null,null,null,null,null,null,null,null,null,null,null,0,0,0,0,0,0,0,0,0,0]
[null,null,null,null,null,null,null,null,null,null,null,null,0,0,0,0,0,0,0,0,0,0]
[null,null,null,null,null,null,null,null,null,null,null,null,0,0,0,0,0,0,0,0,0,0]
[null,null,null,null,null,null,null,null,null,null,null,null,0,0,0,0,0,0,0,0,0,0]
[null,null,null,null,null,null,null,null,null,null,null,null,0,0,0,0,0,0,0,0,0,0]

{"sheet":"Roberts Rd CulDeSac","index":10,"n_rows":79,"n_cols":22,"rows_kept":79,"cut":false,"hidden":false,"merged":[[0,1,0,9],[0,12,0,20]]}
[{"$f":"MID(CELL(\"filename\",$A$2),FIND(\"]\",CELL(\"filename\",$A$2))+1,256)","v":"Roberts Rd CulDeSac"},"AREAS",null,null,null,null,null,null,null,null,null,null,"VOLUMES"]
["STATION","ROCK ROADBED","REFILL","EMB. BENCH","GRAN. EMB.","COM","EM","ROCK EXC.","DT LT","DT RT","LEVEL-WEDGE",null,"ROCK ROADBED","REFILL","EMB. BENCH","GRAN. EMB.","COM","EM","ROCK EXC.","DT LT","DT RT","LEVEL-WEDGE"]
["TOTALS",null,null,null,null,null,null,null,null,null,null,null,{"$f":"SUM(M6:M2002)","v":0},{"$f":"SUM(N6:N2002)","v":0},0,0,{"$f":"SUM(Q5:Q2002)","v":206},{"$f":"SUM(R5:R2002)","v":153},0,0,0,0]
[4900,null,null,null,null,0,0]
[4950,null,null,null,null,66.8,1.9,null,null,null,null,null,{"$f":"IF((B4+B5)>0,MAX(1,ROUNDUP(($A5-$A4)*((B4+B5)/2)/27,0)),ROUNDUP(($A5-$A4)*((B4+B5)/2)/27,0))","v":0},{"$f":"IF((C4+C5)>0,MAX(1,ROUNDUP(($A5-$A4)*((C4+C5)/2)/27,0)),ROUNDUP(($A5-$A4)*((C4+C5)/2)/27,0))","v":0},{"$f":"IF((D4+D5)>0,MAX(1,ROUNDUP(($A5-$A4)*((D4+D5)/2)/27,0)),ROUNDUP(($A5-$A4)*((D4+D5)/2)/27,0))","v":0},{"$f":"IF((E4+E5)>0,MAX(1,ROUNDUP(($A5-$A4)*((E4+E5)/2)/27,0)),ROUNDUP(($A5-$A4)*((E4+E5)/2)/27,0))","v":0},{"$f":"IF((F4+F5)>0,MAX(1,ROUNDUP(($A5-$A4)*((F4+F5)/2)/27,0)),ROUNDUP(($A5-$A4)*((F4+F5)/2)/27,0))","v":62},{"$f":"IF((G4+G5)>0,MAX(1,ROUNDUP(($A5-$A4)*((G4+G5)/2)/27,0)),ROUNDUP(($A5-$A4)*((G4+G5)/2)/27,0))","v":2},{"$f":"IF((H4+H5)>0,MAX(1,ROUNDUP(($A5-$A4)*((H4+H5)/2)/27,0)),ROUNDUP(($A5-$A4)*((H4+H5)/2)/27,0))","v":0},{"$f":"IF((I4+I5)>0,MAX(1,ROUNDUP(($A5-$A4)*((I4+I5)/2)/27,0)),ROUNDUP(($A5-$A4)*((I4+I5)/2)/27,0))","v":0},{"$f":"IF((J4+J5)>0,MAX(1,ROUNDUP(($A5-$A4)*((J4+J5)/2)/27,0)),ROUNDUP(($A5-$A4)*((J4+J5)/2)/27,0))","v":0},{"$f":"IF((K4+K5)>0,MAX(1,ROUNDUP(($A5-$A4)*((K4+K5)/2)/27,0)),ROUNDUP(($A5-$A4)*((K4+K5)/2)/27,0))","v":0}]
[5000,null,null,null,null,20.6,73.599999999999994,null,null,null,null,null,{"$f":"IF((B5+B6)>0,MAX(1,ROUNDUP(($A6-$A5)*((B5+B6)/2)/27,0)),ROUNDUP(($A6-$A5)*((B5+B6)/2)/27,0))","v":0},{"$f":"IF((C5+C6)>0,MAX(1,ROUNDUP(($A6-$A5)*((C5+C6)/2)/27,0)),ROUNDUP(($A6-$A5)*((C5+C6)/2)/27,0))","v":0},0,0,81,70,0,0,0,{"$f":"IF((K5+K6)>0,MAX(1,ROUNDUP(($A6-$A5)*((K5+K6)/2)/27,0)),ROUNDUP(($A6-$A5)*((K5+K6)/2)/27,0))","v":0}]
[5050,null,null,null,null,12.1,6.3,null,null,null,null,null,{"$f":"IF((B6+B7)>0,MAX(1,ROUNDUP(($A7-$A6)*((B6+B7)/2)/27,0)),ROUNDUP(($A7-$A6)*((B6+B7)/2)/27,0))","v":0},0,0,0,31,74,0,0,0,0]
[5100,null,null,null,null,12.3,0.1,null,null,null,null,null,0,0,0,0,23,6,0,0,0,0]
[5138.76,null,null,null,null,0,0,null,null,null,null,null,0,0,0,0,9,1,0,0,0,0]
[null,null,null,null,null,null,null,null,null,null,null,null,0,0,0,0,0,0,0,0,0,0]
[null,null,null,null,null,null,null,null,null,null,null,null,0,0,0,0,0,0,0,0,0,0]
[null,null,null,null,null,null,null,null,null,null,null,null,0,0,0,0,0,0,0,0,0,0]
[null,null,null,null,null,null,null,null,null,null,null,null,0,0,0,0,0,0,0,0,0,0]
[null,null,null,null,null,null,null,null,null,null,null,null,0,0,0,0,0,0,0,0,0,0]
[null,null,null,null,null,null,null,null,null,null,null,null,0,0,0,0,0,0,0,0,0,0]
[null,null,null,null,null,null,null,null,null,null,null,null,0,0,0,0,0,0,0,0,0,0]
[null,null,null,null,null,null,null,null,null,null,null,null,0,0,0,0,0,0,0,0,0,0]
[null,null,null,null,null,null,null,null,null,null,null,null,0,0,0,0,0,{"$f":"IF((G17+G18)>0,MAX(1,ROUNDUP(($A18-$A17)*((G17+G18)/2)/27,0)),ROUNDUP(($A18-$A17)*((G17+G18)/2)/27,0))","v":0},0,0,0,0]
[null,null,null,null,null,null,null,null,null,null,null,null,0,0,0,0,0,0,0,0,0,0]
[null,null,null,null,null,null,null,null,null,null,null,null,0,0,0,0,0,0,0,0,0,0]
[null,null,null,null,null,null,null,null,null,null,null,null,0,0,0,0,0,0,0,0,0,0]
[null,null,null,null,null,null,null,null,null,null,null,null,0,0,0,0,0,0,0,0,0,0]
[null,null,null,null,null,null,null,null,null,null,null,null,{"$f":"IF((B22+B23)>0,MAX(1,ROUNDUP(($A23-$A22)*((B22+B23)/2)/27,0)),ROUNDUP(($A23-$A22)*((B22+B23)/2)/27,0))","v":0},0,0,0,0,0,0,0,0,0]
[null,null,null,null,null,null,null,null,null,null,null,null,0,0,0,0,0,0,0,0,0,0]
[null,null,null,null,null,null,null,null,null,null,null,null,0,0,0,0,0,0,0,0,0,0]
[null,null,null,null,null,null,null,null,null,null,null,null,0,0,0,0,0,0,0,0,0,0]
[null,null,null,null,null,null,null,null,null,null,null,null,0,0,0,0,0,0,0,0,0,0]
[null,null,null,null,null,null,null,null,null,null,null,null,0,0,0,0,0,0,0,0,0,0]
[null,null,null,null,null,null,null,null,null,null,null,null,0,0,0,0,0,0,0,0,0,0]
[null,null,null,null,null,null,null,null,null,null,null,null,0,0,0,0,0,0,0,0,0,0]
[null,null,null,null,null,null,null,null,null,null,null,null,0,0,0,0,0,0,0,0,0,0]
[null,null,null,null,null,null,null,null,null,null,null,null,0,0,0,0,0,0,0,0,0,0]
[null,null,null,null,null,null,null,null,null,null,null,null,0,0,0,0,0,0,0,0,0,0]
[null,null,null,null,null,null,null,null,null,null,null,null,0,0,0,0,0,0,0,0,0,0]
[null,null,null,null,null,null,null,null,null,null,null,null,0,0,0,0,0,0,0,0,0,0]
[null,null,null,null,null,null,null,null,null,null,null,null,0,0,0,0,0,0,0,0,0,0]
[null,null,null,null,null,null,null,null,null,null,null,null,0,0,0,0,0,0,0,0,0,0]
[null,null,null,null,null,null,null,null,null,null,null,null,0,0,0,0,0,0,0,0,0,0]
[null,null,null,null,null,null,null,null,null,null,null,null,{"$f":"IF((B38+B39)>0,MAX(1,ROUNDUP(($A39-$A38)*((B38+B39)/2)/27,0)),ROUNDUP(($A39-$A38)*((B38+B39)/2)/27,0))","v":0},0,0,0,0,0,0,0,0,0]
[null,null,null,null,null,null,null,null,null,null,null,null,0,0,0,0,0,0,0,0,0,0]
[null,null,null,null,null,null,null,null,null,null,null,null,0,0,0,0,0,0,0,0,0,0]
[null,null,null,null,null,null,null,null,null,null,null,null,0,0,0,0,0,0,0,0,0,0]
[null,null,null,null,null,null,null,null,null,null,null,null,0,0,0,0,0,0,0,0,0,0]
[null,null,null,null,null,null,null,null,null,null,null,null,0,0,0,0,0,0,0,0,0,0]
[null,null,null,null,null,null,null,null,null,null,null,null,0,0,0,0,0,0,0,0,0,0]
[null,null,null,null,null,null,null,null,null,null,null,null,0,0,0,0,0,0,0,0,0,0]
[null,null,null,null,null,null,null,null,null,null,null,null,0,0,0,0,0,0,0,0,0,0]
[null,null,null,null,null,null,null,null,null,null,null,null,0,0,0,0,0,0,0,0,0,0]
[null,null,null,null,null,null,null,null,null,null,null,null,0,0,0,0,0,0,0,0,0,0]
[null,null,null,null,null,null,null,null,null,null,null,null,0,0,0,0,0,0,0,0,0,0]
[null,null,null,null,null,null,null,null,null,null,null,null,0,0,0,0,0,0,0,0,0,0]
[null,null,null,null,null,null,null,null,null,null,null,null,0,0,0,0,0,0,0,0,0,0]
[null,null,null,null,null,null,null,null,null,null,null,null,0,0,0,0,0,0,0,0,0,0]
[null,null,null,null,null,null,null,null,null,null,null,null,0,0,0,0,0,0,0,0,0,0]
[null,null,null,null,null,null,null,null,null,null,null,null,{"$f":"IF((B54+B55)>0,MAX(1,ROUNDUP(($A55-$A54)*((B54+B55)/2)/27,0)),ROUNDUP(($A55-$A54)*((B54+B55)/2)/27,0))","v":0},0,0,0,0,0,0,0,0,0]
[null,null,null,null,null,null,null,null,null,null,null,null,0,0,0,0,0,0,0,0,0,0]
[null,null,null,null,null,null,null,null,null,null,null,null,0,0,0,0,0,0,0,0,0,0]
[null,null,null,null,null,null,null,null,null,null,null,null,0,0,0,0,0,0,0,0,0,0]
[null,null,null,null,null,null,null,null,null,null,null,null,0,0,0,0,0,0,0,0,0,0]
[null,null,null,null,null,null,null,null,null,null,null,null,0,0,0,0,0,0,0,0,0,0]
[null,null,null,null,null,null,null,null,null,null,null,null,0,0,0,0,0,0,0,0,0,0]
[null,null,null,null,null,null,null,null,null,null,null,null,0,0,0,0,0,0,0,0,0,0]
[null,null,null,null,null,null,null,null,null,null,null,null,0,0,0,0,0,0,0,0,0,0]
[null,null,null,null,null,null,null,null,null,null,null,null,0,0,0,0,0,0,0,0,0,0]
[null,null,null,null,null,null,null,null,null,null,null,null,0,0,0,0,0,0,0,0,0,0]
[null,null,null,null,null,null,null,null,null,null,null,null,0,0,0,0,0,0,0,0,0,0]
[null,null,null,null,null,null,null,null,null,null,null,null,0,0,0,0,0,0,0,0,0,0]
[null,null,null,null,null,null,null,null,null,null,null,null,0,0,0,0,0,0,0,0,0,0]
[null,null,null,null,null,null,null,null,null,null,null,null,0,0,0,0,0,0,0,0,0,0]
[null,null,null,null,null,null,null,null,null,null,null,null,0,0,0,0,0,0,0,0,0,0]
[null,null,null,null,null,null,null,null,null,null,null,null,{"$f":"IF((B70+B71)>0,MAX(1,ROUNDUP(($A71-$A70)*((B70+B71)/2)/27,0)),ROUNDUP(($A71-$A70)*((B70+B71)/2)/27,0))","v":0},0,0,0,0,0,0,0,0,0]
[null,null,null,null,null,null,null,null,null,null,null,null,0,0,0,0,0,0,0,0,0,0]
[null,null,null,null,null,null,null,null,null,null,null,null,0,0,0,0,0,0,0,0,0,0]
[null,null,null,null,null,null,null,null,null,null,null,null,0,0,0,0,0,0,0,0,0,0]
[null,null,null,null,null,null,null,null,null,null,null,null,0,0,0,0,0,0,0,0,0,0]
[null,null,null,null,null,null,null,null,null,null,null,null,0,0,0,0,0,0,0,0,0,0]
[null,null,null,null,null,null,null,null,null,null,null,null,0,0,0,0,0,0,0,0,0,0]
[null,null,null,null,null,null,null,null,null,null,null,null,0,0,0,0,0,0,0,0,0,0]
[null,null,null,null,null,null,null,null,null,null,null,null,0,0,0,0,0,0,0,0,0,0]

{"sheet":"Linda Mel","index":11,"n_rows":79,"n_cols":22,"rows_kept":79,"cut":false,"hidden":false,"merged":[[0,1,0,9],[0,12,0,20]]}
[{"$f":"MID(CELL(\"filename\",$A$2),FIND(\"]\",CELL(\"filename\",$A$2))+1,256)","v":"Linda Mel"},"AREAS",null,null,null,null,null,null,null,null,null,null,"VOLUMES"]
["STATION","ROCK ROADBED","REFILL","EMB. BENCH","GRAN. EMB.","COM","EM","ROCK EXC.","DT LT","DT RT","LEVEL-WEDGE",null,"ROCK ROADBED","REFILL","EMB. BENCH","GRAN. EMB.","COM","EM","ROCK EXC.","DT LT","DT RT","LEVEL-WEDGE"]
["TOTALS",null,null,null,null,null,null,null,null,null,null,null,{"$f":"SUM(M6:M2002)","v":0},{"$f":"SUM(N6:N2002)","v":0},0,0,{"$f":"SUM(Q5:Q2002)","v":20},{"$f":"SUM(R5:R2002)","v":39},0,0,0,0]
[5100,null,null,null,null,0,0]
[5145.2299999999996,null,null,null,null,0,20.100000000000001,null,null,null,null,null,{"$f":"IF((B4+B5)>0,MAX(1,ROUNDUP(($A5-$A4)*((B4+B5)/2)/27,0)),ROUNDUP(($A5-$A4)*((B4+B5)/2)/27,0))","v":0},{"$f":"IF((C4+C5)>0,MAX(1,ROUNDUP(($A5-$A4)*((C4+C5)/2)/27,0)),ROUNDUP(($A5-$A4)*((C4+C5)/2)/27,0))","v":0},{"$f":"IF((D4+D5)>0,MAX(1,ROUNDUP(($A5-$A4)*((D4+D5)/2)/27,0)),ROUNDUP(($A5-$A4)*((D4+D5)/2)/27,0))","v":0},{"$f":"IF((E4+E5)>0,MAX(1,ROUNDUP(($A5-$A4)*((E4+E5)/2)/27,0)),ROUNDUP(($A5-$A4)*((E4+E5)/2)/27,0))","v":0},{"$f":"IF((F4+F5)>0,MAX(1,ROUNDUP(($A5-$A4)*((F4+F5)/2)/27,0)),ROUNDUP(($A5-$A4)*((F4+F5)/2)/27,0))","v":0},{"$f":"IF((G4+G5)>0,MAX(1,ROUNDUP(($A5-$A4)*((G4+G5)/2)/27,0)),ROUNDUP(($A5-$A4)*((G4+G5)/2)/27,0))","v":17},{"$f":"IF((H4+H5)>0,MAX(1,ROUNDUP(($A5-$A4)*((H4+H5)/2)/27,0)),ROUNDUP(($A5-$A4)*((H4+H5)/2)/27,0))","v":0},{"$f":"IF((I4+I5)>0,MAX(1,ROUNDUP(($A5-$A4)*((I4+I5)/2)/27,0)),ROUNDUP(($A5-$A4)*((I4+I5)/2)/27,0))","v":0},{"$f":"IF((J4+J5)>0,MAX(1,ROUNDUP(($A5-$A4)*((J4+J5)/2)/27,0)),ROUNDUP(($A5-$A4)*((J4+J5)/2)/27,0))","v":0},{"$f":"IF((K4+K5)>0,MAX(1,ROUNDUP(($A5-$A4)*((K4+K5)/2)/27,0)),ROUNDUP(($A5-$A4)*((K4+K5)/2)/27,0))","v":0}]
[5150,null,null,null,null,0,29.8,null,null,null,null,null,{"$f":"IF((B5+B6)>0,MAX(1,ROUNDUP(($A6-$A5)*((B5+B6)/2)/27,0)),ROUNDUP(($A6-$A5)*((B5+B6)/2)/27,0))","v":0},{"$f":"IF((C5+C6)>0,MAX(1,ROUNDUP(($A6-$A5)*((C5+C6)/2)/27,0)),ROUNDUP(($A6-$A5)*((C5+C6)/2)/27,0))","v":0},0,0,0,5,0,0,0,{"$f":"IF((K5+K6)>0,MAX(1,ROUNDUP(($A6-$A5)*((K5+K6)/2)/27,0)),ROUNDUP(($A6-$A5)*((K5+K6)/2)/27,0))","v":0}]
[5179.63,null,null,null,null,21.2,0,null,null,null,null,null,{"$f":"IF((B6+B7)>0,MAX(1,ROUNDUP(($A7-$A6)*((B6+B7)/2)/27,0)),ROUNDUP(($A7-$A6)*((B6+B7)/2)/27,0))","v":0},0,0,0,12,17,0,0,0,0]
[5200,null,null,null,null,0,0,null,null,null,null,null,0,0,0,0,8,0,0,0,0,0]
[null,null,null,null,null,null,null,null,null,null,null,null,0,0,0,0,0,0,0,0,0,0]
[null,null,null,null,null,null,null,null,null,null,null,null,0,0,0,0,0,0,0,0,0,0]
[null,null,null,null,null,null,null,null,null,null,null,null,0,0,0,0,0,0,0,0,0,0]
[null,null,null,null,null,null,null,null,null,null,null,null,0,0,0,0,0,0,0,0,0,0]
[null,null,null,null,null,null,null,null,null,null,null,null,0,0,0,0,0,0,0,0,0,0]
[null,null,null,null,null,null,null,null,null,null,null,null,0,0,0,0,0,0,0,0,0,0]
[null,null,null,null,null,null,null,null,null,null,null,null,0,0,0,0,0,0,0,0,0,0]
[null,null,null,null,null,null,null,null,null,null,null,null,0,0,0,0,0,0,0,0,0,0]
[null,null,null,null,null,null,null,null,null,null,null,null,0,0,0,0,0,0,0,0,0,0]
[null,null,null,null,null,null,null,null,null,null,null,null,0,0,0,0,0,0,0,0,0,0]
[null,null,null,null,null,null,null,null,null,null,null,null,0,0,0,0,0,0,0,0,0,0]
[null,null,null,null,null,null,null,null,null,null,null,null,0,0,0,0,0,0,0,0,0,0]
[null,null,null,null,null,null,null,null,null,null,null,null,0,0,0,0,0,0,0,0,0,0]
[null,null,null,null,null,null,null,null,null,null,null,null,0,0,0,0,0,0,0,0,0,0]
[null,null,null,null,null,null,null,null,null,null,null,null,{"$f":"IF((B22+B23)>0,MAX(1,ROUNDUP(($A23-$A22)*((B22+B23)/2)/27,0)),ROUNDUP(($A23-$A22)*((B22+B23)/2)/27,0))","v":0},0,0,0,0,0,0,0,0,0]
[null,null,null,null,null,null,null,null,null,null,null,null,0,0,0,0,0,0,0,0,0,0]
[null,null,null,null,null,null,null,null,null,null,null,null,0,0,0,0,0,0,0,0,0,0]
[null,null,null,null,null,null,null,null,null,null,null,null,0,0,0,0,0,0,0,0,0,0]
[null,null,null,null,null,null,null,null,null,null,null,null,0,0,0,0,0,0,0,0,0,0]
[null,null,null,null,null,null,null,null,null,null,null,null,0,0,0,0,0,0,0,0,0,0]
[null,null,null,null,null,null,null,null,null,null,null,null,0,0,0,0,0,0,0,0,0,0]
[null,null,null,null,null,null,null,null,null,null,null,null,0,0,0,0,0,0,0,0,0,0]
[null,null,null,null,null,null,null,null,null,null,null,null,0,0,0,0,0,0,0,0,0,0]
[null,null,null,null,null,null,null,null,null,null,null,null,0,0,0,0,0,0,0,0,0,0]
[null,null,null,null,null,null,null,null,null,null,null,null,0,0,0,0,0,0,0,0,0,0]
[null,null,null,null,null,null,null,null,null,null,null,null,0,0,0,0,0,0,0,0,0,0]
[null,null,null,null,null,null,null,null,null,null,null,null,0,0,0,0,0,0,0,0,0,0]
[null,null,null,null,null,null,null,null,null,null,null,null,0,0,0,0,0,0,0,0,0,0]
[null,null,null,null,null,null,null,null,null,null,null,null,0,0,0,0,0,0,0,0,0,0]
[null,null,null,null,null,null,null,null,null,null,null,null,0,0,0,0,0,0,0,0,0,0]
[null,null,null,null,null,null,null,null,null,null,null,null,{"$f":"IF((B38+B39)>0,MAX(1,ROUNDUP(($A39-$A38)*((B38+B39)/2)/27,0)),ROUNDUP(($A39-$A38)*((B38+B39)/2)/27,0))","v":0},0,0,0,0,0,0,0,0,0]
[null,null,null,null,null,null,null,null,null,null,null,null,0,0,0,0,0,0,0,0,0,0]
[null,null,null,null,null,null,null,null,null,null,null,null,0,0,0,0,0,0,0,0,0,0]
[null,null,null,null,null,null,null,null,null,null,null,null,0,0,0,0,0,0,0,0,0,0]
[null,null,null,null,null,null,null,null,null,null,null,null,0,0,0,0,0,0,0,0,0,0]
[null,null,null,null,null,null,null,null,null,null,null,null,0,0,0,0,0,0,0,0,0,0]
[null,null,null,null,null,null,null,null,null,null,null,null,0,0,0,0,0,0,0,0,0,0]
[null,null,null,null,null,null,null,null,null,null,null,null,0,0,0,0,0,0,0,0,0,0]
[null,null,null,null,null,null,null,null,null,null,null,null,0,0,0,0,0,0,0,0,0,0]
[null,null,null,null,null,null,null,null,null,null,null,null,0,0,0,0,0,0,0,0,0,0]
[null,null,null,null,null,null,null,null,null,null,null,null,0,0,0,0,0,0,0,0,0,0]
[null,null,null,null,null,null,null,null,null,null,null,null,0,0,0,0,0,0,0,0,0,0]
[null,null,null,null,null,null,null,null,null,null,null,null,0,0,0,0,0,0,0,0,0,0]
[null,null,null,null,null,null,null,null,null,null,null,null,0,0,0,0,0,0,0,0,0,0]
[null,null,null,null,null,null,null,null,null,null,null,null,0,0,0,0,0,0,0,0,0,0]
[null,null,null,null,null,null,null,null,null,null,null,null,0,0,0,0,0,0,0,0,0,0]
[null,null,null,null,null,null,null,null,null,null,null,null,{"$f":"IF((B54+B55)>0,MAX(1,ROUNDUP(($A55-$A54)*((B54+B55)/2)/27,0)),ROUNDUP(($A55-$A54)*((B54+B55)/2)/27,0))","v":0},0,0,0,0,0,0,0,0,0]
[null,null,null,null,null,null,null,null,null,null,null,null,0,0,0,0,0,0,0,0,0,0]
[null,null,null,null,null,null,null,null,null,null,null,null,0,0,0,0,0,0,0,0,0,0]
[null,null,null,null,null,null,null,null,null,null,null,null,0,0,0,0,0,0,0,0,0,0]
[null,null,null,null,null,null,null,null,null,null,null,null,0,0,0,0,0,0,0,0,0,0]
[null,null,null,null,null,null,null,null,null,null,null,null,0,0,0,0,0,0,0,0,0,0]
[null,null,null,null,null,null,null,null,null,null,null,null,0,0,0,0,0,0,0,0,0,0]
[null,null,null,null,null,null,null,null,null,null,null,null,0,0,0,0,0,0,0,0,0,0]
[null,null,null,null,null,null,null,null,null,null,null,null,0,0,0,0,0,0,0,0,0,0]
[null,null,null,null,null,null,null,null,null,null,null,null,0,0,0,0,0,0,0,0,0,0]
[null,null,null,null,null,null,null,null,null,null,null,null,0,0,0,0,0,0,0,0,0,0]
[null,null,null,null,null,null,null,null,null,null,null,null,0,0,0,0,0,0,0,0,0,0]
[null,null,null,null,null,null,null,null,null,null,null,null,0,0,0,0,0,0,0,0,0,0]
[null,null,null,null,null,null,null,null,null,null,null,null,0,0,0,0,0,0,0,0,0,0]
[null,null,null,null,null,null,null,null,null,null,null,null,0,0,0,0,0,0,0,0,0,0]
[null,null,null,null,null,null,null,null,null,null,null,null,0,0,0,0,0,0,0,0,0,0]
[null,null,null,null,null,null,null,null,null,null,null,null,{"$f":"IF((B70+B71)>0,MAX(1,ROUNDUP(($A71-$A70)*((B70+B71)/2)/27,0)),ROUNDUP(($A71-$A70)*((B70+B71)/2)/27,0))","v":0},0,0,0,0,0,0,0,0,0]
[null,null,null,null,null,null,null,null,null,null,null,null,0,0,0,0,0,0,0,0,0,0]
[null,null,null,null,null,null,null,null,null,null,null,null,0,0,0,0,0,0,0,0,0,0]
[null,null,null,null,null,null,null,null,null,null,null,null,0,0,0,0,0,0,0,0,0,0]
[null,null,null,null,null,null,null,null,null,null,null,null,0,0,0,0,0,0,0,0,0,0]
[null,null,null,null,null,null,null,null,null,null,null,null,0,0,0,0,0,0,0,0,0,0]
[null,null,null,null,null,null,null,null,null,null,null,null,0,0,0,0,0,0,0,0,0,0]
[null,null,null,null,null,null,null,null,null,null,null,null,0,0,0,0,0,0,0,0,0,0]
[null,null,null,null,null,null,null,null,null,null,null,null,0,0,0,0,0,0,0,0,0,0]

{"sheet":"Frontage Rd#3","index":12,"n_rows":79,"n_cols":22,"rows_kept":79,"cut":false,"hidden":false,"merged":[[0,1,0,9],[0,12,0,20]]}
[{"$f":"MID(CELL(\"filename\",$A$2),FIND(\"]\",CELL(\"filename\",$A$2))+1,256)","v":"Frontage Rd#3"},"AREAS",null,null,null,null,null,null,null,null,null,null,"VOLUMES"]
["STATION","ROCK ROADBED","REFILL","EMB. BENCH","GRAN. EMB.","COM","EM","ROCK EXC.","DT LT","DT RT","LEVEL-WEDGE",null,"ROCK ROADBED","REFILL","EMB. BENCH","GRAN. EMB.","COM","EM","ROCK EXC.","DT LT","DT RT","LEVEL-WEDGE"]
["TOTALS",null,null,null,null,null,null,null,null,null,null,null,{"$f":"SUM(M6:M2002)","v":0},{"$f":"SUM(N6:N2002)","v":0},0,0,{"$f":"SUM(Q5:Q2002)","v":216},{"$f":"SUM(R5:R2002)","v":0},0,0,0,0]
[4774,null,null,null,null,0,0]
[4800,null,null,null,null,100.3,0,null,null,null,null,null,{"$f":"IF((B4+B5)>0,MAX(1,ROUNDUP(($A5-$A4)*((B4+B5)/2)/27,0)),ROUNDUP(($A5-$A4)*((B4+B5)/2)/27,0))","v":0},{"$f":"IF((C4+C5)>0,MAX(1,ROUNDUP(($A5-$A4)*((C4+C5)/2)/27,0)),ROUNDUP(($A5-$A4)*((C4+C5)/2)/27,0))","v":0},{"$f":"IF((D4+D5)>0,MAX(1,ROUNDUP(($A5-$A4)*((D4+D5)/2)/27,0)),ROUNDUP(($A5-$A4)*((D4+D5)/2)/27,0))","v":0},{"$f":"IF((E4+E5)>0,MAX(1,ROUNDUP(($A5-$A4)*((E4+E5)/2)/27,0)),ROUNDUP(($A5-$A4)*((E4+E5)/2)/27,0))","v":0},{"$f":"IF((F4+F5)>0,MAX(1,ROUNDUP(($A5-$A4)*((F4+F5)/2)/27,0)),ROUNDUP(($A5-$A4)*((F4+F5)/2)/27,0))","v":49},{"$f":"IF((G4+G5)>0,MAX(1,ROUNDUP(($A5-$A4)*((G4+G5)/2)/27,0)),ROUNDUP(($A5-$A4)*((G4+G5)/2)/27,0))","v":0},{"$f":"IF((H4+H5)>0,MAX(1,ROUNDUP(($A5-$A4)*((H4+H5)/2)/27,0)),ROUNDUP(($A5-$A4)*((H4+H5)/2)/27,0))","v":0},{"$f":"IF((I4+I5)>0,MAX(1,ROUNDUP(($A5-$A4)*((I4+I5)/2)/27,0)),ROUNDUP(($A5-$A4)*((I4+I5)/2)/27,0))","v":0},{"$f":"IF((J4+J5)>0,MAX(1,ROUNDUP(($A5-$A4)*((J4+J5)/2)/27,0)),ROUNDUP(($A5-$A4)*((J4+J5)/2)/27,0))","v":0},{"$f":"IF((K4+K5)>0,MAX(1,ROUNDUP(($A5-$A4)*((K4+K5)/2)/27,0)),ROUNDUP(($A5-$A4)*((K4+K5)/2)/27,0))","v":0}]
[4850,null,null,null,null,39.4,0,null,null,null,null,null,{"$f":"IF((B5+B6)>0,MAX(1,ROUNDUP(($A6-$A5)*((B5+B6)/2)/27,0)),ROUNDUP(($A6-$A5)*((B5+B6)/2)/27,0))","v":0},{"$f":"IF((C5+C6)>0,MAX(1,ROUNDUP(($A6-$A5)*((C5+C6)/2)/27,0)),ROUNDUP(($A6-$A5)*((C5+C6)/2)/27,0))","v":0},0,0,130,0,0,0,0,{"$f":"IF((K5+K6)>0,MAX(1,ROUNDUP(($A6-$A5)*((K5+K6)/2)/27,0)),ROUNDUP(($A6-$A5)*((K5+K6)/2)/27,0))","v":0}]
[4900,null,null,null,null,0,0,null,null,null,null,null,{"$f":"IF((B6+B7)>0,MAX(1,ROUNDUP(($A7-$A6)*((B6+B7)/2)/27,0)),ROUNDUP(($A7-$A6)*((B6+B7)/2)/27,0))","v":0},0,0,0,37,0,0,0,0,0]
[4919,null,null,null,null,0,0,null,null,null,null,null,0,0,0,0,0,0,0,0,0,0]
[null,null,null,null,null,null,null,null,null,null,null,null,0,0,0,0,0,0,0,0,0,0]
[null,null,null,null,null,null,null,null,null,null,null,null,0,0,0,0,0,0,0,0,0,0]
[null,null,null,null,null,null,null,null,null,null,null,null,0,0,0,0,0,0,0,0,0,0]
[null,null,null,null,null,null,null,null,null,null,null,null,0,0,0,0,0,0,0,0,0,0]
[null,null,null,null,null,null,null,null,null,null,null,null,0,0,0,0,0,0,0,0,0,0]
[null,null,null,null,null,null,null,null,null,null,null,null,0,0,0,0,0,0,0,0,0,0]
[null,null,null,null,null,null,null,null,null,null,null,null,0,0,0,0,0,0,0,0,0,0]
[null,null,null,null,null,null,null,null,null,null,null,null,0,0,0,0,0,0,0,0,0,0]
[null,null,null,null,null,null,null,null,null,null,null,null,0,0,0,0,0,0,0,0,0,0]
[null,null,null,null,null,null,null,null,null,null,null,null,0,0,0,0,0,0,0,0,0,0]
[null,null,null,null,null,null,null,null,null,null,null,null,0,0,0,0,0,0,0,0,0,0]
[null,null,null,null,null,null,null,null,null,null,null,null,0,0,0,0,0,0,0,0,0,0]
[null,null,null,null,null,null,null,null,null,null,null,null,0,0,0,0,0,0,0,0,0,0]
[null,null,null,null,null,null,null,null,null,null,null,null,0,0,0,0,0,0,0,0,0,0]
[null,null,null,null,null,null,null,null,null,null,null,null,{"$f":"IF((B22+B23)>0,MAX(1,ROUNDUP(($A23-$A22)*((B22+B23)/2)/27,0)),ROUNDUP(($A23-$A22)*((B22+B23)/2)/27,0))","v":0},0,0,0,0,0,0,0,0,0]
[null,null,null,null,null,null,null,null,null,null,null,null,0,0,0,0,0,0,0,0,0,0]
[null,null,null,null,null,null,null,null,null,null,null,null,0,0,0,0,0,0,0,0,0,0]
[null,null,null,null,null,null,null,null,null,null,null,null,0,0,0,0,0,0,0,0,0,0]
[null,null,null,null,null,null,null,null,null,null,null,null,0,0,0,0,0,0,0,0,0,0]
[null,null,null,null,null,null,null,null,null,null,null,null,0,0,0,0,0,0,0,0,0,0]
[null,null,null,null,null,null,null,null,null,null,null,null,0,0,0,0,0,0,0,0,0,0]
[null,null,null,null,null,null,null,null,null,null,null,null,0,0,0,0,0,0,0,0,0,0]
[null,null,null,null,null,null,null,null,null,null,null,null,0,0,0,0,0,0,0,0,0,0]
[null,null,null,null,null,null,null,null,null,null,null,null,0,0,0,0,0,0,0,0,0,0]
[null,null,null,null,null,null,null,null,null,null,null,null,0,0,0,0,0,0,0,0,0,0]
[null,null,null,null,null,null,null,null,null,null,null,null,0,0,0,0,0,0,0,0,0,0]
[null,null,null,null,null,null,null,null,null,null,null,null,0,0,0,0,0,0,0,0,0,0]
[null,null,null,null,null,null,null,null,null,null,null,null,0,0,0,0,0,0,0,0,0,0]
[null,null,null,null,null,null,null,null,null,null,null,null,0,0,0,0,0,0,0,0,0,0]
[null,null,null,null,null,null,null,null,null,null,null,null,0,0,0,0,0,0,0,0,0,0]
[null,null,null,null,null,null,null,null,null,null,null,null,{"$f":"IF((B38+B39)>0,MAX(1,ROUNDUP(($A39-$A38)*((B38+B39)/2)/27,0)),ROUNDUP(($A39-$A38)*((B38+B39)/2)/27,0))","v":0},0,0,0,0,0,0,0,0,0]
[null,null,null,null,null,null,null,null,null,null,null,null,0,0,0,0,0,0,0,0,0,0]
[null,null,null,null,null,null,null,null,null,null,null,null,0,0,0,0,0,0,0,0,0,0]
[null,null,null,null,null,null,null,null,null,null,null,null,0,0,0,0,0,0,0,0,0,0]
[null,null,null,null,null,null,null,null,null,null,null,null,0,0,0,0,0,0,0,0,0,0]
[null,null,null,null,null,null,null,null,null,null,null,null,0,0,0,0,0,0,0,0,0,0]
[null,null,null,null,null,null,null,null,null,null,null,null,0,0,0,0,0,0,0,0,0,0]
[null,null,null,null,null,null,null,null,null,null,null,null,0,0,0,0,0,0,0,0,0,0]
[null,null,null,null,null,null,null,null,null,null,null,null,0,0,0,0,0,0,0,0,0,0]
[null,null,null,null,null,null,null,null,null,null,null,null,0,0,0,0,0,0,0,0,0,0]
[null,null,null,null,null,null,null,null,null,null,null,null,0,0,0,0,0,0,0,0,0,0]
[null,null,null,null,null,null,null,null,null,null,null,null,0,0,0,0,0,0,0,0,0,0]
[null,null,null,null,null,null,null,null,null,null,null,null,0,0,0,0,0,0,0,0,0,0]
[null,null,null,null,null,null,null,null,null,null,null,null,0,0,0,0,0,0,0,0,0,0]
[null,null,null,null,null,null,null,null,null,null,null,null,0,0,0,0,0,0,0,0,0,0]
[null,null,null,null,null,null,null,null,null,null,null,null,0,0,0,0,0,0,0,0,0,0]
[null,null,null,null,null,null,null,null,null,null,null,null,{"$f":"IF((B54+B55)>0,MAX(1,ROUNDUP(($A55-$A54)*((B54+B55)/2)/27,0)),ROUNDUP(($A55-$A54)*((B54+B55)/2)/27,0))","v":0},0,0,0,0,0,0,0,0,0]
[null,null,null,null,null,null,null,null,null,null,null,null,0,0,0,0,0,0,0,0,0,0]
[null,null,null,null,null,null,null,null,null,null,null,null,0,0,0,0,0,0,0,0,0,0]
[null,null,null,null,null,null,null,null,null,null,null,null,0,0,0,0,0,0,0,0,0,0]
[null,null,null,null,null,null,null,null,null,null,null,null,0,0,0,0,0,0,0,0,0,0]
[null,null,null,null,null,null,null,null,null,null,null,null,0,0,0,0,0,0,0,0,0,0]
[null,null,null,null,null,null,null,null,null,null,null,null,0,0,0,0,0,0,0,0,0,0]
[null,null,null,null,null,null,null,null,null,null,null,null,0,0,0,0,0,0,0,0,0,0]
[null,null,null,null,null,null,null,null,null,null,null,null,0,0,0,0,0,0,0,0,0,0]
[null,null,null,null,null,null,null,null,null,null,null,null,0,0,0,0,0,0,0,0,0,0]
[null,null,null,null,null,null,null,null,null,null,null,null,0,0,0,0,0,0,0,0,0,0]
[null,null,null,null,null,null,null,null,null,null,null,null,0,0,0,0,0,0,0,0,0,0]
[null,null,null,null,null,null,null,null,null,null,null,null,0,0,0,0,0,0,0,0,0,0]
[null,null,null,null,null,null,null,null,null,null,null,null,0,0,0,0,0,0,0,0,0,0]
[null,null,null,null,null,null,null,null,null,null,null,null,0,0,0,0,0,0,0,0,0,0]
[null,null,null,null,null,null,null,null,null,null,null,null,0,0,0,0,0,0,0,0,0,0]
[null,null,null,null,null,null,null,null,null,null,null,null,{"$f":"IF((B70+B71)>0,MAX(1,ROUNDUP(($A71-$A70)*((B70+B71)/2)/27,0)),ROUNDUP(($A71-$A70)*((B70+B71)/2)/27,0))","v":0},0,0,0,0,0,0,0,0,0]
[null,null,null,null,null,null,null,null,null,null,null,null,0,0,0,0,0,0,0,0,0,0]
[null,null,null,null,null,null,null,null,null,null,null,null,0,0,0,0,0,0,0,0,0,0]
[null,null,null,null,null,null,null,null,null,null,null,null,0,0,0,0,0,0,0,0,0,0]
[null,null,null,null,null,null,null,null,null,null,null,null,0,0,0,0,0,0,0,0,0,0]
[null,null,null,null,null,null,null,null,null,null,null,null,0,0,0,0,0,0,0,0,0,0]
[null,null,null,null,null,null,null,null,null,null,null,null,0,0,0,0,0,0,0,0,0,0]
[null,null,null,null,null,null,null,null,null,null,null,null,0,0,0,0,0,0,0,0,0,0]
[null,null,null,null,null,null,null,null,null,null,null,null,0,0,0,0,0,0,0,0,0,0]

{"sheet":"Frontage Rd#4","index":13,"n_rows":79,"n_cols":22,"rows_kept":79,"cut":false,"hidden":false,"merged":[[0,1,0,9],[0,12,0,20]]}
[{"$f":"MID(CELL(\"filename\",$A$2),FIND(\"]\",CELL(\"filename\",$A$2))+1,256)","v":"Frontage Rd#4"},"AREAS",null,null,null,null,null,null,null,null,null,null,"VOLUMES"]
["STATION","ROCK ROADBED","REFILL","EMB. BENCH","GRAN. EMB.","COM","EM","ROCK EXC.","DT LT","DT RT","LEVEL-WEDGE",null,"ROCK ROADBED","REFILL","EMB. BENCH","GRAN. EMB.","COM","EM","ROCK EXC.","DT LT","DT RT","LEVEL-WEDGE"]
["TOTALS",null,null,null,null,null,null,null,null,null,null,null,{"$f":"SUM(M6:M2002)","v":0},{"$f":"SUM(N6:N2002)","v":0},0,0,{"$f":"SUM(Q5:Q2002)","v":659},{"$f":"SUM(R5:R2002)","v":1896},0,0,0,0]
[2936,null,null,null,null,48.7,0]
[2950,null,null,null,null,60.4,0,null,null,null,null,null,{"$f":"IF((B4+B5)>0,MAX(1,ROUNDUP(($A5-$A4)*((B4+B5)/2)/27,0)),ROUNDUP(($A5-$A4)*((B4+B5)/2)/27,0))","v":0},{"$f":"IF((C4+C5)>0,MAX(1,ROUNDUP(($A5-$A4)*((C4+C5)/2)/27,0)),ROUNDUP(($A5-$A4)*((C4+C5)/2)/27,0))","v":0},{"$f":"IF((D4+D5)>0,MAX(1,ROUNDUP(($A5-$A4)*((D4+D5)/2)/27,0)),ROUNDUP(($A5-$A4)*((D4+D5)/2)/27,0))","v":0},{"$f":"IF((E4+E5)>0,MAX(1,ROUNDUP(($A5-$A4)*((E4+E5)/2)/27,0)),ROUNDUP(($A5-$A4)*((E4+E5)/2)/27,0))","v":0},{"$f":"IF((F4+F5)>0,MAX(1,ROUNDUP(($A5-$A4)*((F4+F5)/2)/27,0)),ROUNDUP(($A5-$A4)*((F4+F5)/2)/27,0))","v":29},{"$f":"IF((G4+G5)>0,MAX(1,ROUNDUP(($A5-$A4)*((G4+G5)/2)/27,0)),ROUNDUP(($A5-$A4)*((G4+G5)/2)/27,0))","v":0},{"$f":"IF((H4+H5)>0,MAX(1,ROUNDUP(($A5-$A4)*((H4+H5)/2)/27,0)),ROUNDUP(($A5-$A4)*((H4+H5)/2)/27,0))","v":0},{"$f":"IF((I4+I5)>0,MAX(1,ROUNDUP(($A5-$A4)*((I4+I5)/2)/27,0)),ROUNDUP(($A5-$A4)*((I4+I5)/2)/27,0))","v":0},{"$f":"IF((J4+J5)>0,MAX(1,ROUNDUP(($A5-$A4)*((J4+J5)/2)/27,0)),ROUNDUP(($A5-$A4)*((J4+J5)/2)/27,0))","v":0},{"$f":"IF((K4+K5)>0,MAX(1,ROUNDUP(($A5-$A4)*((K4+K5)/2)/27,0)),ROUNDUP(($A5-$A4)*((K4+K5)/2)/27,0))","v":0}]
[3000,null,null,null,null,80,0,null,null,null,null,null,{"$f":"IF((B5+B6)>0,MAX(1,ROUNDUP(($A6-$A5)*((B5+B6)/2)/27,0)),ROUNDUP(($A6-$A5)*((B5+B6)/2)/27,0))","v":0},{"$f":"IF((C5+C6)>0,MAX(1,ROUNDUP(($A6-$A5)*((C5+C6)/2)/27,0)),ROUNDUP(($A6-$A5)*((C5+C6)/2)/27,0))","v":0},0,0,130,0,0,0,0,{"$f":"IF((K5+K6)>0,MAX(1,ROUNDUP(($A6-$A5)*((K5+K6)/2)/27,0)),ROUNDUP(($A6-$A5)*((K5+K6)/2)/27,0))","v":0}]
[3050,null,null,null,null,44.4,15.3,null,null,null,null,null,{"$f":"IF((B6+B7)>0,MAX(1,ROUNDUP(($A7-$A6)*((B6+B7)/2)/27,0)),ROUNDUP(($A7-$A6)*((B6+B7)/2)/27,0))","v":0},0,0,0,116,15,0,0,0,0]
[3100,null,null,null,null,8.5,90.2,null,null,null,null,null,0,0,0,0,49,98,0,0,0,0]
[3150,null,null,null,null,8.9,168.9,null,null,null,null,null,0,0,0,0,17,240,0,0,0,0]
[3200,null,null,null,null,22.3,194.7,null,null,null,null,null,0,0,0,0,29,337,0,0,0,0]
[3250,null,null,null,null,43,106.7,null,null,null,null,null,0,0,0,0,61,280,0,0,0,0]
[3300,null,null,null,null,35.1,130.69999999999999,null,null,null,null,null,0,0,0,0,73,220,0,0,0,0]
[3350,null,null,null,null,35.1,177,null,null,null,null,null,0,0,0,0,65,285,0,0,0,0]
[3400,null,null,null,null,22.3,93.7,null,null,null,null,null,0,0,0,0,54,251,0,0,0,0]
[3450,null,null,null,null,7.7,44.4,null,null,null,null,null,0,0,0,0,28,128,0,0,0,0]
[3500,null,null,null,null,0,0,null,null,null,null,null,0,0,0,0,8,42,0,0,0,0]
[null,null,null,null,null,null,null,null,null,null,null,null,0,0,0,0,0,0,0,0,0,0]
[null,null,null,null,null,null,null,null,null,null,null,null,0,0,0,0,0,0,0,0,0,0]
[null,null,null,null,null,null,null,null,null,null,null,null,0,0,0,0,0,0,0,0,0,0]
[null,null,null,null,null,null,null,null,null,null,null,null,0,0,0,0,0,0,0,0,0,0]
[null,null,null,null,null,null,null,null,null,null,null,null,0,0,0,0,0,0,0,0,0,0]
[null,null,null,null,null,null,null,null,null,null,null,null,0,0,0,0,0,0,0,0,0,0]
[null,null,null,null,null,null,null,null,null,null,null,null,{"$f":"IF((B22+B23)>0,MAX(1,ROUNDUP(($A23-$A22)*((B22+B23)/2)/27,0)),ROUNDUP(($A23-$A22)*((B22+B23)/2)/27,0))","v":0},0,0,0,0,0,0,0,0,0]
[null,null,null,null,null,null,null,null,null,null,null,null,0,0,0,0,0,0,0,0,0,0]
[null,null,null,null,null,null,null,null,null,null,null,null,0,0,0,0,0,0,0,0,0,0]
[null,null,null,null,null,null,null,null,null,null,null,null,0,0,0,0,0,0,0,0,0,0]
[null,null,null,null,null,null,null,null,null,null,null,null,0,0,0,0,0,0,0,0,0,0]
[null,null,null,null,null,null,null,null,null,null,null,null,0,0,0,0,0,0,0,0,0,0]
[null,null,null,null,null,null,null,null,null,null,null,null,0,0,0,0,0,0,0,0,0,0]
[null,null,null,null,null,null,null,null,null,null,null,null,0,0,0,0,0,0,0,0,0,0]
[null,null,null,null,null,null,null,null,null,null,null,null,0,0,0,0,0,0,0,0,0,0]
[null,null,null,null,null,null,null,null,null,null,null,null,0,0,0,0,0,0,0,0,0,0]
[null,null,null,null,null,null,null,null,null,null,null,null,0,0,0,0,0,0,0,0,0,0]
[null,null,null,null,null,null,null,null,null,null,null,null,0,0,0,0,0,0,0,0,0,0]
[null,null,null,null,null,null,null,null,null,null,null,null,0,0,0,0,0,0,0,0,0,0]
[null,null,null,null,null,null,null,null,null,null,null,null,0,0,0,0,0,0,0,0,0,0]
[null,null,null,null,null,null,null,null,null,null,null,null,0,0,0,0,0,0,0,0,0,0]
[null,null,null,null,null,null,null,null,null,null,null,null,0,0,0,0,0,0,0,0,0,0]
[null,null,null,null,null,null,null,null,null,null,null,null,{"$f":"IF((B38+B39)>0,MAX(1,ROUNDUP(($A39-$A38)*((B38+B39)/2)/27,0)),ROUNDUP(($A39-$A38)*((B38+B39)/2)/27,0))","v":0},0,0,0,0,0,0,0,0,0]
[null,null,null,null,null,null,null,null,null,null,null,null,0,0,0,0,0,0,0,0,0,0]
[null,null,null,null,null,null,null,null,null,null,null,null,0,0,0,0,0,0,0,0,0,0]
[null,null,null,null,null,null,null,null,null,null,null,null,0,0,0,0,0,0,0,0,0,0]
[null,null,null,null,null,null,null,null,null,null,null,null,0,0,0,0,0,0,0,0,0,0]
[null,null,null,null,null,null,null,null,null,null,null,null,0,0,0,0,0,0,0,0,0,0]
[null,null,null,null,null,null,null,null,null,null,null,null,0,0,0,0,0,0,0,0,0,0]
[null,null,null,null,null,null,null,null,null,null,null,null,0,0,0,0,0,0,0,0,0,0]
[null,null,null,null,null,null,null,null,null,null,null,null,0,0,0,0,0,0,0,0,0,0]
[null,null,null,null,null,null,null,null,null,null,null,null,0,0,0,0,0,0,0,0,0,0]
[null,null,null,null,null,null,null,null,null,null,null,null,0,0,0,0,0,0,0,0,0,0]
[null,null,null,null,null,null,null,null,null,null,null,null,0,0,0,0,0,0,0,0,0,0]
[null,null,null,null,null,null,null,null,null,null,null,null,0,0,0,0,0,0,0,0,0,0]
[null,null,null,null,null,null,null,null,null,null,null,null,0,0,0,0,0,0,0,0,0,0]
[null,null,null,null,null,null,null,null,null,null,null,null,0,0,0,0,0,0,0,0,0,0]
[null,null,null,null,null,null,null,null,null,null,null,null,0,0,0,0,0,0,0,0,0,0]
[null,null,null,null,null,null,null,null,null,null,null,null,{"$f":"IF((B54+B55)>0,MAX(1,ROUNDUP(($A55-$A54)*((B54+B55)/2)/27,0)),ROUNDUP(($A55-$A54)*((B54+B55)/2)/27,0))","v":0},0,0,0,0,0,0,0,0,0]
[null,null,null,null,null,null,null,null,null,null,null,null,0,0,0,0,0,0,0,0,0,0]
[null,null,null,null,null,null,null,null,null,null,null,null,0,0,0,0,0,0,0,0,0,0]
[null,null,null,null,null,null,null,null,null,null,null,null,0,0,0,0,0,0,0,0,0,0]
[null,null,null,null,null,null,null,null,null,null,null,null,0,0,0,0,0,0,0,0,0,0]
[null,null,null,null,null,null,null,null,null,null,null,null,0,0,0,0,0,0,0,0,0,0]
[null,null,null,null,null,null,null,null,null,null,null,null,0,0,0,0,0,0,0,0,0,0]
[null,null,null,null,null,null,null,null,null,null,null,null,0,0,0,0,0,0,0,0,0,0]
[null,null,null,null,null,null,null,null,null,null,null,null,0,0,0,0,0,0,0,0,0,0]
[null,null,null,null,null,null,null,null,null,null,null,null,0,0,0,0,0,0,0,0,0,0]
[null,null,null,null,null,null,null,null,null,null,null,null,0,0,0,0,0,0,0,0,0,0]
[null,null,null,null,null,null,null,null,null,null,null,null,0,0,0,0,0,0,0,0,0,0]
[null,null,null,null,null,null,null,null,null,null,null,null,0,0,0,0,0,0,0,0,0,0]
[null,null,null,null,null,null,null,null,null,null,null,null,0,0,0,0,0,0,0,0,0,0]
[null,null,null,null,null,null,null,null,null,null,null,null,0,0,0,0,0,0,0,0,0,0]
[null,null,null,null,null,null,null,null,null,null,null,null,0,0,0,0,0,0,0,0,0,0]
[null,null,null,null,null,null,null,null,null,null,null,null,{"$f":"IF((B70+B71)>0,MAX(1,ROUNDUP(($A71-$A70)*((B70+B71)/2)/27,0)),ROUNDUP(($A71-$A70)*((B70+B71)/2)/27,0))","v":0},0,0,0,0,0,0,0,0,0]
[null,null,null,null,null,null,null,null,null,null,null,null,0,0,0,0,0,0,0,0,0,0]
[null,null,null,null,null,null,null,null,null,null,null,null,0,0,0,0,0,0,0,0,0,0]
[null,null,null,null,null,null,null,null,null,null,null,null,0,0,0,0,0,0,0,0,0,0]
[null,null,null,null,null,null,null,null,null,null,null,null,0,0,0,0,0,0,0,0,0,0]
[null,null,null,null,null,null,null,null,null,null,null,null,0,0,0,0,0,0,0,0,0,0]
[null,null,null,null,null,null,null,null,null,null,null,null,0,0,0,0,0,0,0,0,0,0]
[null,null,null,null,null,null,null,null,null,null,null,null,0,0,0,0,0,0,0,0,0,0]
[null,null,null,null,null,null,null,null,null,null,null,null,0,0,0,0,0,0,0,0,0,0]

{"sheet":"Kingsway Dr","index":14,"n_rows":79,"n_cols":22,"rows_kept":79,"cut":false,"hidden":false,"merged":[[0,1,0,9],[0,12,0,20]]}
[{"$f":"MID(CELL(\"filename\",$A$2),FIND(\"]\",CELL(\"filename\",$A$2))+1,256)","v":"Kingsway Dr"},"AREAS",null,null,null,null,null,null,null,null,null,null,"VOLUMES"]
["STATION","ROCK ROADBED","REFILL","EMB. BENCH","GRAN. EMB.","COM","EM","ROCK EXC.","DT LT","DT RT","LEVEL-WEDGE",null,"ROCK ROADBED","REFILL","EMB. BENCH","GRAN. EMB.","COM","EM","ROCK EXC.","DT LT","DT RT","LEVEL-WEDGE"]
["TOTALS",null,null,null,null,null,null,null,null,null,null,null,{"$f":"SUM(M6:M2002)","v":0},{"$f":"SUM(N6:N2002)","v":0},0,0,{"$f":"SUM(Q5:Q2002)","v":1845},{"$f":"SUM(R5:R2002)","v":16},0,0,0,0]
[5000,null,null,null,null,0,0]
[5050,null,null,null,null,72.599999999999994,8.5,null,null,null,null,null,{"$f":"IF((B4+B5)>0,MAX(1,ROUNDUP(($A5-$A4)*((B4+B5)/2)/27,0)),ROUNDUP(($A5-$A4)*((B4+B5)/2)/27,0))","v":0},{"$f":"IF((C4+C5)>0,MAX(1,ROUNDUP(($A5-$A4)*((C4+C5)/2)/27,0)),ROUNDUP(($A5-$A4)*((C4+C5)/2)/27,0))","v":0},{"$f":"IF((D4+D5)>0,MAX(1,ROUNDUP(($A5-$A4)*((D4+D5)/2)/27,0)),ROUNDUP(($A5-$A4)*((D4+D5)/2)/27,0))","v":0},{"$f":"IF((E4+E5)>0,MAX(1,ROUNDUP(($A5-$A4)*((E4+E5)/2)/27,0)),ROUNDUP(($A5-$A4)*((E4+E5)/2)/27,0))","v":0},{"$f":"IF((F4+F5)>0,MAX(1,ROUNDUP(($A5-$A4)*((F4+F5)/2)/27,0)),ROUNDUP(($A5-$A4)*((F4+F5)/2)/27,0))","v":68},{"$f":"IF((G4+G5)>0,MAX(1,ROUNDUP(($A5-$A4)*((G4+G5)/2)/27,0)),ROUNDUP(($A5-$A4)*((G4+G5)/2)/27,0))","v":8},{"$f":"IF((H4+H5)>0,MAX(1,ROUNDUP(($A5-$A4)*((H4+H5)/2)/27,0)),ROUNDUP(($A5-$A4)*((H4+H5)/2)/27,0))","v":0},{"$f":"IF((I4+I5)>0,MAX(1,ROUNDUP(($A5-$A4)*((I4+I5)/2)/27,0)),ROUNDUP(($A5-$A4)*((I4+I5)/2)/27,0))","v":0},{"$f":"IF((J4+J5)>0,MAX(1,ROUNDUP(($A5-$A4)*((J4+J5)/2)/27,0)),ROUNDUP(($A5-$A4)*((J4+J5)/2)/27,0))","v":0},{"$f":"IF((K4+K5)>0,MAX(1,ROUNDUP(($A5-$A4)*((K4+K5)/2)/27,0)),ROUNDUP(($A5-$A4)*((K4+K5)/2)/27,0))","v":0}]
[5100,null,null,null,null,431.3,0,null,null,null,null,null,{"$f":"IF((B5+B6)>0,MAX(1,ROUNDUP(($A6-$A5)*((B5+B6)/2)/27,0)),ROUNDUP(($A6-$A5)*((B5+B6)/2)/27,0))","v":0},{"$f":"IF((C5+C6)>0,MAX(1,ROUNDUP(($A6-$A5)*((C5+C6)/2)/27,0)),ROUNDUP(($A6-$A5)*((C5+C6)/2)/27,0))","v":0},0,0,467,8,0,0,0,{"$f":"IF((K5+K6)>0,MAX(1,ROUNDUP(($A6-$A5)*((K5+K6)/2)/27,0)),ROUNDUP(($A6-$A5)*((K5+K6)/2)/27,0))","v":0}]
[5150,null,null,null,null,219.1,0,null,null,null,null,null,{"$f":"IF((B6+B7)>0,MAX(1,ROUNDUP(($A7-$A6)*((B6+B7)/2)/27,0)),ROUNDUP(($A7-$A6)*((B6+B7)/2)/27,0))","v":0},0,0,0,603,0,0,0,0,0]
[5200,null,null,null,null,148.19999999999999,0,null,null,null,null,null,0,0,0,0,341,0,0,0,0,0]
[5250,null,null,null,null,82.8,0,null,null,null,null,null,0,0,0,0,214,0,0,0,0,0]
[5300,null,null,null,null,40,0,null,null,null,null,null,0,0,0,0,114,0,0,0,0,0]
[5350,null,null,null,null,0,0,null,null,null,null,null,0,0,0,0,38,0,0,0,0,0]
[null,null,null,null,null,null,null,null,null,null,null,null,0,0,0,0,0,0,0,0,0,0]
[null,null,null,null,null,null,null,null,null,null,null,null,0,0,0,0,0,0,0,0,0,0]
[null,null,null,null,null,null,null,null,null,null,null,null,0,0,0,0,0,0,0,0,0,0]
[null,null,null,null,null,null,null,null,null,null,null,null,0,0,0,0,0,0,0,0,0,0]
[null,null,null,null,null,null,null,null,null,null,null,null,0,0,0,0,0,0,0,0,0,0]
[null,null,null,null,null,null,null,null,null,null,null,null,0,0,0,0,0,0,0,0,0,0]
[null,null,null,null,null,null,null,null,null,null,null,null,0,0,0,0,0,0,0,0,0,0]
[null,null,null,null,null,null,null,null,null,null,null,null,0,0,0,0,0,0,0,0,0,0]
[null,null,null,null,null,null,null,null,null,null,null,null,0,0,0,0,0,0,0,0,0,0]
[null,null,null,null,null,null,null,null,null,null,null,null,0,0,0,0,0,0,0,0,0,0]
[null,null,null,null,null,null,null,null,null,null,null,null,0,0,0,0,0,0,0,0,0,0]
[null,null,null,null,null,null,null,null,null,null,null,null,{"$f":"IF((B22+B23)>0,MAX(1,ROUNDUP(($A23-$A22)*((B22+B23)/2)/27,0)),ROUNDUP(($A23-$A22)*((B22+B23)/2)/27,0))","v":0},0,0,0,0,0,0,0,0,0]
[null,null,null,null,null,null,null,null,null,null,null,null,0,0,0,0,0,0,0,0,0,0]
[null,null,null,null,null,null,null,null,null,null,null,null,0,0,0,0,0,0,0,0,0,0]
[null,null,null,null,null,null,null,null,null,null,null,null,0,0,0,0,0,0,0,0,0,0]
[null,null,null,null,null,null,null,null,null,null,null,null,0,0,0,0,0,0,0,0,0,0]
[null,null,null,null,null,null,null,null,null,null,null,null,0,0,0,0,0,0,0,0,0,0]
[null,null,null,null,null,null,null,null,null,null,null,null,0,0,0,0,0,0,0,0,0,0]
[null,null,null,null,null,null,null,null,null,null,null,null,0,0,0,0,0,0,0,0,0,0]
[null,null,null,null,null,null,null,null,null,null,null,null,0,0,0,0,0,0,0,0,0,0]
[null,null,null,null,null,null,null,null,null,null,null,null,0,0,0,0,0,0,0,0,0,0]
[null,null,null,null,null,null,null,null,null,null,null,null,0,0,0,0,0,0,0,0,0,0]
[null,null,null,null,null,null,null,null,null,null,null,null,0,0,0,0,0,0,0,0,0,0]
[null,null,null,null,null,null,null,null,null,null,null,null,0,0,0,0,0,0,0,0,0,0]
[null,null,null,null,null,null,null,null,null,null,null,null,0,0,0,0,0,0,0,0,0,0]
[null,null,null,null,null,null,null,null,null,null,null,null,0,0,0,0,0,0,0,0,0,0]
[null,null,null,null,null,null,null,null,null,null,null,null,0,0,0,0,0,0,0,0,0,0]
[null,null,null,null,null,null,null,null,null,null,null,null,{"$f":"IF((B38+B39)>0,MAX(1,ROUNDUP(($A39-$A38)*((B38+B39)/2)/27,0)),ROUNDUP(($A39-$A38)*((B38+B39)/2)/27,0))","v":0},0,0,0,0,0,0,0,0,0]
[null,null,null,null,null,null,null,null,null,null,null,null,0,0,0,0,0,0,0,0,0,0]
[null,null,null,null,null,null,null,null,null,null,null,null,0,0,0,0,0,0,0,0,0,0]
[null,null,null,null,null,null,null,null,null,null,null,null,0,0,0,0,0,0,0,0,0,0]
[null,null,null,null,null,null,null,null,null,null,null,null,0,0,0,0,0,0,0,0,0,0]
[null,null,null,null,null,null,null,null,null,null,null,null,0,0,0,0,0,0,0,0,0,0]
[null,null,null,null,null,null,null,null,null,null,null,null,0,0,0,0,0,0,0,0,0,0]
[null,null,null,null,null,null,null,null,null,null,null,null,0,0,0,0,0,0,0,0,0,0]
[null,null,null,null,null,null,null,null,null,null,null,null,0,0,0,0,0,0,0,0,0,0]
[null,null,null,null,null,null,null,null,null,null,null,null,0,0,0,0,0,0,0,0,0,0]
[null,null,null,null,null,null,null,null,null,null,null,null,0,0,0,0,0,0,0,0,0,0]
[null,null,null,null,null,null,null,null,null,null,null,null,0,0,0,0,0,0,0,0,0,0]
[null,null,null,null,null,null,null,null,null,null,null,null,0,0,0,0,0,0,0,0,0,0]
[null,null,null,null,null,null,null,null,null,null,null,null,0,0,0,0,0,0,0,0,0,0]
[null,null,null,null,null,null,null,null,null,null,null,null,0,0,0,0,0,0,0,0,0,0]
[null,null,null,null,null,null,null,null,null,null,null,null,0,0,0,0,0,0,0,0,0,0]
[null,null,null,null,null,null,null,null,null,null,null,null,{"$f":"IF((B54+B55)>0,MAX(1,ROUNDUP(($A55-$A54)*((B54+B55)/2)/27,0)),ROUNDUP(($A55-$A54)*((B54+B55)/2)/27,0))","v":0},0,0,0,0,0,0,0,0,0]
[null,null,null,null,null,null,null,null,null,null,null,null,0,0,0,0,0,0,0,0,0,0]
[null,null,null,null,null,null,null,null,null,null,null,null,0,0,0,0,0,0,0,0,0,0]
[null,null,null,null,null,null,null,null,null,null,null,null,0,0,0,0,0,0,0,0,0,0]
[null,null,null,null,null,null,null,null,null,null,null,null,0,0,0,0,0,0,0,0,0,0]
[null,null,null,null,null,null,null,null,null,null,null,null,0,0,0,0,0,0,0,0,0,0]
[null,null,null,null,null,null,null,null,null,null,null,null,0,0,0,0,0,0,0,0,0,0]
[null,null,null,null,null,null,null,null,null,null,null,null,0,0,0,0,0,0,0,0,0,0]
[null,null,null,null,null,null,null,null,null,null,null,null,0,0,0,0,0,0,0,0,0,0]
[null,null,null,null,null,null,null,null,null,null,null,null,0,0,0,0,0,0,0,0,0,0]
[null,null,null,null,null,null,null,null,null,null,null,null,0,0,0,0,0,0,0,0,0,0]
[null,null,null,null,null,null,null,null,null,null,null,null,0,0,0,0,0,0,0,0,0,0]
[null,null,null,null,null,null,null,null,null,null,null,null,0,0,0,0,0,0,0,0,0,0]
[null,null,null,null,null,null,null,null,null,null,null,null,0,0,0,0,0,0,0,0,0,0]
[null,null,null,null,null,null,null,null,null,null,null,null,0,0,0,0,0,0,0,0,0,0]
[null,null,null,null,null,null,null,null,null,null,null,null,0,0,0,0,0,0,0,0,0,0]
[null,null,null,null,null,null,null,null,null,null,null,null,{"$f":"IF((B70+B71)>0,MAX(1,ROUNDUP(($A71-$A70)*((B70+B71)/2)/27,0)),ROUNDUP(($A71-$A70)*((B70+B71)/2)/27,0))","v":0},0,0,0,0,0,0,0,0,0]
[null,null,null,null,null,null,null,null,null,null,null,null,0,0,0,0,0,0,0,0,0,0]
[null,null,null,null,null,null,null,null,null,null,null,null,0,0,0,0,0,0,0,0,0,0]
[null,null,null,null,null,null,null,null,null,null,null,null,0,0,0,0,0,0,0,0,0,0]
[null,null,null,null,null,null,null,null,null,null,null,null,0,0,0,0,0,0,0,0,0,0]
[null,null,null,null,null,null,null,null,null,null,null,null,0,0,0,0,0,0,0,0,0,0]
[null,null,null,null,null,null,null,null,null,null,null,null,0,0,0,0,0,0,0,0,0,0]
[null,null,null,null,null,null,null,null,null,null,null,null,0,0,0,0,0,0,0,0,0,0]
[null,null,null,null,null,null,null,null,null,null,null,null,0,0,0,0,0,0,0,0,0,0]

{"sheet":"Queensway Dr","index":15,"n_rows":79,"n_cols":22,"rows_kept":79,"cut":false,"hidden":false,"merged":[[0,1,0,9],[0,12,0,20]]}
[{"$f":"MID(CELL(\"filename\",$A$2),FIND(\"]\",CELL(\"filename\",$A$2))+1,256)","v":"Queensway Dr"},"AREAS",null,null,null,null,null,null,null,null,null,null,"VOLUMES"]
["STATION","ROCK ROADBED","REFILL","EMB. BENCH","GRAN. EMB.","COM","EM","ROCK EXC.","DT LT","DT RT","LEVEL-WEDGE",null,"ROCK ROADBED","REFILL","EMB. BENCH","GRAN. EMB.","COM","EM","ROCK EXC.","DT LT","DT RT","LEVEL-WEDGE"]
["TOTALS",null,null,null,null,null,null,null,null,null,null,null,{"$f":"SUM(M6:M2002)","v":0},{"$f":"SUM(N6:N2002)","v":0},0,0,{"$f":"SUM(Q5:Q2002)","v":352},{"$f":"SUM(R5:R2002)","v":0},0,0,0,0]
[5100,null,null,null,null,0,0]
[5142,null,null,null,null,181.8,0,null,null,null,null,null,{"$f":"IF((B4+B5)>0,MAX(1,ROUNDUP(($A5-$A4)*((B4+B5)/2)/27,0)),ROUNDUP(($A5-$A4)*((B4+B5)/2)/27,0))","v":0},{"$f":"IF((C4+C5)>0,MAX(1,ROUNDUP(($A5-$A4)*((C4+C5)/2)/27,0)),ROUNDUP(($A5-$A4)*((C4+C5)/2)/27,0))","v":0},{"$f":"IF((D4+D5)>0,MAX(1,ROUNDUP(($A5-$A4)*((D4+D5)/2)/27,0)),ROUNDUP(($A5-$A4)*((D4+D5)/2)/27,0))","v":0},{"$f":"IF((E4+E5)>0,MAX(1,ROUNDUP(($A5-$A4)*((E4+E5)/2)/27,0)),ROUNDUP(($A5-$A4)*((E4+E5)/2)/27,0))","v":0},{"$f":"IF((F4+F5)>0,MAX(1,ROUNDUP(($A5-$A4)*((F4+F5)/2)/27,0)),ROUNDUP(($A5-$A4)*((F4+F5)/2)/27,0))","v":142},{"$f":"IF((G4+G5)>0,MAX(1,ROUNDUP(($A5-$A4)*((G4+G5)/2)/27,0)),ROUNDUP(($A5-$A4)*((G4+G5)/2)/27,0))","v":0},{"$f":"IF((H4+H5)>0,MAX(1,ROUNDUP(($A5-$A4)*((H4+H5)/2)/27,0)),ROUNDUP(($A5-$A4)*((H4+H5)/2)/27,0))","v":0},{"$f":"IF((I4+I5)>0,MAX(1,ROUNDUP(($A5-$A4)*((I4+I5)/2)/27,0)),ROUNDUP(($A5-$A4)*((I4+I5)/2)/27,0))","v":0},{"$f":"IF((J4+J5)>0,MAX(1,ROUNDUP(($A5-$A4)*((J4+J5)/2)/27,0)),ROUNDUP(($A5-$A4)*((J4+J5)/2)/27,0))","v":0},{"$f":"IF((K4+K5)>0,MAX(1,ROUNDUP(($A5-$A4)*((K4+K5)/2)/27,0)),ROUNDUP(($A5-$A4)*((K4+K5)/2)/27,0))","v":0}]
[5150,null,null,null,null,131.19999999999999,0,null,null,null,null,null,{"$f":"IF((B5+B6)>0,MAX(1,ROUNDUP(($A6-$A5)*((B5+B6)/2)/27,0)),ROUNDUP(($A6-$A5)*((B5+B6)/2)/27,0))","v":0},{"$f":"IF((C5+C6)>0,MAX(1,ROUNDUP(($A6-$A5)*((C5+C6)/2)/27,0)),ROUNDUP(($A6-$A5)*((C5+C6)/2)/27,0))","v":0},0,0,47,0,0,0,0,{"$f":"IF((K5+K6)>0,MAX(1,ROUNDUP(($A6-$A5)*((K5+K6)/2)/27,0)),ROUNDUP(($A6-$A5)*((K5+K6)/2)/27,0))","v":0}]
[5200,null,null,null,null,24.8,0,null,null,null,null,null,{"$f":"IF((B6+B7)>0,MAX(1,ROUNDUP(($A7-$A6)*((B6+B7)/2)/27,0)),ROUNDUP(($A7-$A6)*((B6+B7)/2)/27,0))","v":0},0,0,0,145,0,0,0,0,0]
[5237.42,null,null,null,null,0,0,null,null,null,null,null,0,0,0,0,18,0,0,0,0,0]
[null,null,null,null,null,null,null,null,null,null,null,null,0,0,0,0,0,0,0,0,0,0]
[null,null,null,null,null,null,null,null,null,null,null,null,0,0,0,0,0,0,0,0,0,0]
[null,null,null,null,null,null,null,null,null,null,null,null,0,0,0,0,0,0,0,0,0,0]
[null,null,null,null,null,null,null,null,null,null,null,null,0,0,0,0,0,0,0,0,0,0]
[null,null,null,null,null,null,null,null,null,null,null,null,0,0,0,0,0,0,0,0,0,0]
[null,null,null,null,null,null,null,null,null,null,null,null,0,0,0,0,0,0,0,0,0,0]
[null,null,null,null,null,null,null,null,null,null,null,null,0,0,0,0,0,0,0,0,0,0]
[null,null,null,null,null,null,null,null,null,null,null,null,0,0,0,0,0,0,0,0,0,0]
[null,null,null,null,null,null,null,null,null,null,null,null,0,0,0,0,0,0,0,0,0,0]
[null,null,null,null,null,null,null,null,null,null,null,null,0,0,0,0,0,0,0,0,0,0]
[null,null,null,null,null,null,null,null,null,null,null,null,0,0,0,0,0,0,0,0,0,0]
[null,null,null,null,null,null,null,null,null,null,null,null,0,0,0,0,0,0,0,0,0,0]
[null,null,null,null,null,null,null,null,null,null,null,null,0,0,0,0,0,0,0,0,0,0]
[null,null,null,null,null,null,null,null,null,null,null,null,0,0,0,0,0,0,0,0,0,0]
[null,null,null,null,null,null,null,null,null,null,null,null,{"$f":"IF((B22+B23)>0,MAX(1,ROUNDUP(($A23-$A22)*((B22+B23)/2)/27,0)),ROUNDUP(($A23-$A22)*((B22+B23)/2)/27,0))","v":0},0,0,0,0,0,0,0,0,0]
[null,null,null,null,null,null,null,null,null,null,null,null,0,0,0,0,0,0,0,0,0,0]
[null,null,null,null,null,null,null,null,null,null,null,null,0,0,0,0,0,0,0,0,0,0]
[null,null,null,null,null,null,null,null,null,null,null,null,0,0,0,0,0,0,0,0,0,0]
[null,null,null,null,null,null,null,null,null,null,null,null,0,0,0,0,0,0,0,0,0,0]
[null,null,null,null,null,null,null,null,null,null,null,null,0,0,0,0,0,0,0,0,0,0]
[null,null,null,null,null,null,null,null,null,null,null,null,0,0,0,0,0,0,0,0,0,0]
[null,null,null,null,null,null,null,null,null,null,null,null,0,0,0,0,0,0,0,0,0,0]
[null,null,null,null,null,null,null,null,null,null,null,null,0,0,0,0,0,0,0,0,0,0]
[null,null,null,null,null,null,null,null,null,null,null,null,0,0,0,0,0,0,0,0,0,0]
[null,null,null,null,null,null,null,null,null,null,null,null,0,0,0,0,0,0,0,0,0,0]
[null,null,null,null,null,null,null,null,null,null,null,null,0,0,0,0,0,0,0,0,0,0]
[null,null,null,null,null,null,null,null,null,null,null,null,0,0,0,0,0,0,0,0,0,0]
[null,null,null,null,null,null,null,null,null,null,null,null,0,0,0,0,0,0,0,0,0,0]
[null,null,null,null,null,null,null,null,null,null,null,null,0,0,0,0,0,0,0,0,0,0]
[null,null,null,null,null,null,null,null,null,null,null,null,0,0,0,0,0,0,0,0,0,0]
[null,null,null,null,null,null,null,null,null,null,null,null,{"$f":"IF((B38+B39)>0,MAX(1,ROUNDUP(($A39-$A38)*((B38+B39)/2)/27,0)),ROUNDUP(($A39-$A38)*((B38+B39)/2)/27,0))","v":0},0,0,0,0,0,0,0,0,0]
[null,null,null,null,null,null,null,null,null,null,null,null,0,0,0,0,0,0,0,0,0,0]
[null,null,null,null,null,null,null,null,null,null,null,null,0,0,0,0,0,0,0,0,0,0]
[null,null,null,null,null,null,null,null,null,null,null,null,0,0,0,0,0,0,0,0,0,0]
[null,null,null,null,null,null,null,null,null,null,null,null,0,0,0,0,0,0,0,0,0,0]
[null,null,null,null,null,null,null,null,null,null,null,null,0,0,0,0,0,0,0,0,0,0]
[null,null,null,null,null,null,null,null,null,null,null,null,0,0,0,0,0,0,0,0,0,0]
[null,null,null,null,null,null,null,null,null,null,null,null,0,0,0,0,0,0,0,0,0,0]
[null,null,null,null,null,null,null,null,null,null,null,null,0,0,0,0,0,0,0,0,0,0]
[null,null,null,null,null,null,null,null,null,null,null,null,0,0,0,0,0,0,0,0,0,0]
[null,null,null,null,null,null,null,null,null,null,null,null,0,0,0,0,0,0,0,0,0,0]
[null,null,null,null,null,null,null,null,null,null,null,null,0,0,0,0,0,0,0,0,0,0]
[null,null,null,null,null,null,null,null,null,null,null,null,0,0,0,0,0,0,0,0,0,0]
[null,null,null,null,null,null,null,null,null,null,null,null,0,0,0,0,0,0,0,0,0,0]
[null,null,null,null,null,null,null,null,null,null,null,null,0,0,0,0,0,0,0,0,0,0]
[null,null,null,null,null,null,null,null,null,null,null,null,0,0,0,0,0,0,0,0,0,0]
[null,null,null,null,null,null,null,null,null,null,null,null,{"$f":"IF((B54+B55)>0,MAX(1,ROUNDUP(($A55-$A54)*((B54+B55)/2)/27,0)),ROUNDUP(($A55-$A54)*((B54+B55)/2)/27,0))","v":0},0,0,0,0,0,0,0,0,0]
[null,null,null,null,null,null,null,null,null,null,null,null,0,0,0,0,0,0,0,0,0,0]
[null,null,null,null,null,null,null,null,null,null,null,null,0,0,0,0,0,0,0,0,0,0]
[null,null,null,null,null,null,null,null,null,null,null,null,0,0,0,0,0,0,0,0,0,0]
[null,null,null,null,null,null,null,null,null,null,null,null,0,0,0,0,0,0,0,0,0,0]
[null,null,null,null,null,null,null,null,null,null,null,null,0,0,0,0,0,0,0,0,0,0]
[null,null,null,null,null,null,null,null,null,null,null,null,0,0,0,0,0,0,0,0,0,0]
[null,null,null,null,null,null,null,null,null,null,null,null,0,0,0,0,0,0,0,0,0,0]
[null,null,null,null,null,null,null,null,null,null,null,null,0,0,0,0,0,0,0,0,0,0]
[null,null,null,null,null,null,null,null,null,null,null,null,0,0,0,0,0,0,0,0,0,0]
[null,null,null,null,null,null,null,null,null,null,null,null,0,0,0,0,0,0,0,0,0,0]
[null,null,null,null,null,null,null,null,null,null,null,null,0,0,0,0,0,0,0,0,0,0]
[null,null,null,null,null,null,null,null,null,null,null,null,0,0,0,0,0,0,0,0,0,0]
[null,null,null,null,null,null,null,null,null,null,null,null,0,0,0,0,0,0,0,0,0,0]
[null,null,null,null,null,null,null,null,null,null,null,null,0,0,0,0,0,0,0,0,0,0]
[null,null,null,null,null,null,null,null,null,null,null,null,0,0,0,0,0,0,0,0,0,0]
[null,null,null,null,null,null,null,null,null,null,null,null,{"$f":"IF((B70+B71)>0,MAX(1,ROUNDUP(($A71-$A70)*((B70+B71)/2)/27,0)),ROUNDUP(($A71-$A70)*((B70+B71)/2)/27,0))","v":0},0,0,0,0,0,0,0,0,0]
[null,null,null,null,null,null,null,null,null,null,null,null,0,0,0,0,0,0,0,0,0,0]
[null,null,null,null,null,null,null,null,null,null,null,null,0,0,0,0,0,0,0,0,0,0]
[null,null,null,null,null,null,null,null,null,null,null,null,0,0,0,0,0,0,0,0,0,0]
[null,null,null,null,null,null,null,null,null,null,null,null,0,0,0,0,0,0,0,0,0,0]
[null,null,null,null,null,null,null,null,null,null,null,null,0,0,0,0,0,0,0,0,0,0]
[null,null,null,null,null,null,null,null,null,null,null,null,0,0,0,0,0,0,0,0,0,0]
[null,null,null,null,null,null,null,null,null,null,null,null,0,0,0,0,0,0,0,0,0,0]
[null,null,null,null,null,null,null,null,null,null,null,null,0,0,0,0,0,0,0,0,0,0]